BEGIN:VCALENDAR
VERSION:2.0
PRODID:-//Unitarian Universalist Church of Spokane - ECPv6.15.20//NONSGML v1.0//EN
CALSCALE:GREGORIAN
METHOD:PUBLISH
X-ORIGINAL-URL:https://uuspokane.org
X-WR-CALDESC:Events for Unitarian Universalist Church of Spokane
REFRESH-INTERVAL;VALUE=DURATION:PT1H
X-Robots-Tag:noindex
X-PUBLISHED-TTL:PT1H
BEGIN:VTIMEZONE
TZID:America/Los_Angeles
BEGIN:DAYLIGHT
TZOFFSETFROM:-0800
TZOFFSETTO:-0700
TZNAME:PDT
DTSTART:20260308T100000
END:DAYLIGHT
BEGIN:STANDARD
TZOFFSETFROM:-0700
TZOFFSETTO:-0800
TZNAME:PST
DTSTART:20261101T090000
END:STANDARD
BEGIN:DAYLIGHT
TZOFFSETFROM:-0800
TZOFFSETTO:-0700
TZNAME:PDT
DTSTART:20270314T100000
END:DAYLIGHT
BEGIN:STANDARD
TZOFFSETFROM:-0700
TZOFFSETTO:-0800
TZNAME:PST
DTSTART:20271107T090000
END:STANDARD
BEGIN:DAYLIGHT
TZOFFSETFROM:-0800
TZOFFSETTO:-0700
TZNAME:PDT
DTSTART:20280312T100000
END:DAYLIGHT
BEGIN:STANDARD
TZOFFSETFROM:-0700
TZOFFSETTO:-0800
TZNAME:PST
DTSTART:20281105T090000
END:STANDARD
END:VTIMEZONE
BEGIN:VEVENT
DTSTART;TZID=America/Los_Angeles:20270425T110000
DTEND;TZID=America/Los_Angeles:20270425T120000
DTSTAMP:20260424T092019
CREATED:20250924T193853Z
LAST-MODIFIED:20250925T235352Z
UID:10001110-1808650800-1808654400@uuspokane.org
SUMMARY:Sunday Worship
DESCRIPTION:Live Stream Available
URL:https://uuspokane.org/event/sunday-worship-2/2027-04-25/
LOCATION:Sanctuary
CATEGORIES:Worship Service
END:VEVENT
BEGIN:VEVENT
DTSTART;TZID=America/Los_Angeles:20270502T091500
DTEND;TZID=America/Los_Angeles:20270502T101500
DTSTAMP:20260424T092019
CREATED:20250924T193716Z
LAST-MODIFIED:20250925T235209Z
UID:10000850-1809249300-1809252900@uuspokane.org
SUMMARY:Sunday Worship
DESCRIPTION:Live Stream Available
URL:https://uuspokane.org/event/sunday-worship/2027-05-02/
LOCATION:Sanctuary
CATEGORIES:Worship Service
END:VEVENT
BEGIN:VEVENT
DTSTART;TZID=America/Los_Angeles:20270502T110000
DTEND;TZID=America/Los_Angeles:20270502T120000
DTSTAMP:20260424T092019
CREATED:20250924T193853Z
LAST-MODIFIED:20250925T235352Z
UID:10001111-1809255600-1809259200@uuspokane.org
SUMMARY:Sunday Worship
DESCRIPTION:Live Stream Available
URL:https://uuspokane.org/event/sunday-worship-2/2027-05-02/
LOCATION:Sanctuary
CATEGORIES:Worship Service
END:VEVENT
BEGIN:VEVENT
DTSTART;TZID=America/Los_Angeles:20270509T091500
DTEND;TZID=America/Los_Angeles:20270509T101500
DTSTAMP:20260424T092019
CREATED:20250924T193716Z
LAST-MODIFIED:20250925T235209Z
UID:10000851-1809854100-1809857700@uuspokane.org
SUMMARY:Sunday Worship
DESCRIPTION:Live Stream Available
URL:https://uuspokane.org/event/sunday-worship/2027-05-09/
LOCATION:Sanctuary
CATEGORIES:Worship Service
END:VEVENT
BEGIN:VEVENT
DTSTART;TZID=America/Los_Angeles:20270509T110000
DTEND;TZID=America/Los_Angeles:20270509T120000
DTSTAMP:20260424T092019
CREATED:20250924T193853Z
LAST-MODIFIED:20250925T235352Z
UID:10001112-1809860400-1809864000@uuspokane.org
SUMMARY:Sunday Worship
DESCRIPTION:Live Stream Available
URL:https://uuspokane.org/event/sunday-worship-2/2027-05-09/
LOCATION:Sanctuary
CATEGORIES:Worship Service
END:VEVENT
BEGIN:VEVENT
DTSTART;TZID=America/Los_Angeles:20270509T123000
DTEND;TZID=America/Los_Angeles:20270509T133000
DTSTAMP:20260424T092019
CREATED:20251120T162222Z
LAST-MODIFIED:20251120T162222Z
UID:10002767-1809865800-1809869400@uuspokane.org
SUMMARY:Poetry Sharing Circle
DESCRIPTION:Have you ever stumbled upon a poem — whether found in a book\, heard in passing\, or written yourself — that felt too meaningful to keep to yourself? Our Poetry Sharing Circle is a gentle\, welcoming hour created just for that. \nThis is not a workshop\, class\, or writers’ critique group. Instead\, it’s a simple in-person gathering where we come together to share poems that move us\, comfort us\, surprise us\, or make us think. Bring a poem you love and a few words about why it speaks to you — or simply come to listen and enjoy the company of others who appreciate the magic of poetry. \nNo pressure … no preparation … no expectations. \nJust people\, poems\, and a peaceful moment in community.
URL:https://uuspokane.org/event/poetry-sharing-circle-2/2027-05-09/
LOCATION:Chapel
CATEGORIES:Adult Enrichment
ORGANIZER;CN="Lynn Jinishian":MAILTO:jinishian@comcast.net
END:VEVENT
BEGIN:VEVENT
DTSTART;TZID=America/Los_Angeles:20270514T180000
DTEND;TZID=America/Los_Angeles:20270514T210000
DTSTAMP:20260424T092019
CREATED:20251208T220636Z
LAST-MODIFIED:20260305T213645Z
UID:10004124-1810317600-1810328400@uuspokane.org
SUMMARY:Meaningful Movies
DESCRIPTION:
URL:https://uuspokane.org/event/meaningful-movies-4/2027-05-14/
LOCATION:Chapel
CATEGORIES:Social Justice
ORGANIZER;CN="Barb Stuebing":MAILTO:barbstuebing@gmail.com
END:VEVENT
BEGIN:VEVENT
DTSTART;TZID=America/Los_Angeles:20270514T210000
DTEND;TZID=America/Los_Angeles:20270514T220000
DTSTAMP:20260424T092019
CREATED:20260305T213857Z
LAST-MODIFIED:20260305T213857Z
UID:10004242-1810328400-1810332000@uuspokane.org
SUMMARY:Meaningful Movies - Cleanup
DESCRIPTION:
URL:https://uuspokane.org/event/meaningful-movies-cleanup-2/2027-05-14/
LOCATION:Chapel
CATEGORIES:Event Tear Down and Clean Up,Social Justice
ORGANIZER;CN="Barb Stuebing":MAILTO:barbstuebing@gmail.com
END:VEVENT
BEGIN:VEVENT
DTSTART;TZID=America/Los_Angeles:20270516T091500
DTEND;TZID=America/Los_Angeles:20270516T101500
DTSTAMP:20260424T092019
CREATED:20250924T193716Z
LAST-MODIFIED:20250925T235209Z
UID:10000852-1810458900-1810462500@uuspokane.org
SUMMARY:Sunday Worship
DESCRIPTION:Live Stream Available
URL:https://uuspokane.org/event/sunday-worship/2027-05-16/
LOCATION:Sanctuary
CATEGORIES:Worship Service
END:VEVENT
BEGIN:VEVENT
DTSTART;TZID=America/Los_Angeles:20270516T110000
DTEND;TZID=America/Los_Angeles:20270516T120000
DTSTAMP:20260424T092019
CREATED:20250924T193853Z
LAST-MODIFIED:20250925T235352Z
UID:10001113-1810465200-1810468800@uuspokane.org
SUMMARY:Sunday Worship
DESCRIPTION:Live Stream Available
URL:https://uuspokane.org/event/sunday-worship-2/2027-05-16/
LOCATION:Sanctuary
CATEGORIES:Worship Service
END:VEVENT
BEGIN:VEVENT
DTSTART;TZID=America/Los_Angeles:20270523T091500
DTEND;TZID=America/Los_Angeles:20270523T101500
DTSTAMP:20260424T092019
CREATED:20250924T193716Z
LAST-MODIFIED:20250925T235209Z
UID:10000853-1811063700-1811067300@uuspokane.org
SUMMARY:Sunday Worship
DESCRIPTION:Live Stream Available
URL:https://uuspokane.org/event/sunday-worship/2027-05-23/
LOCATION:Sanctuary
CATEGORIES:Worship Service
END:VEVENT
BEGIN:VEVENT
DTSTART;TZID=America/Los_Angeles:20270523T110000
DTEND;TZID=America/Los_Angeles:20270523T120000
DTSTAMP:20260424T092019
CREATED:20250924T193853Z
LAST-MODIFIED:20250925T235352Z
UID:10001114-1811070000-1811073600@uuspokane.org
SUMMARY:Sunday Worship
DESCRIPTION:Live Stream Available
URL:https://uuspokane.org/event/sunday-worship-2/2027-05-23/
LOCATION:Sanctuary
CATEGORIES:Worship Service
END:VEVENT
BEGIN:VEVENT
DTSTART;TZID=America/Los_Angeles:20270530T091500
DTEND;TZID=America/Los_Angeles:20270530T101500
DTSTAMP:20260424T092019
CREATED:20250924T193716Z
LAST-MODIFIED:20250925T235209Z
UID:10000854-1811668500-1811672100@uuspokane.org
SUMMARY:Sunday Worship
DESCRIPTION:Live Stream Available
URL:https://uuspokane.org/event/sunday-worship/2027-05-30/
LOCATION:Sanctuary
CATEGORIES:Worship Service
END:VEVENT
BEGIN:VEVENT
DTSTART;TZID=America/Los_Angeles:20270530T110000
DTEND;TZID=America/Los_Angeles:20270530T120000
DTSTAMP:20260424T092019
CREATED:20250924T193853Z
LAST-MODIFIED:20250925T235352Z
UID:10001115-1811674800-1811678400@uuspokane.org
SUMMARY:Sunday Worship
DESCRIPTION:Live Stream Available
URL:https://uuspokane.org/event/sunday-worship-2/2027-05-30/
LOCATION:Sanctuary
CATEGORIES:Worship Service
END:VEVENT
BEGIN:VEVENT
DTSTART;TZID=America/Los_Angeles:20270606T091500
DTEND;TZID=America/Los_Angeles:20270606T101500
DTSTAMP:20260424T092019
CREATED:20250924T193716Z
LAST-MODIFIED:20250925T235209Z
UID:10000855-1812273300-1812276900@uuspokane.org
SUMMARY:Sunday Worship
DESCRIPTION:Live Stream Available
URL:https://uuspokane.org/event/sunday-worship/2027-06-06/
LOCATION:Sanctuary
CATEGORIES:Worship Service
END:VEVENT
BEGIN:VEVENT
DTSTART;TZID=America/Los_Angeles:20270606T110000
DTEND;TZID=America/Los_Angeles:20270606T120000
DTSTAMP:20260424T092019
CREATED:20250924T193853Z
LAST-MODIFIED:20250925T235352Z
UID:10001116-1812279600-1812283200@uuspokane.org
SUMMARY:Sunday Worship
DESCRIPTION:Live Stream Available
URL:https://uuspokane.org/event/sunday-worship-2/2027-06-06/
LOCATION:Sanctuary
CATEGORIES:Worship Service
END:VEVENT
BEGIN:VEVENT
DTSTART;TZID=America/Los_Angeles:20270611T180000
DTEND;TZID=America/Los_Angeles:20270611T210000
DTSTAMP:20260424T092019
CREATED:20251208T220636Z
LAST-MODIFIED:20260305T213645Z
UID:10004125-1812736800-1812747600@uuspokane.org
SUMMARY:Meaningful Movies
DESCRIPTION:
URL:https://uuspokane.org/event/meaningful-movies-4/2027-06-11/
LOCATION:Chapel
CATEGORIES:Social Justice
ORGANIZER;CN="Barb Stuebing":MAILTO:barbstuebing@gmail.com
END:VEVENT
BEGIN:VEVENT
DTSTART;TZID=America/Los_Angeles:20270611T210000
DTEND;TZID=America/Los_Angeles:20270611T220000
DTSTAMP:20260424T092019
CREATED:20260305T213857Z
LAST-MODIFIED:20260305T213857Z
UID:10004243-1812747600-1812751200@uuspokane.org
SUMMARY:Meaningful Movies - Cleanup
DESCRIPTION:
URL:https://uuspokane.org/event/meaningful-movies-cleanup-2/2027-06-11/
LOCATION:Chapel
CATEGORIES:Event Tear Down and Clean Up,Social Justice
ORGANIZER;CN="Barb Stuebing":MAILTO:barbstuebing@gmail.com
END:VEVENT
BEGIN:VEVENT
DTSTART;TZID=America/Los_Angeles:20270613T091500
DTEND;TZID=America/Los_Angeles:20270613T101500
DTSTAMP:20260424T092019
CREATED:20250924T193716Z
LAST-MODIFIED:20250925T235209Z
UID:10000856-1812878100-1812881700@uuspokane.org
SUMMARY:Sunday Worship
DESCRIPTION:Live Stream Available
URL:https://uuspokane.org/event/sunday-worship/2027-06-13/
LOCATION:Sanctuary
CATEGORIES:Worship Service
END:VEVENT
BEGIN:VEVENT
DTSTART;TZID=America/Los_Angeles:20270613T110000
DTEND;TZID=America/Los_Angeles:20270613T120000
DTSTAMP:20260424T092019
CREATED:20250924T193853Z
LAST-MODIFIED:20250925T235352Z
UID:10001117-1812884400-1812888000@uuspokane.org
SUMMARY:Sunday Worship
DESCRIPTION:Live Stream Available
URL:https://uuspokane.org/event/sunday-worship-2/2027-06-13/
LOCATION:Sanctuary
CATEGORIES:Worship Service
END:VEVENT
BEGIN:VEVENT
DTSTART;TZID=America/Los_Angeles:20270613T123000
DTEND;TZID=America/Los_Angeles:20270613T133000
DTSTAMP:20260424T092019
CREATED:20251120T162222Z
LAST-MODIFIED:20251120T162222Z
UID:10002768-1812889800-1812893400@uuspokane.org
SUMMARY:Poetry Sharing Circle
DESCRIPTION:Have you ever stumbled upon a poem — whether found in a book\, heard in passing\, or written yourself — that felt too meaningful to keep to yourself? Our Poetry Sharing Circle is a gentle\, welcoming hour created just for that. \nThis is not a workshop\, class\, or writers’ critique group. Instead\, it’s a simple in-person gathering where we come together to share poems that move us\, comfort us\, surprise us\, or make us think. Bring a poem you love and a few words about why it speaks to you — or simply come to listen and enjoy the company of others who appreciate the magic of poetry. \nNo pressure … no preparation … no expectations. \nJust people\, poems\, and a peaceful moment in community.
URL:https://uuspokane.org/event/poetry-sharing-circle-2/2027-06-13/
LOCATION:Chapel
CATEGORIES:Adult Enrichment
ORGANIZER;CN="Lynn Jinishian":MAILTO:jinishian@comcast.net
END:VEVENT
BEGIN:VEVENT
DTSTART;TZID=America/Los_Angeles:20270620T091500
DTEND;TZID=America/Los_Angeles:20270620T101500
DTSTAMP:20260424T092019
CREATED:20250924T193716Z
LAST-MODIFIED:20250925T235209Z
UID:10000857-1813482900-1813486500@uuspokane.org
SUMMARY:Sunday Worship
DESCRIPTION:Live Stream Available
URL:https://uuspokane.org/event/sunday-worship/2027-06-20/
LOCATION:Sanctuary
CATEGORIES:Worship Service
END:VEVENT
BEGIN:VEVENT
DTSTART;TZID=America/Los_Angeles:20270620T110000
DTEND;TZID=America/Los_Angeles:20270620T120000
DTSTAMP:20260424T092019
CREATED:20250924T193853Z
LAST-MODIFIED:20250925T235352Z
UID:10001118-1813489200-1813492800@uuspokane.org
SUMMARY:Sunday Worship
DESCRIPTION:Live Stream Available
URL:https://uuspokane.org/event/sunday-worship-2/2027-06-20/
LOCATION:Sanctuary
CATEGORIES:Worship Service
END:VEVENT
BEGIN:VEVENT
DTSTART;TZID=America/Los_Angeles:20270627T091500
DTEND;TZID=America/Los_Angeles:20270627T101500
DTSTAMP:20260424T092019
CREATED:20250924T193716Z
LAST-MODIFIED:20250925T235209Z
UID:10000858-1814087700-1814091300@uuspokane.org
SUMMARY:Sunday Worship
DESCRIPTION:Live Stream Available
URL:https://uuspokane.org/event/sunday-worship/2027-06-27/
LOCATION:Sanctuary
CATEGORIES:Worship Service
END:VEVENT
BEGIN:VEVENT
DTSTART;TZID=America/Los_Angeles:20270627T110000
DTEND;TZID=America/Los_Angeles:20270627T120000
DTSTAMP:20260424T092019
CREATED:20250924T193853Z
LAST-MODIFIED:20250925T235352Z
UID:10001119-1814094000-1814097600@uuspokane.org
SUMMARY:Sunday Worship
DESCRIPTION:Live Stream Available
URL:https://uuspokane.org/event/sunday-worship-2/2027-06-27/
LOCATION:Sanctuary
CATEGORIES:Worship Service
END:VEVENT
BEGIN:VEVENT
DTSTART;TZID=America/Los_Angeles:20270704T091500
DTEND;TZID=America/Los_Angeles:20270704T101500
DTSTAMP:20260424T092019
CREATED:20250924T193716Z
LAST-MODIFIED:20250925T235209Z
UID:10000859-1814692500-1814696100@uuspokane.org
SUMMARY:Sunday Worship
DESCRIPTION:Live Stream Available
URL:https://uuspokane.org/event/sunday-worship/2027-07-04/
LOCATION:Sanctuary
CATEGORIES:Worship Service
END:VEVENT
BEGIN:VEVENT
DTSTART;TZID=America/Los_Angeles:20270704T110000
DTEND;TZID=America/Los_Angeles:20270704T120000
DTSTAMP:20260424T092019
CREATED:20250924T193853Z
LAST-MODIFIED:20250925T235352Z
UID:10001120-1814698800-1814702400@uuspokane.org
SUMMARY:Sunday Worship
DESCRIPTION:Live Stream Available
URL:https://uuspokane.org/event/sunday-worship-2/2027-07-04/
LOCATION:Sanctuary
CATEGORIES:Worship Service
END:VEVENT
BEGIN:VEVENT
DTSTART;TZID=America/Los_Angeles:20270709T180000
DTEND;TZID=America/Los_Angeles:20270709T210000
DTSTAMP:20260424T092019
CREATED:20251208T220636Z
LAST-MODIFIED:20260305T213645Z
UID:10004126-1815156000-1815166800@uuspokane.org
SUMMARY:Meaningful Movies
DESCRIPTION:
URL:https://uuspokane.org/event/meaningful-movies-4/2027-07-09/
LOCATION:Chapel
CATEGORIES:Social Justice
ORGANIZER;CN="Barb Stuebing":MAILTO:barbstuebing@gmail.com
END:VEVENT
BEGIN:VEVENT
DTSTART;TZID=America/Los_Angeles:20270709T210000
DTEND;TZID=America/Los_Angeles:20270709T220000
DTSTAMP:20260424T092019
CREATED:20260305T213857Z
LAST-MODIFIED:20260305T213857Z
UID:10004244-1815166800-1815170400@uuspokane.org
SUMMARY:Meaningful Movies - Cleanup
DESCRIPTION:
URL:https://uuspokane.org/event/meaningful-movies-cleanup-2/2027-07-09/
LOCATION:Chapel
CATEGORIES:Event Tear Down and Clean Up,Social Justice
ORGANIZER;CN="Barb Stuebing":MAILTO:barbstuebing@gmail.com
END:VEVENT
BEGIN:VEVENT
DTSTART;TZID=America/Los_Angeles:20270711T091500
DTEND;TZID=America/Los_Angeles:20270711T101500
DTSTAMP:20260424T092019
CREATED:20250924T193716Z
LAST-MODIFIED:20250925T235209Z
UID:10000860-1815297300-1815300900@uuspokane.org
SUMMARY:Sunday Worship
DESCRIPTION:Live Stream Available
URL:https://uuspokane.org/event/sunday-worship/2027-07-11/
LOCATION:Sanctuary
CATEGORIES:Worship Service
END:VEVENT
END:VCALENDAR