BEGIN:VCALENDAR
VERSION:2.0
PRODID:-//Unitarian Universalist Church of Spokane - ECPv6.15.20//NONSGML v1.0//EN
CALSCALE:GREGORIAN
METHOD:PUBLISH
X-ORIGINAL-URL:https://uuspokane.org
X-WR-CALDESC:Events for Unitarian Universalist Church of Spokane
REFRESH-INTERVAL;VALUE=DURATION:PT1H
X-Robots-Tag:noindex
X-PUBLISHED-TTL:PT1H
BEGIN:VTIMEZONE
TZID:America/Los_Angeles
BEGIN:DAYLIGHT
TZOFFSETFROM:-0800
TZOFFSETTO:-0700
TZNAME:PDT
DTSTART:20260308T100000
END:DAYLIGHT
BEGIN:STANDARD
TZOFFSETFROM:-0700
TZOFFSETTO:-0800
TZNAME:PST
DTSTART:20261101T090000
END:STANDARD
BEGIN:DAYLIGHT
TZOFFSETFROM:-0800
TZOFFSETTO:-0700
TZNAME:PDT
DTSTART:20270314T100000
END:DAYLIGHT
BEGIN:STANDARD
TZOFFSETFROM:-0700
TZOFFSETTO:-0800
TZNAME:PST
DTSTART:20271107T090000
END:STANDARD
BEGIN:DAYLIGHT
TZOFFSETFROM:-0800
TZOFFSETTO:-0700
TZNAME:PDT
DTSTART:20280312T100000
END:DAYLIGHT
BEGIN:STANDARD
TZOFFSETFROM:-0700
TZOFFSETTO:-0800
TZNAME:PST
DTSTART:20281105T090000
END:STANDARD
END:VTIMEZONE
BEGIN:VEVENT
DTSTART;TZID=America/Los_Angeles:20270808T123000
DTEND;TZID=America/Los_Angeles:20270808T133000
DTSTAMP:20260424T155216
CREATED:20251120T162222Z
LAST-MODIFIED:20251120T162222Z
UID:10002770-1817728200-1817731800@uuspokane.org
SUMMARY:Poetry Sharing Circle
DESCRIPTION:Have you ever stumbled upon a poem — whether found in a book\, heard in passing\, or written yourself — that felt too meaningful to keep to yourself? Our Poetry Sharing Circle is a gentle\, welcoming hour created just for that. \nThis is not a workshop\, class\, or writers’ critique group. Instead\, it’s a simple in-person gathering where we come together to share poems that move us\, comfort us\, surprise us\, or make us think. Bring a poem you love and a few words about why it speaks to you — or simply come to listen and enjoy the company of others who appreciate the magic of poetry. \nNo pressure … no preparation … no expectations. \nJust people\, poems\, and a peaceful moment in community.
URL:https://uuspokane.org/event/poetry-sharing-circle-2/2027-08-08/
LOCATION:Chapel
CATEGORIES:Adult Enrichment
ORGANIZER;CN="Lynn Jinishian":MAILTO:jinishian@comcast.net
END:VEVENT
BEGIN:VEVENT
DTSTART;TZID=America/Los_Angeles:20270813T180000
DTEND;TZID=America/Los_Angeles:20270813T210000
DTSTAMP:20260424T155216
CREATED:20251208T220636Z
LAST-MODIFIED:20260305T213645Z
UID:10004127-1818180000-1818190800@uuspokane.org
SUMMARY:Meaningful Movies
DESCRIPTION:
URL:https://uuspokane.org/event/meaningful-movies-4/2027-08-13/
LOCATION:Chapel
CATEGORIES:Social Justice
ORGANIZER;CN="Barb Stuebing":MAILTO:barbstuebing@gmail.com
END:VEVENT
BEGIN:VEVENT
DTSTART;TZID=America/Los_Angeles:20270813T210000
DTEND;TZID=America/Los_Angeles:20270813T220000
DTSTAMP:20260424T155216
CREATED:20260305T213857Z
LAST-MODIFIED:20260305T213857Z
UID:10004245-1818190800-1818194400@uuspokane.org
SUMMARY:Meaningful Movies - Cleanup
DESCRIPTION:
URL:https://uuspokane.org/event/meaningful-movies-cleanup-2/2027-08-13/
LOCATION:Chapel
CATEGORIES:Event Tear Down and Clean Up,Social Justice
ORGANIZER;CN="Barb Stuebing":MAILTO:barbstuebing@gmail.com
END:VEVENT
BEGIN:VEVENT
DTSTART;TZID=America/Los_Angeles:20270815T091500
DTEND;TZID=America/Los_Angeles:20270815T101500
DTSTAMP:20260424T155216
CREATED:20250924T193716Z
LAST-MODIFIED:20250925T235209Z
UID:10000865-1818321300-1818324900@uuspokane.org
SUMMARY:Sunday Worship
DESCRIPTION:Live Stream Available
URL:https://uuspokane.org/event/sunday-worship/2027-08-15/
LOCATION:Sanctuary
CATEGORIES:Worship Service
END:VEVENT
BEGIN:VEVENT
DTSTART;TZID=America/Los_Angeles:20270815T110000
DTEND;TZID=America/Los_Angeles:20270815T120000
DTSTAMP:20260424T155216
CREATED:20250924T193853Z
LAST-MODIFIED:20250925T235352Z
UID:10001126-1818327600-1818331200@uuspokane.org
SUMMARY:Sunday Worship
DESCRIPTION:Live Stream Available
URL:https://uuspokane.org/event/sunday-worship-2/2027-08-15/
LOCATION:Sanctuary
CATEGORIES:Worship Service
END:VEVENT
BEGIN:VEVENT
DTSTART;TZID=America/Los_Angeles:20270822T091500
DTEND;TZID=America/Los_Angeles:20270822T101500
DTSTAMP:20260424T155216
CREATED:20250924T193716Z
LAST-MODIFIED:20250925T235209Z
UID:10000866-1818926100-1818929700@uuspokane.org
SUMMARY:Sunday Worship
DESCRIPTION:Live Stream Available
URL:https://uuspokane.org/event/sunday-worship/2027-08-22/
LOCATION:Sanctuary
CATEGORIES:Worship Service
END:VEVENT
BEGIN:VEVENT
DTSTART;TZID=America/Los_Angeles:20270822T110000
DTEND;TZID=America/Los_Angeles:20270822T120000
DTSTAMP:20260424T155216
CREATED:20250924T193853Z
LAST-MODIFIED:20250925T235352Z
UID:10001127-1818932400-1818936000@uuspokane.org
SUMMARY:Sunday Worship
DESCRIPTION:Live Stream Available
URL:https://uuspokane.org/event/sunday-worship-2/2027-08-22/
LOCATION:Sanctuary
CATEGORIES:Worship Service
END:VEVENT
BEGIN:VEVENT
DTSTART;TZID=America/Los_Angeles:20270829T091500
DTEND;TZID=America/Los_Angeles:20270829T101500
DTSTAMP:20260424T155216
CREATED:20250924T193716Z
LAST-MODIFIED:20250925T235209Z
UID:10000867-1819530900-1819534500@uuspokane.org
SUMMARY:Sunday Worship
DESCRIPTION:Live Stream Available
URL:https://uuspokane.org/event/sunday-worship/2027-08-29/
LOCATION:Sanctuary
CATEGORIES:Worship Service
END:VEVENT
BEGIN:VEVENT
DTSTART;TZID=America/Los_Angeles:20270829T110000
DTEND;TZID=America/Los_Angeles:20270829T120000
DTSTAMP:20260424T155216
CREATED:20250924T193853Z
LAST-MODIFIED:20250925T235352Z
UID:10001128-1819537200-1819540800@uuspokane.org
SUMMARY:Sunday Worship
DESCRIPTION:Live Stream Available
URL:https://uuspokane.org/event/sunday-worship-2/2027-08-29/
LOCATION:Sanctuary
CATEGORIES:Worship Service
END:VEVENT
BEGIN:VEVENT
DTSTART;TZID=America/Los_Angeles:20270905T091500
DTEND;TZID=America/Los_Angeles:20270905T101500
DTSTAMP:20260424T155216
CREATED:20250924T193716Z
LAST-MODIFIED:20250925T235209Z
UID:10000868-1820135700-1820139300@uuspokane.org
SUMMARY:Sunday Worship
DESCRIPTION:Live Stream Available
URL:https://uuspokane.org/event/sunday-worship/2027-09-05/
LOCATION:Sanctuary
CATEGORIES:Worship Service
END:VEVENT
BEGIN:VEVENT
DTSTART;TZID=America/Los_Angeles:20270905T110000
DTEND;TZID=America/Los_Angeles:20270905T120000
DTSTAMP:20260424T155216
CREATED:20250924T193853Z
LAST-MODIFIED:20250925T235352Z
UID:10001129-1820142000-1820145600@uuspokane.org
SUMMARY:Sunday Worship
DESCRIPTION:Live Stream Available
URL:https://uuspokane.org/event/sunday-worship-2/2027-09-05/
LOCATION:Sanctuary
CATEGORIES:Worship Service
END:VEVENT
BEGIN:VEVENT
DTSTART;TZID=America/Los_Angeles:20270910T180000
DTEND;TZID=America/Los_Angeles:20270910T210000
DTSTAMP:20260424T155216
CREATED:20251208T220636Z
LAST-MODIFIED:20260305T213645Z
UID:10004128-1820599200-1820610000@uuspokane.org
SUMMARY:Meaningful Movies
DESCRIPTION:
URL:https://uuspokane.org/event/meaningful-movies-4/2027-09-10/
LOCATION:Chapel
CATEGORIES:Social Justice
ORGANIZER;CN="Barb Stuebing":MAILTO:barbstuebing@gmail.com
END:VEVENT
BEGIN:VEVENT
DTSTART;TZID=America/Los_Angeles:20270910T210000
DTEND;TZID=America/Los_Angeles:20270910T220000
DTSTAMP:20260424T155216
CREATED:20260305T213857Z
LAST-MODIFIED:20260305T213857Z
UID:10004246-1820610000-1820613600@uuspokane.org
SUMMARY:Meaningful Movies - Cleanup
DESCRIPTION:
URL:https://uuspokane.org/event/meaningful-movies-cleanup-2/2027-09-10/
LOCATION:Chapel
CATEGORIES:Event Tear Down and Clean Up,Social Justice
ORGANIZER;CN="Barb Stuebing":MAILTO:barbstuebing@gmail.com
END:VEVENT
BEGIN:VEVENT
DTSTART;TZID=America/Los_Angeles:20270912T091500
DTEND;TZID=America/Los_Angeles:20270912T101500
DTSTAMP:20260424T155216
CREATED:20250924T193716Z
LAST-MODIFIED:20250925T235209Z
UID:10000869-1820740500-1820744100@uuspokane.org
SUMMARY:Sunday Worship
DESCRIPTION:Live Stream Available
URL:https://uuspokane.org/event/sunday-worship/2027-09-12/
LOCATION:Sanctuary
CATEGORIES:Worship Service
END:VEVENT
BEGIN:VEVENT
DTSTART;TZID=America/Los_Angeles:20270912T110000
DTEND;TZID=America/Los_Angeles:20270912T120000
DTSTAMP:20260424T155216
CREATED:20250924T193853Z
LAST-MODIFIED:20250925T235352Z
UID:10001130-1820746800-1820750400@uuspokane.org
SUMMARY:Sunday Worship
DESCRIPTION:Live Stream Available
URL:https://uuspokane.org/event/sunday-worship-2/2027-09-12/
LOCATION:Sanctuary
CATEGORIES:Worship Service
END:VEVENT
BEGIN:VEVENT
DTSTART;TZID=America/Los_Angeles:20270912T123000
DTEND;TZID=America/Los_Angeles:20270912T133000
DTSTAMP:20260424T155216
CREATED:20251120T162222Z
LAST-MODIFIED:20251120T162222Z
UID:10002771-1820752200-1820755800@uuspokane.org
SUMMARY:Poetry Sharing Circle
DESCRIPTION:Have you ever stumbled upon a poem — whether found in a book\, heard in passing\, or written yourself — that felt too meaningful to keep to yourself? Our Poetry Sharing Circle is a gentle\, welcoming hour created just for that. \nThis is not a workshop\, class\, or writers’ critique group. Instead\, it’s a simple in-person gathering where we come together to share poems that move us\, comfort us\, surprise us\, or make us think. Bring a poem you love and a few words about why it speaks to you — or simply come to listen and enjoy the company of others who appreciate the magic of poetry. \nNo pressure … no preparation … no expectations. \nJust people\, poems\, and a peaceful moment in community.
URL:https://uuspokane.org/event/poetry-sharing-circle-2/2027-09-12/
LOCATION:Chapel
CATEGORIES:Adult Enrichment
ORGANIZER;CN="Lynn Jinishian":MAILTO:jinishian@comcast.net
END:VEVENT
BEGIN:VEVENT
DTSTART;TZID=America/Los_Angeles:20270919T091500
DTEND;TZID=America/Los_Angeles:20270919T101500
DTSTAMP:20260424T155216
CREATED:20250924T193716Z
LAST-MODIFIED:20250925T235209Z
UID:10000870-1821345300-1821348900@uuspokane.org
SUMMARY:Sunday Worship
DESCRIPTION:Live Stream Available
URL:https://uuspokane.org/event/sunday-worship/2027-09-19/
LOCATION:Sanctuary
CATEGORIES:Worship Service
END:VEVENT
BEGIN:VEVENT
DTSTART;TZID=America/Los_Angeles:20270919T110000
DTEND;TZID=America/Los_Angeles:20270919T120000
DTSTAMP:20260424T155216
CREATED:20250924T193853Z
LAST-MODIFIED:20250925T235352Z
UID:10001131-1821351600-1821355200@uuspokane.org
SUMMARY:Sunday Worship
DESCRIPTION:Live Stream Available
URL:https://uuspokane.org/event/sunday-worship-2/2027-09-19/
LOCATION:Sanctuary
CATEGORIES:Worship Service
END:VEVENT
BEGIN:VEVENT
DTSTART;TZID=America/Los_Angeles:20270926T091500
DTEND;TZID=America/Los_Angeles:20270926T101500
DTSTAMP:20260424T155216
CREATED:20250924T193716Z
LAST-MODIFIED:20250925T235209Z
UID:10000871-1821950100-1821953700@uuspokane.org
SUMMARY:Sunday Worship
DESCRIPTION:Live Stream Available
URL:https://uuspokane.org/event/sunday-worship/2027-09-26/
LOCATION:Sanctuary
CATEGORIES:Worship Service
END:VEVENT
BEGIN:VEVENT
DTSTART;TZID=America/Los_Angeles:20270926T110000
DTEND;TZID=America/Los_Angeles:20270926T120000
DTSTAMP:20260424T155216
CREATED:20250924T193853Z
LAST-MODIFIED:20250925T235352Z
UID:10001132-1821956400-1821960000@uuspokane.org
SUMMARY:Sunday Worship
DESCRIPTION:Live Stream Available
URL:https://uuspokane.org/event/sunday-worship-2/2027-09-26/
LOCATION:Sanctuary
CATEGORIES:Worship Service
END:VEVENT
BEGIN:VEVENT
DTSTART;TZID=America/Los_Angeles:20271003T091500
DTEND;TZID=America/Los_Angeles:20271003T101500
DTSTAMP:20260424T155216
CREATED:20250924T193716Z
LAST-MODIFIED:20250925T235209Z
UID:10000872-1822554900-1822558500@uuspokane.org
SUMMARY:Sunday Worship
DESCRIPTION:Live Stream Available
URL:https://uuspokane.org/event/sunday-worship/2027-10-03/
LOCATION:Sanctuary
CATEGORIES:Worship Service
END:VEVENT
BEGIN:VEVENT
DTSTART;TZID=America/Los_Angeles:20271003T110000
DTEND;TZID=America/Los_Angeles:20271003T120000
DTSTAMP:20260424T155216
CREATED:20250924T193853Z
LAST-MODIFIED:20250925T235352Z
UID:10001133-1822561200-1822564800@uuspokane.org
SUMMARY:Sunday Worship
DESCRIPTION:Live Stream Available
URL:https://uuspokane.org/event/sunday-worship-2/2027-10-03/
LOCATION:Sanctuary
CATEGORIES:Worship Service
END:VEVENT
BEGIN:VEVENT
DTSTART;TZID=America/Los_Angeles:20271008T180000
DTEND;TZID=America/Los_Angeles:20271008T210000
DTSTAMP:20260424T155216
CREATED:20251208T220636Z
LAST-MODIFIED:20260305T213645Z
UID:10004129-1823018400-1823029200@uuspokane.org
SUMMARY:Meaningful Movies
DESCRIPTION:
URL:https://uuspokane.org/event/meaningful-movies-4/2027-10-08/
LOCATION:Chapel
CATEGORIES:Social Justice
ORGANIZER;CN="Barb Stuebing":MAILTO:barbstuebing@gmail.com
END:VEVENT
BEGIN:VEVENT
DTSTART;TZID=America/Los_Angeles:20271008T210000
DTEND;TZID=America/Los_Angeles:20271008T220000
DTSTAMP:20260424T155216
CREATED:20260305T213857Z
LAST-MODIFIED:20260305T213857Z
UID:10004247-1823029200-1823032800@uuspokane.org
SUMMARY:Meaningful Movies - Cleanup
DESCRIPTION:
URL:https://uuspokane.org/event/meaningful-movies-cleanup-2/2027-10-08/
LOCATION:Chapel
CATEGORIES:Event Tear Down and Clean Up,Social Justice
ORGANIZER;CN="Barb Stuebing":MAILTO:barbstuebing@gmail.com
END:VEVENT
BEGIN:VEVENT
DTSTART;TZID=America/Los_Angeles:20271010T091500
DTEND;TZID=America/Los_Angeles:20271010T101500
DTSTAMP:20260424T155216
CREATED:20250924T193716Z
LAST-MODIFIED:20250925T235209Z
UID:10000873-1823159700-1823163300@uuspokane.org
SUMMARY:Sunday Worship
DESCRIPTION:Live Stream Available
URL:https://uuspokane.org/event/sunday-worship/2027-10-10/
LOCATION:Sanctuary
CATEGORIES:Worship Service
END:VEVENT
BEGIN:VEVENT
DTSTART;TZID=America/Los_Angeles:20271010T110000
DTEND;TZID=America/Los_Angeles:20271010T120000
DTSTAMP:20260424T155216
CREATED:20250924T193853Z
LAST-MODIFIED:20250925T235352Z
UID:10001134-1823166000-1823169600@uuspokane.org
SUMMARY:Sunday Worship
DESCRIPTION:Live Stream Available
URL:https://uuspokane.org/event/sunday-worship-2/2027-10-10/
LOCATION:Sanctuary
CATEGORIES:Worship Service
END:VEVENT
BEGIN:VEVENT
DTSTART;TZID=America/Los_Angeles:20271010T123000
DTEND;TZID=America/Los_Angeles:20271010T133000
DTSTAMP:20260424T155216
CREATED:20251120T162222Z
LAST-MODIFIED:20251120T162222Z
UID:10002772-1823171400-1823175000@uuspokane.org
SUMMARY:Poetry Sharing Circle
DESCRIPTION:Have you ever stumbled upon a poem — whether found in a book\, heard in passing\, or written yourself — that felt too meaningful to keep to yourself? Our Poetry Sharing Circle is a gentle\, welcoming hour created just for that. \nThis is not a workshop\, class\, or writers’ critique group. Instead\, it’s a simple in-person gathering where we come together to share poems that move us\, comfort us\, surprise us\, or make us think. Bring a poem you love and a few words about why it speaks to you — or simply come to listen and enjoy the company of others who appreciate the magic of poetry. \nNo pressure … no preparation … no expectations. \nJust people\, poems\, and a peaceful moment in community.
URL:https://uuspokane.org/event/poetry-sharing-circle-2/2027-10-10/
LOCATION:Chapel
CATEGORIES:Adult Enrichment
ORGANIZER;CN="Lynn Jinishian":MAILTO:jinishian@comcast.net
END:VEVENT
BEGIN:VEVENT
DTSTART;TZID=America/Los_Angeles:20271017T091500
DTEND;TZID=America/Los_Angeles:20271017T101500
DTSTAMP:20260424T155216
CREATED:20250924T193716Z
LAST-MODIFIED:20250925T235209Z
UID:10000874-1823764500-1823768100@uuspokane.org
SUMMARY:Sunday Worship
DESCRIPTION:Live Stream Available
URL:https://uuspokane.org/event/sunday-worship/2027-10-17/
LOCATION:Sanctuary
CATEGORIES:Worship Service
END:VEVENT
BEGIN:VEVENT
DTSTART;TZID=America/Los_Angeles:20271017T110000
DTEND;TZID=America/Los_Angeles:20271017T120000
DTSTAMP:20260424T155216
CREATED:20250924T193853Z
LAST-MODIFIED:20250925T235352Z
UID:10001135-1823770800-1823774400@uuspokane.org
SUMMARY:Sunday Worship
DESCRIPTION:Live Stream Available
URL:https://uuspokane.org/event/sunday-worship-2/2027-10-17/
LOCATION:Sanctuary
CATEGORIES:Worship Service
END:VEVENT
BEGIN:VEVENT
DTSTART;TZID=America/Los_Angeles:20271024T091500
DTEND;TZID=America/Los_Angeles:20271024T101500
DTSTAMP:20260424T155216
CREATED:20250924T193716Z
LAST-MODIFIED:20250925T235209Z
UID:10000875-1824369300-1824372900@uuspokane.org
SUMMARY:Sunday Worship
DESCRIPTION:Live Stream Available
URL:https://uuspokane.org/event/sunday-worship/2027-10-24/
LOCATION:Sanctuary
CATEGORIES:Worship Service
END:VEVENT
END:VCALENDAR