BEGIN:VCALENDAR
VERSION:2.0
PRODID:-//Unitarian Universalist Church of Spokane - ECPv6.15.20//NONSGML v1.0//EN
CALSCALE:GREGORIAN
METHOD:PUBLISH
X-ORIGINAL-URL:https://uuspokane.org
X-WR-CALDESC:Events for Unitarian Universalist Church of Spokane
REFRESH-INTERVAL;VALUE=DURATION:PT1H
X-Robots-Tag:noindex
X-PUBLISHED-TTL:PT1H
BEGIN:VTIMEZONE
TZID:America/Los_Angeles
BEGIN:DAYLIGHT
TZOFFSETFROM:-0800
TZOFFSETTO:-0700
TZNAME:PDT
DTSTART:20270314T100000
END:DAYLIGHT
BEGIN:STANDARD
TZOFFSETFROM:-0700
TZOFFSETTO:-0800
TZNAME:PST
DTSTART:20271107T090000
END:STANDARD
BEGIN:DAYLIGHT
TZOFFSETFROM:-0800
TZOFFSETTO:-0700
TZNAME:PDT
DTSTART:20280312T100000
END:DAYLIGHT
BEGIN:STANDARD
TZOFFSETFROM:-0700
TZOFFSETTO:-0800
TZNAME:PST
DTSTART:20281105T090000
END:STANDARD
BEGIN:DAYLIGHT
TZOFFSETFROM:-0800
TZOFFSETTO:-0700
TZNAME:PDT
DTSTART:20290311T100000
END:DAYLIGHT
BEGIN:STANDARD
TZOFFSETFROM:-0700
TZOFFSETTO:-0800
TZNAME:PST
DTSTART:20291104T090000
END:STANDARD
END:VTIMEZONE
BEGIN:VEVENT
DTSTART;TZID=America/Los_Angeles:20280114T180000
DTEND;TZID=America/Los_Angeles:20280114T210000
DTSTAMP:20260425T033339
CREATED:20251208T220636Z
LAST-MODIFIED:20260305T213645Z
UID:10004132-1831485600-1831496400@uuspokane.org
SUMMARY:Meaningful Movies
DESCRIPTION:
URL:https://uuspokane.org/event/meaningful-movies-4/2028-01-14/
LOCATION:Chapel
CATEGORIES:Social Justice
ORGANIZER;CN="Barb Stuebing":MAILTO:barbstuebing@gmail.com
END:VEVENT
BEGIN:VEVENT
DTSTART;TZID=America/Los_Angeles:20280114T210000
DTEND;TZID=America/Los_Angeles:20280114T220000
DTSTAMP:20260425T033339
CREATED:20260305T213857Z
LAST-MODIFIED:20260305T213857Z
UID:10004250-1831496400-1831500000@uuspokane.org
SUMMARY:Meaningful Movies - Cleanup
DESCRIPTION:
URL:https://uuspokane.org/event/meaningful-movies-cleanup-2/2028-01-14/
LOCATION:Chapel
CATEGORIES:Event Tear Down and Clean Up,Social Justice
ORGANIZER;CN="Barb Stuebing":MAILTO:barbstuebing@gmail.com
END:VEVENT
BEGIN:VEVENT
DTSTART;TZID=America/Los_Angeles:20280116T091500
DTEND;TZID=America/Los_Angeles:20280116T101500
DTSTAMP:20260425T033339
CREATED:20250924T193716Z
LAST-MODIFIED:20250925T235209Z
UID:10000887-1831626900-1831630500@uuspokane.org
SUMMARY:Sunday Worship
DESCRIPTION:Live Stream Available
URL:https://uuspokane.org/event/sunday-worship/2028-01-16/
LOCATION:Sanctuary
CATEGORIES:Worship Service
END:VEVENT
BEGIN:VEVENT
DTSTART;TZID=America/Los_Angeles:20280116T110000
DTEND;TZID=America/Los_Angeles:20280116T120000
DTSTAMP:20260425T033339
CREATED:20250924T193853Z
LAST-MODIFIED:20250925T235352Z
UID:10001148-1831633200-1831636800@uuspokane.org
SUMMARY:Sunday Worship
DESCRIPTION:Live Stream Available
URL:https://uuspokane.org/event/sunday-worship-2/2028-01-16/
LOCATION:Sanctuary
CATEGORIES:Worship Service
END:VEVENT
BEGIN:VEVENT
DTSTART;TZID=America/Los_Angeles:20280123T091500
DTEND;TZID=America/Los_Angeles:20280123T101500
DTSTAMP:20260425T033339
CREATED:20250924T193716Z
LAST-MODIFIED:20250925T235209Z
UID:10000888-1832231700-1832235300@uuspokane.org
SUMMARY:Sunday Worship
DESCRIPTION:Live Stream Available
URL:https://uuspokane.org/event/sunday-worship/2028-01-23/
LOCATION:Sanctuary
CATEGORIES:Worship Service
END:VEVENT
BEGIN:VEVENT
DTSTART;TZID=America/Los_Angeles:20280123T110000
DTEND;TZID=America/Los_Angeles:20280123T120000
DTSTAMP:20260425T033339
CREATED:20250924T193853Z
LAST-MODIFIED:20250925T235352Z
UID:10001149-1832238000-1832241600@uuspokane.org
SUMMARY:Sunday Worship
DESCRIPTION:Live Stream Available
URL:https://uuspokane.org/event/sunday-worship-2/2028-01-23/
LOCATION:Sanctuary
CATEGORIES:Worship Service
END:VEVENT
BEGIN:VEVENT
DTSTART;TZID=America/Los_Angeles:20280130T091500
DTEND;TZID=America/Los_Angeles:20280130T101500
DTSTAMP:20260425T033339
CREATED:20250924T193716Z
LAST-MODIFIED:20250925T235209Z
UID:10000889-1832836500-1832840100@uuspokane.org
SUMMARY:Sunday Worship
DESCRIPTION:Live Stream Available
URL:https://uuspokane.org/event/sunday-worship/2028-01-30/
LOCATION:Sanctuary
CATEGORIES:Worship Service
END:VEVENT
BEGIN:VEVENT
DTSTART;TZID=America/Los_Angeles:20280130T110000
DTEND;TZID=America/Los_Angeles:20280130T120000
DTSTAMP:20260425T033339
CREATED:20250924T193853Z
LAST-MODIFIED:20250925T235352Z
UID:10001150-1832842800-1832846400@uuspokane.org
SUMMARY:Sunday Worship
DESCRIPTION:Live Stream Available
URL:https://uuspokane.org/event/sunday-worship-2/2028-01-30/
LOCATION:Sanctuary
CATEGORIES:Worship Service
END:VEVENT
BEGIN:VEVENT
DTSTART;TZID=America/Los_Angeles:20280206T091500
DTEND;TZID=America/Los_Angeles:20280206T101500
DTSTAMP:20260425T033339
CREATED:20250924T193716Z
LAST-MODIFIED:20250925T235209Z
UID:10000890-1833441300-1833444900@uuspokane.org
SUMMARY:Sunday Worship
DESCRIPTION:Live Stream Available
URL:https://uuspokane.org/event/sunday-worship/2028-02-06/
LOCATION:Sanctuary
CATEGORIES:Worship Service
END:VEVENT
BEGIN:VEVENT
DTSTART;TZID=America/Los_Angeles:20280206T110000
DTEND;TZID=America/Los_Angeles:20280206T120000
DTSTAMP:20260425T033339
CREATED:20250924T193853Z
LAST-MODIFIED:20250925T235352Z
UID:10001151-1833447600-1833451200@uuspokane.org
SUMMARY:Sunday Worship
DESCRIPTION:Live Stream Available
URL:https://uuspokane.org/event/sunday-worship-2/2028-02-06/
LOCATION:Sanctuary
CATEGORIES:Worship Service
END:VEVENT
BEGIN:VEVENT
DTSTART;TZID=America/Los_Angeles:20280211T180000
DTEND;TZID=America/Los_Angeles:20280211T210000
DTSTAMP:20260425T033339
CREATED:20251208T220636Z
LAST-MODIFIED:20260305T213645Z
UID:10004133-1833904800-1833915600@uuspokane.org
SUMMARY:Meaningful Movies
DESCRIPTION:
URL:https://uuspokane.org/event/meaningful-movies-4/2028-02-11/
LOCATION:Chapel
CATEGORIES:Social Justice
ORGANIZER;CN="Barb Stuebing":MAILTO:barbstuebing@gmail.com
END:VEVENT
BEGIN:VEVENT
DTSTART;TZID=America/Los_Angeles:20280211T210000
DTEND;TZID=America/Los_Angeles:20280211T220000
DTSTAMP:20260425T033339
CREATED:20260305T213857Z
LAST-MODIFIED:20260305T213857Z
UID:10004251-1833915600-1833919200@uuspokane.org
SUMMARY:Meaningful Movies - Cleanup
DESCRIPTION:
URL:https://uuspokane.org/event/meaningful-movies-cleanup-2/2028-02-11/
LOCATION:Chapel
CATEGORIES:Event Tear Down and Clean Up,Social Justice
ORGANIZER;CN="Barb Stuebing":MAILTO:barbstuebing@gmail.com
END:VEVENT
BEGIN:VEVENT
DTSTART;TZID=America/Los_Angeles:20280213T091500
DTEND;TZID=America/Los_Angeles:20280213T101500
DTSTAMP:20260425T033339
CREATED:20250924T193716Z
LAST-MODIFIED:20250925T235209Z
UID:10000891-1834046100-1834049700@uuspokane.org
SUMMARY:Sunday Worship
DESCRIPTION:Live Stream Available
URL:https://uuspokane.org/event/sunday-worship/2028-02-13/
LOCATION:Sanctuary
CATEGORIES:Worship Service
END:VEVENT
BEGIN:VEVENT
DTSTART;TZID=America/Los_Angeles:20280213T110000
DTEND;TZID=America/Los_Angeles:20280213T120000
DTSTAMP:20260425T033339
CREATED:20250924T193853Z
LAST-MODIFIED:20250925T235352Z
UID:10001152-1834052400-1834056000@uuspokane.org
SUMMARY:Sunday Worship
DESCRIPTION:Live Stream Available
URL:https://uuspokane.org/event/sunday-worship-2/2028-02-13/
LOCATION:Sanctuary
CATEGORIES:Worship Service
END:VEVENT
BEGIN:VEVENT
DTSTART;TZID=America/Los_Angeles:20280213T123000
DTEND;TZID=America/Los_Angeles:20280213T133000
DTSTAMP:20260425T033339
CREATED:20251120T162222Z
LAST-MODIFIED:20251120T162222Z
UID:10002776-1834057800-1834061400@uuspokane.org
SUMMARY:Poetry Sharing Circle
DESCRIPTION:Have you ever stumbled upon a poem — whether found in a book\, heard in passing\, or written yourself — that felt too meaningful to keep to yourself? Our Poetry Sharing Circle is a gentle\, welcoming hour created just for that. \nThis is not a workshop\, class\, or writers’ critique group. Instead\, it’s a simple in-person gathering where we come together to share poems that move us\, comfort us\, surprise us\, or make us think. Bring a poem you love and a few words about why it speaks to you — or simply come to listen and enjoy the company of others who appreciate the magic of poetry. \nNo pressure … no preparation … no expectations. \nJust people\, poems\, and a peaceful moment in community.
URL:https://uuspokane.org/event/poetry-sharing-circle-2/2028-02-13/
LOCATION:Chapel
CATEGORIES:Adult Enrichment
ORGANIZER;CN="Lynn Jinishian":MAILTO:jinishian@comcast.net
END:VEVENT
BEGIN:VEVENT
DTSTART;TZID=America/Los_Angeles:20280220T091500
DTEND;TZID=America/Los_Angeles:20280220T101500
DTSTAMP:20260425T033339
CREATED:20250924T193716Z
LAST-MODIFIED:20250925T235209Z
UID:10000892-1834650900-1834654500@uuspokane.org
SUMMARY:Sunday Worship
DESCRIPTION:Live Stream Available
URL:https://uuspokane.org/event/sunday-worship/2028-02-20/
LOCATION:Sanctuary
CATEGORIES:Worship Service
END:VEVENT
BEGIN:VEVENT
DTSTART;TZID=America/Los_Angeles:20280220T110000
DTEND;TZID=America/Los_Angeles:20280220T120000
DTSTAMP:20260425T033339
CREATED:20250924T193853Z
LAST-MODIFIED:20250925T235352Z
UID:10001153-1834657200-1834660800@uuspokane.org
SUMMARY:Sunday Worship
DESCRIPTION:Live Stream Available
URL:https://uuspokane.org/event/sunday-worship-2/2028-02-20/
LOCATION:Sanctuary
CATEGORIES:Worship Service
END:VEVENT
BEGIN:VEVENT
DTSTART;TZID=America/Los_Angeles:20280227T091500
DTEND;TZID=America/Los_Angeles:20280227T101500
DTSTAMP:20260425T033339
CREATED:20250924T193716Z
LAST-MODIFIED:20250925T235209Z
UID:10000893-1835255700-1835259300@uuspokane.org
SUMMARY:Sunday Worship
DESCRIPTION:Live Stream Available
URL:https://uuspokane.org/event/sunday-worship/2028-02-27/
LOCATION:Sanctuary
CATEGORIES:Worship Service
END:VEVENT
BEGIN:VEVENT
DTSTART;TZID=America/Los_Angeles:20280227T110000
DTEND;TZID=America/Los_Angeles:20280227T120000
DTSTAMP:20260425T033339
CREATED:20250924T193853Z
LAST-MODIFIED:20250925T235352Z
UID:10001154-1835262000-1835265600@uuspokane.org
SUMMARY:Sunday Worship
DESCRIPTION:Live Stream Available
URL:https://uuspokane.org/event/sunday-worship-2/2028-02-27/
LOCATION:Sanctuary
CATEGORIES:Worship Service
END:VEVENT
BEGIN:VEVENT
DTSTART;TZID=America/Los_Angeles:20280305T091500
DTEND;TZID=America/Los_Angeles:20280305T101500
DTSTAMP:20260425T033339
CREATED:20250924T193716Z
LAST-MODIFIED:20250925T235209Z
UID:10000894-1835860500-1835864100@uuspokane.org
SUMMARY:Sunday Worship
DESCRIPTION:Live Stream Available
URL:https://uuspokane.org/event/sunday-worship/2028-03-05/
LOCATION:Sanctuary
CATEGORIES:Worship Service
END:VEVENT
BEGIN:VEVENT
DTSTART;TZID=America/Los_Angeles:20280305T110000
DTEND;TZID=America/Los_Angeles:20280305T120000
DTSTAMP:20260425T033339
CREATED:20250924T193853Z
LAST-MODIFIED:20250925T235352Z
UID:10001155-1835866800-1835870400@uuspokane.org
SUMMARY:Sunday Worship
DESCRIPTION:Live Stream Available
URL:https://uuspokane.org/event/sunday-worship-2/2028-03-05/
LOCATION:Sanctuary
CATEGORIES:Worship Service
END:VEVENT
BEGIN:VEVENT
DTSTART;TZID=America/Los_Angeles:20280310T180000
DTEND;TZID=America/Los_Angeles:20280310T210000
DTSTAMP:20260425T033339
CREATED:20251208T220636Z
LAST-MODIFIED:20260305T213645Z
UID:10004134-1836324000-1836334800@uuspokane.org
SUMMARY:Meaningful Movies
DESCRIPTION:
URL:https://uuspokane.org/event/meaningful-movies-4/2028-03-10/
LOCATION:Chapel
CATEGORIES:Social Justice
ORGANIZER;CN="Barb Stuebing":MAILTO:barbstuebing@gmail.com
END:VEVENT
BEGIN:VEVENT
DTSTART;TZID=America/Los_Angeles:20280310T210000
DTEND;TZID=America/Los_Angeles:20280310T220000
DTSTAMP:20260425T033339
CREATED:20260305T213857Z
LAST-MODIFIED:20260305T213857Z
UID:10004252-1836334800-1836338400@uuspokane.org
SUMMARY:Meaningful Movies - Cleanup
DESCRIPTION:
URL:https://uuspokane.org/event/meaningful-movies-cleanup-2/2028-03-10/
LOCATION:Chapel
CATEGORIES:Event Tear Down and Clean Up,Social Justice
ORGANIZER;CN="Barb Stuebing":MAILTO:barbstuebing@gmail.com
END:VEVENT
BEGIN:VEVENT
DTSTART;TZID=America/Los_Angeles:20280312T091500
DTEND;TZID=America/Los_Angeles:20280312T101500
DTSTAMP:20260425T033339
CREATED:20250924T193716Z
LAST-MODIFIED:20250925T235209Z
UID:10000895-1836465300-1836468900@uuspokane.org
SUMMARY:Sunday Worship
DESCRIPTION:Live Stream Available
URL:https://uuspokane.org/event/sunday-worship/2028-03-12/
LOCATION:Sanctuary
CATEGORIES:Worship Service
END:VEVENT
BEGIN:VEVENT
DTSTART;TZID=America/Los_Angeles:20280312T110000
DTEND;TZID=America/Los_Angeles:20280312T120000
DTSTAMP:20260425T033339
CREATED:20250924T193853Z
LAST-MODIFIED:20250925T235352Z
UID:10001156-1836471600-1836475200@uuspokane.org
SUMMARY:Sunday Worship
DESCRIPTION:Live Stream Available
URL:https://uuspokane.org/event/sunday-worship-2/2028-03-12/
LOCATION:Sanctuary
CATEGORIES:Worship Service
END:VEVENT
BEGIN:VEVENT
DTSTART;TZID=America/Los_Angeles:20280312T123000
DTEND;TZID=America/Los_Angeles:20280312T133000
DTSTAMP:20260425T033339
CREATED:20251120T162222Z
LAST-MODIFIED:20251120T162222Z
UID:10002777-1836477000-1836480600@uuspokane.org
SUMMARY:Poetry Sharing Circle
DESCRIPTION:Have you ever stumbled upon a poem — whether found in a book\, heard in passing\, or written yourself — that felt too meaningful to keep to yourself? Our Poetry Sharing Circle is a gentle\, welcoming hour created just for that. \nThis is not a workshop\, class\, or writers’ critique group. Instead\, it’s a simple in-person gathering where we come together to share poems that move us\, comfort us\, surprise us\, or make us think. Bring a poem you love and a few words about why it speaks to you — or simply come to listen and enjoy the company of others who appreciate the magic of poetry. \nNo pressure … no preparation … no expectations. \nJust people\, poems\, and a peaceful moment in community.
URL:https://uuspokane.org/event/poetry-sharing-circle-2/2028-03-12/
LOCATION:Chapel
CATEGORIES:Adult Enrichment
ORGANIZER;CN="Lynn Jinishian":MAILTO:jinishian@comcast.net
END:VEVENT
BEGIN:VEVENT
DTSTART;TZID=America/Los_Angeles:20280319T091500
DTEND;TZID=America/Los_Angeles:20280319T101500
DTSTAMP:20260425T033339
CREATED:20250924T193716Z
LAST-MODIFIED:20250925T235209Z
UID:10000896-1837070100-1837073700@uuspokane.org
SUMMARY:Sunday Worship
DESCRIPTION:Live Stream Available
URL:https://uuspokane.org/event/sunday-worship/2028-03-19/
LOCATION:Sanctuary
CATEGORIES:Worship Service
END:VEVENT
BEGIN:VEVENT
DTSTART;TZID=America/Los_Angeles:20280319T110000
DTEND;TZID=America/Los_Angeles:20280319T120000
DTSTAMP:20260425T033339
CREATED:20250924T193853Z
LAST-MODIFIED:20250925T235352Z
UID:10001157-1837076400-1837080000@uuspokane.org
SUMMARY:Sunday Worship
DESCRIPTION:Live Stream Available
URL:https://uuspokane.org/event/sunday-worship-2/2028-03-19/
LOCATION:Sanctuary
CATEGORIES:Worship Service
END:VEVENT
BEGIN:VEVENT
DTSTART;TZID=America/Los_Angeles:20280326T091500
DTEND;TZID=America/Los_Angeles:20280326T101500
DTSTAMP:20260425T033339
CREATED:20250924T193716Z
LAST-MODIFIED:20250925T235209Z
UID:10000897-1837674900-1837678500@uuspokane.org
SUMMARY:Sunday Worship
DESCRIPTION:Live Stream Available
URL:https://uuspokane.org/event/sunday-worship/2028-03-26/
LOCATION:Sanctuary
CATEGORIES:Worship Service
END:VEVENT
BEGIN:VEVENT
DTSTART;TZID=America/Los_Angeles:20280326T110000
DTEND;TZID=America/Los_Angeles:20280326T120000
DTSTAMP:20260425T033339
CREATED:20250924T193853Z
LAST-MODIFIED:20250925T235352Z
UID:10001158-1837681200-1837684800@uuspokane.org
SUMMARY:Sunday Worship
DESCRIPTION:Live Stream Available
URL:https://uuspokane.org/event/sunday-worship-2/2028-03-26/
LOCATION:Sanctuary
CATEGORIES:Worship Service
END:VEVENT
END:VCALENDAR