BEGIN:VCALENDAR
VERSION:2.0
PRODID:-//Unitarian Universalist Church of Spokane - ECPv6.15.20//NONSGML v1.0//EN
CALSCALE:GREGORIAN
METHOD:PUBLISH
X-ORIGINAL-URL:https://uuspokane.org
X-WR-CALDESC:Events for Unitarian Universalist Church of Spokane
REFRESH-INTERVAL;VALUE=DURATION:PT1H
X-Robots-Tag:noindex
X-PUBLISHED-TTL:PT1H
BEGIN:VTIMEZONE
TZID:America/Los_Angeles
BEGIN:DAYLIGHT
TZOFFSETFROM:-0800
TZOFFSETTO:-0700
TZNAME:PDT
DTSTART:20270314T100000
END:DAYLIGHT
BEGIN:STANDARD
TZOFFSETFROM:-0700
TZOFFSETTO:-0800
TZNAME:PST
DTSTART:20271107T090000
END:STANDARD
BEGIN:DAYLIGHT
TZOFFSETFROM:-0800
TZOFFSETTO:-0700
TZNAME:PDT
DTSTART:20280312T100000
END:DAYLIGHT
BEGIN:STANDARD
TZOFFSETFROM:-0700
TZOFFSETTO:-0800
TZNAME:PST
DTSTART:20281105T090000
END:STANDARD
BEGIN:DAYLIGHT
TZOFFSETFROM:-0800
TZOFFSETTO:-0700
TZNAME:PDT
DTSTART:20290311T100000
END:DAYLIGHT
BEGIN:STANDARD
TZOFFSETFROM:-0700
TZOFFSETTO:-0800
TZNAME:PST
DTSTART:20291104T090000
END:STANDARD
END:VTIMEZONE
BEGIN:VEVENT
DTSTART;TZID=America/Los_Angeles:20280305T110000
DTEND;TZID=America/Los_Angeles:20280305T120000
DTSTAMP:20260425T070455
CREATED:20250924T193853Z
LAST-MODIFIED:20250925T235352Z
UID:10001155-1835866800-1835870400@uuspokane.org
SUMMARY:Sunday Worship
DESCRIPTION:Live Stream Available
URL:https://uuspokane.org/event/sunday-worship-2/2028-03-05/
LOCATION:Sanctuary
CATEGORIES:Worship Service
END:VEVENT
BEGIN:VEVENT
DTSTART;TZID=America/Los_Angeles:20280310T180000
DTEND;TZID=America/Los_Angeles:20280310T210000
DTSTAMP:20260425T070455
CREATED:20251208T220636Z
LAST-MODIFIED:20260305T213645Z
UID:10004134-1836324000-1836334800@uuspokane.org
SUMMARY:Meaningful Movies
DESCRIPTION:
URL:https://uuspokane.org/event/meaningful-movies-4/2028-03-10/
LOCATION:Chapel
CATEGORIES:Social Justice
ORGANIZER;CN="Barb Stuebing":MAILTO:barbstuebing@gmail.com
END:VEVENT
BEGIN:VEVENT
DTSTART;TZID=America/Los_Angeles:20280310T210000
DTEND;TZID=America/Los_Angeles:20280310T220000
DTSTAMP:20260425T070455
CREATED:20260305T213857Z
LAST-MODIFIED:20260305T213857Z
UID:10004252-1836334800-1836338400@uuspokane.org
SUMMARY:Meaningful Movies - Cleanup
DESCRIPTION:
URL:https://uuspokane.org/event/meaningful-movies-cleanup-2/2028-03-10/
LOCATION:Chapel
CATEGORIES:Event Tear Down and Clean Up,Social Justice
ORGANIZER;CN="Barb Stuebing":MAILTO:barbstuebing@gmail.com
END:VEVENT
BEGIN:VEVENT
DTSTART;TZID=America/Los_Angeles:20280312T091500
DTEND;TZID=America/Los_Angeles:20280312T101500
DTSTAMP:20260425T070455
CREATED:20250924T193716Z
LAST-MODIFIED:20250925T235209Z
UID:10000895-1836465300-1836468900@uuspokane.org
SUMMARY:Sunday Worship
DESCRIPTION:Live Stream Available
URL:https://uuspokane.org/event/sunday-worship/2028-03-12/
LOCATION:Sanctuary
CATEGORIES:Worship Service
END:VEVENT
BEGIN:VEVENT
DTSTART;TZID=America/Los_Angeles:20280312T110000
DTEND;TZID=America/Los_Angeles:20280312T120000
DTSTAMP:20260425T070455
CREATED:20250924T193853Z
LAST-MODIFIED:20250925T235352Z
UID:10001156-1836471600-1836475200@uuspokane.org
SUMMARY:Sunday Worship
DESCRIPTION:Live Stream Available
URL:https://uuspokane.org/event/sunday-worship-2/2028-03-12/
LOCATION:Sanctuary
CATEGORIES:Worship Service
END:VEVENT
BEGIN:VEVENT
DTSTART;TZID=America/Los_Angeles:20280312T123000
DTEND;TZID=America/Los_Angeles:20280312T133000
DTSTAMP:20260425T070455
CREATED:20251120T162222Z
LAST-MODIFIED:20251120T162222Z
UID:10002777-1836477000-1836480600@uuspokane.org
SUMMARY:Poetry Sharing Circle
DESCRIPTION:Have you ever stumbled upon a poem — whether found in a book\, heard in passing\, or written yourself — that felt too meaningful to keep to yourself? Our Poetry Sharing Circle is a gentle\, welcoming hour created just for that. \nThis is not a workshop\, class\, or writers’ critique group. Instead\, it’s a simple in-person gathering where we come together to share poems that move us\, comfort us\, surprise us\, or make us think. Bring a poem you love and a few words about why it speaks to you — or simply come to listen and enjoy the company of others who appreciate the magic of poetry. \nNo pressure … no preparation … no expectations. \nJust people\, poems\, and a peaceful moment in community.
URL:https://uuspokane.org/event/poetry-sharing-circle-2/2028-03-12/
LOCATION:Chapel
CATEGORIES:Adult Enrichment
ORGANIZER;CN="Lynn Jinishian":MAILTO:jinishian@comcast.net
END:VEVENT
BEGIN:VEVENT
DTSTART;TZID=America/Los_Angeles:20280319T091500
DTEND;TZID=America/Los_Angeles:20280319T101500
DTSTAMP:20260425T070455
CREATED:20250924T193716Z
LAST-MODIFIED:20250925T235209Z
UID:10000896-1837070100-1837073700@uuspokane.org
SUMMARY:Sunday Worship
DESCRIPTION:Live Stream Available
URL:https://uuspokane.org/event/sunday-worship/2028-03-19/
LOCATION:Sanctuary
CATEGORIES:Worship Service
END:VEVENT
BEGIN:VEVENT
DTSTART;TZID=America/Los_Angeles:20280319T110000
DTEND;TZID=America/Los_Angeles:20280319T120000
DTSTAMP:20260425T070455
CREATED:20250924T193853Z
LAST-MODIFIED:20250925T235352Z
UID:10001157-1837076400-1837080000@uuspokane.org
SUMMARY:Sunday Worship
DESCRIPTION:Live Stream Available
URL:https://uuspokane.org/event/sunday-worship-2/2028-03-19/
LOCATION:Sanctuary
CATEGORIES:Worship Service
END:VEVENT
BEGIN:VEVENT
DTSTART;TZID=America/Los_Angeles:20280326T091500
DTEND;TZID=America/Los_Angeles:20280326T101500
DTSTAMP:20260425T070455
CREATED:20250924T193716Z
LAST-MODIFIED:20250925T235209Z
UID:10000897-1837674900-1837678500@uuspokane.org
SUMMARY:Sunday Worship
DESCRIPTION:Live Stream Available
URL:https://uuspokane.org/event/sunday-worship/2028-03-26/
LOCATION:Sanctuary
CATEGORIES:Worship Service
END:VEVENT
BEGIN:VEVENT
DTSTART;TZID=America/Los_Angeles:20280326T110000
DTEND;TZID=America/Los_Angeles:20280326T120000
DTSTAMP:20260425T070455
CREATED:20250924T193853Z
LAST-MODIFIED:20250925T235352Z
UID:10001158-1837681200-1837684800@uuspokane.org
SUMMARY:Sunday Worship
DESCRIPTION:Live Stream Available
URL:https://uuspokane.org/event/sunday-worship-2/2028-03-26/
LOCATION:Sanctuary
CATEGORIES:Worship Service
END:VEVENT
BEGIN:VEVENT
DTSTART;TZID=America/Los_Angeles:20280402T091500
DTEND;TZID=America/Los_Angeles:20280402T101500
DTSTAMP:20260425T070455
CREATED:20250924T193716Z
LAST-MODIFIED:20250925T235209Z
UID:10000898-1838279700-1838283300@uuspokane.org
SUMMARY:Sunday Worship
DESCRIPTION:Live Stream Available
URL:https://uuspokane.org/event/sunday-worship/2028-04-02/
LOCATION:Sanctuary
CATEGORIES:Worship Service
END:VEVENT
BEGIN:VEVENT
DTSTART;TZID=America/Los_Angeles:20280402T110000
DTEND;TZID=America/Los_Angeles:20280402T120000
DTSTAMP:20260425T070455
CREATED:20250924T193853Z
LAST-MODIFIED:20250925T235352Z
UID:10001159-1838286000-1838289600@uuspokane.org
SUMMARY:Sunday Worship
DESCRIPTION:Live Stream Available
URL:https://uuspokane.org/event/sunday-worship-2/2028-04-02/
LOCATION:Sanctuary
CATEGORIES:Worship Service
END:VEVENT
BEGIN:VEVENT
DTSTART;TZID=America/Los_Angeles:20280409T091500
DTEND;TZID=America/Los_Angeles:20280409T101500
DTSTAMP:20260425T070455
CREATED:20250924T193716Z
LAST-MODIFIED:20250925T235209Z
UID:10000899-1838884500-1838888100@uuspokane.org
SUMMARY:Sunday Worship
DESCRIPTION:Live Stream Available
URL:https://uuspokane.org/event/sunday-worship/2028-04-09/
LOCATION:Sanctuary
CATEGORIES:Worship Service
END:VEVENT
BEGIN:VEVENT
DTSTART;TZID=America/Los_Angeles:20280409T110000
DTEND;TZID=America/Los_Angeles:20280409T120000
DTSTAMP:20260425T070455
CREATED:20250924T193853Z
LAST-MODIFIED:20250925T235352Z
UID:10001160-1838890800-1838894400@uuspokane.org
SUMMARY:Sunday Worship
DESCRIPTION:Live Stream Available
URL:https://uuspokane.org/event/sunday-worship-2/2028-04-09/
LOCATION:Sanctuary
CATEGORIES:Worship Service
END:VEVENT
BEGIN:VEVENT
DTSTART;TZID=America/Los_Angeles:20280409T123000
DTEND;TZID=America/Los_Angeles:20280409T133000
DTSTAMP:20260425T070455
CREATED:20251120T162222Z
LAST-MODIFIED:20251120T162222Z
UID:10002778-1838896200-1838899800@uuspokane.org
SUMMARY:Poetry Sharing Circle
DESCRIPTION:Have you ever stumbled upon a poem — whether found in a book\, heard in passing\, or written yourself — that felt too meaningful to keep to yourself? Our Poetry Sharing Circle is a gentle\, welcoming hour created just for that. \nThis is not a workshop\, class\, or writers’ critique group. Instead\, it’s a simple in-person gathering where we come together to share poems that move us\, comfort us\, surprise us\, or make us think. Bring a poem you love and a few words about why it speaks to you — or simply come to listen and enjoy the company of others who appreciate the magic of poetry. \nNo pressure … no preparation … no expectations. \nJust people\, poems\, and a peaceful moment in community.
URL:https://uuspokane.org/event/poetry-sharing-circle-2/2028-04-09/
LOCATION:Chapel
CATEGORIES:Adult Enrichment
ORGANIZER;CN="Lynn Jinishian":MAILTO:jinishian@comcast.net
END:VEVENT
BEGIN:VEVENT
DTSTART;TZID=America/Los_Angeles:20280414T180000
DTEND;TZID=America/Los_Angeles:20280414T210000
DTSTAMP:20260425T070455
CREATED:20251208T220636Z
LAST-MODIFIED:20260305T213645Z
UID:10004135-1839348000-1839358800@uuspokane.org
SUMMARY:Meaningful Movies
DESCRIPTION:
URL:https://uuspokane.org/event/meaningful-movies-4/2028-04-14/
LOCATION:Chapel
CATEGORIES:Social Justice
ORGANIZER;CN="Barb Stuebing":MAILTO:barbstuebing@gmail.com
END:VEVENT
BEGIN:VEVENT
DTSTART;TZID=America/Los_Angeles:20280414T210000
DTEND;TZID=America/Los_Angeles:20280414T220000
DTSTAMP:20260425T070455
CREATED:20260305T213857Z
LAST-MODIFIED:20260305T213857Z
UID:10004253-1839358800-1839362400@uuspokane.org
SUMMARY:Meaningful Movies - Cleanup
DESCRIPTION:
URL:https://uuspokane.org/event/meaningful-movies-cleanup-2/2028-04-14/
LOCATION:Chapel
CATEGORIES:Event Tear Down and Clean Up,Social Justice
ORGANIZER;CN="Barb Stuebing":MAILTO:barbstuebing@gmail.com
END:VEVENT
BEGIN:VEVENT
DTSTART;TZID=America/Los_Angeles:20280416T091500
DTEND;TZID=America/Los_Angeles:20280416T101500
DTSTAMP:20260425T070455
CREATED:20250924T193716Z
LAST-MODIFIED:20250925T235209Z
UID:10000900-1839489300-1839492900@uuspokane.org
SUMMARY:Sunday Worship
DESCRIPTION:Live Stream Available
URL:https://uuspokane.org/event/sunday-worship/2028-04-16/
LOCATION:Sanctuary
CATEGORIES:Worship Service
END:VEVENT
BEGIN:VEVENT
DTSTART;TZID=America/Los_Angeles:20280416T110000
DTEND;TZID=America/Los_Angeles:20280416T120000
DTSTAMP:20260425T070455
CREATED:20250924T193853Z
LAST-MODIFIED:20250925T235352Z
UID:10001161-1839495600-1839499200@uuspokane.org
SUMMARY:Sunday Worship
DESCRIPTION:Live Stream Available
URL:https://uuspokane.org/event/sunday-worship-2/2028-04-16/
LOCATION:Sanctuary
CATEGORIES:Worship Service
END:VEVENT
BEGIN:VEVENT
DTSTART;TZID=America/Los_Angeles:20280423T091500
DTEND;TZID=America/Los_Angeles:20280423T101500
DTSTAMP:20260425T070455
CREATED:20250924T193716Z
LAST-MODIFIED:20250925T235209Z
UID:10000901-1840094100-1840097700@uuspokane.org
SUMMARY:Sunday Worship
DESCRIPTION:Live Stream Available
URL:https://uuspokane.org/event/sunday-worship/2028-04-23/
LOCATION:Sanctuary
CATEGORIES:Worship Service
END:VEVENT
BEGIN:VEVENT
DTSTART;TZID=America/Los_Angeles:20280423T110000
DTEND;TZID=America/Los_Angeles:20280423T120000
DTSTAMP:20260425T070455
CREATED:20250924T193853Z
LAST-MODIFIED:20250925T235352Z
UID:10001162-1840100400-1840104000@uuspokane.org
SUMMARY:Sunday Worship
DESCRIPTION:Live Stream Available
URL:https://uuspokane.org/event/sunday-worship-2/2028-04-23/
LOCATION:Sanctuary
CATEGORIES:Worship Service
END:VEVENT
BEGIN:VEVENT
DTSTART;TZID=America/Los_Angeles:20280430T091500
DTEND;TZID=America/Los_Angeles:20280430T101500
DTSTAMP:20260425T070455
CREATED:20250924T193716Z
LAST-MODIFIED:20250925T235209Z
UID:10000902-1840698900-1840702500@uuspokane.org
SUMMARY:Sunday Worship
DESCRIPTION:Live Stream Available
URL:https://uuspokane.org/event/sunday-worship/2028-04-30/
LOCATION:Sanctuary
CATEGORIES:Worship Service
END:VEVENT
BEGIN:VEVENT
DTSTART;TZID=America/Los_Angeles:20280430T110000
DTEND;TZID=America/Los_Angeles:20280430T120000
DTSTAMP:20260425T070455
CREATED:20250924T193853Z
LAST-MODIFIED:20250925T235352Z
UID:10001163-1840705200-1840708800@uuspokane.org
SUMMARY:Sunday Worship
DESCRIPTION:Live Stream Available
URL:https://uuspokane.org/event/sunday-worship-2/2028-04-30/
LOCATION:Sanctuary
CATEGORIES:Worship Service
END:VEVENT
BEGIN:VEVENT
DTSTART;TZID=America/Los_Angeles:20280507T091500
DTEND;TZID=America/Los_Angeles:20280507T101500
DTSTAMP:20260425T070455
CREATED:20250924T193716Z
LAST-MODIFIED:20250925T235209Z
UID:10000903-1841303700-1841307300@uuspokane.org
SUMMARY:Sunday Worship
DESCRIPTION:Live Stream Available
URL:https://uuspokane.org/event/sunday-worship/2028-05-07/
LOCATION:Sanctuary
CATEGORIES:Worship Service
END:VEVENT
BEGIN:VEVENT
DTSTART;TZID=America/Los_Angeles:20280507T110000
DTEND;TZID=America/Los_Angeles:20280507T120000
DTSTAMP:20260425T070455
CREATED:20250924T193853Z
LAST-MODIFIED:20250925T235352Z
UID:10001164-1841310000-1841313600@uuspokane.org
SUMMARY:Sunday Worship
DESCRIPTION:Live Stream Available
URL:https://uuspokane.org/event/sunday-worship-2/2028-05-07/
LOCATION:Sanctuary
CATEGORIES:Worship Service
END:VEVENT
BEGIN:VEVENT
DTSTART;TZID=America/Los_Angeles:20280512T180000
DTEND;TZID=America/Los_Angeles:20280512T210000
DTSTAMP:20260425T070455
CREATED:20251208T220636Z
LAST-MODIFIED:20260305T213645Z
UID:10004136-1841767200-1841778000@uuspokane.org
SUMMARY:Meaningful Movies
DESCRIPTION:
URL:https://uuspokane.org/event/meaningful-movies-4/2028-05-12/
LOCATION:Chapel
CATEGORIES:Social Justice
ORGANIZER;CN="Barb Stuebing":MAILTO:barbstuebing@gmail.com
END:VEVENT
BEGIN:VEVENT
DTSTART;TZID=America/Los_Angeles:20280512T210000
DTEND;TZID=America/Los_Angeles:20280512T220000
DTSTAMP:20260425T070455
CREATED:20260305T213857Z
LAST-MODIFIED:20260305T213857Z
UID:10004254-1841778000-1841781600@uuspokane.org
SUMMARY:Meaningful Movies - Cleanup
DESCRIPTION:
URL:https://uuspokane.org/event/meaningful-movies-cleanup-2/2028-05-12/
LOCATION:Chapel
CATEGORIES:Event Tear Down and Clean Up,Social Justice
ORGANIZER;CN="Barb Stuebing":MAILTO:barbstuebing@gmail.com
END:VEVENT
BEGIN:VEVENT
DTSTART;TZID=America/Los_Angeles:20280514T091500
DTEND;TZID=America/Los_Angeles:20280514T101500
DTSTAMP:20260425T070455
CREATED:20250924T193716Z
LAST-MODIFIED:20250925T235209Z
UID:10000904-1841908500-1841912100@uuspokane.org
SUMMARY:Sunday Worship
DESCRIPTION:Live Stream Available
URL:https://uuspokane.org/event/sunday-worship/2028-05-14/
LOCATION:Sanctuary
CATEGORIES:Worship Service
END:VEVENT
BEGIN:VEVENT
DTSTART;TZID=America/Los_Angeles:20280514T110000
DTEND;TZID=America/Los_Angeles:20280514T120000
DTSTAMP:20260425T070455
CREATED:20250924T193853Z
LAST-MODIFIED:20250925T235352Z
UID:10001165-1841914800-1841918400@uuspokane.org
SUMMARY:Sunday Worship
DESCRIPTION:Live Stream Available
URL:https://uuspokane.org/event/sunday-worship-2/2028-05-14/
LOCATION:Sanctuary
CATEGORIES:Worship Service
END:VEVENT
BEGIN:VEVENT
DTSTART;TZID=America/Los_Angeles:20280514T123000
DTEND;TZID=America/Los_Angeles:20280514T133000
DTSTAMP:20260425T070455
CREATED:20251120T162222Z
LAST-MODIFIED:20251120T162222Z
UID:10002779-1841920200-1841923800@uuspokane.org
SUMMARY:Poetry Sharing Circle
DESCRIPTION:Have you ever stumbled upon a poem — whether found in a book\, heard in passing\, or written yourself — that felt too meaningful to keep to yourself? Our Poetry Sharing Circle is a gentle\, welcoming hour created just for that. \nThis is not a workshop\, class\, or writers’ critique group. Instead\, it’s a simple in-person gathering where we come together to share poems that move us\, comfort us\, surprise us\, or make us think. Bring a poem you love and a few words about why it speaks to you — or simply come to listen and enjoy the company of others who appreciate the magic of poetry. \nNo pressure … no preparation … no expectations. \nJust people\, poems\, and a peaceful moment in community.
URL:https://uuspokane.org/event/poetry-sharing-circle-2/2028-05-14/
LOCATION:Chapel
CATEGORIES:Adult Enrichment
ORGANIZER;CN="Lynn Jinishian":MAILTO:jinishian@comcast.net
END:VEVENT
END:VCALENDAR