BEGIN:VCALENDAR
VERSION:2.0
PRODID:-//Unitarian Universalist Church of Spokane - ECPv6.15.20//NONSGML v1.0//EN
CALSCALE:GREGORIAN
METHOD:PUBLISH
X-ORIGINAL-URL:https://uuspokane.org
X-WR-CALDESC:Events for Unitarian Universalist Church of Spokane
REFRESH-INTERVAL;VALUE=DURATION:PT1H
X-Robots-Tag:noindex
X-PUBLISHED-TTL:PT1H
BEGIN:VTIMEZONE
TZID:America/Los_Angeles
BEGIN:DAYLIGHT
TZOFFSETFROM:-0800
TZOFFSETTO:-0700
TZNAME:PDT
DTSTART:20250309T100000
END:DAYLIGHT
BEGIN:STANDARD
TZOFFSETFROM:-0700
TZOFFSETTO:-0800
TZNAME:PST
DTSTART:20251102T090000
END:STANDARD
BEGIN:DAYLIGHT
TZOFFSETFROM:-0800
TZOFFSETTO:-0700
TZNAME:PDT
DTSTART:20260308T100000
END:DAYLIGHT
BEGIN:STANDARD
TZOFFSETFROM:-0700
TZOFFSETTO:-0800
TZNAME:PST
DTSTART:20261101T090000
END:STANDARD
BEGIN:DAYLIGHT
TZOFFSETFROM:-0800
TZOFFSETTO:-0700
TZNAME:PDT
DTSTART:20270314T100000
END:DAYLIGHT
BEGIN:STANDARD
TZOFFSETFROM:-0700
TZOFFSETTO:-0800
TZNAME:PST
DTSTART:20271107T090000
END:STANDARD
END:VTIMEZONE
BEGIN:VEVENT
DTSTART;TZID=America/Los_Angeles:20260419T123000
DTEND;TZID=America/Los_Angeles:20260419T140000
DTSTAMP:20260423T124308
CREATED:20260408T182839Z
LAST-MODIFIED:20260408T183008Z
UID:10003125-1776601800-1776607200@uuspokane.org
SUMMARY:Annual Dinner
DESCRIPTION:Join us for dinner following second service for our Annual Luncheon. This meal will be provided by UUCS\, our Generosity Team and our Activities team as a thank you for your pledge and being a part of UUCS.
URL:https://uuspokane.org/event/church-potluck-6/
LOCATION:Friendship Hall
CATEGORIES:Fellowship
END:VEVENT
BEGIN:VEVENT
DTSTART;TZID=America/Los_Angeles:20260419T110000
DTEND;TZID=America/Los_Angeles:20260419T120000
DTSTAMP:20260423T124308
CREATED:20250924T193853Z
LAST-MODIFIED:20250925T235352Z
UID:10001057-1776596400-1776600000@uuspokane.org
SUMMARY:Sunday Worship
DESCRIPTION:Live Stream Available
URL:https://uuspokane.org/event/sunday-worship-2/2026-04-19/
LOCATION:Sanctuary
CATEGORIES:Worship Service
END:VEVENT
BEGIN:VEVENT
DTSTART;TZID=America/Los_Angeles:20260419T091500
DTEND;TZID=America/Los_Angeles:20260419T101500
DTSTAMP:20260423T124308
CREATED:20250924T193716Z
LAST-MODIFIED:20250925T235209Z
UID:10000796-1776590100-1776593700@uuspokane.org
SUMMARY:Sunday Worship
DESCRIPTION:Live Stream Available
URL:https://uuspokane.org/event/sunday-worship/2026-04-19/
LOCATION:Sanctuary
CATEGORIES:Worship Service
END:VEVENT
BEGIN:VEVENT
DTSTART;TZID=America/Los_Angeles:20260418T080000
DTEND;TZID=America/Los_Angeles:20260418T140000
DTSTAMP:20260423T124308
CREATED:20250929T211258Z
LAST-MODIFIED:20250929T211258Z
UID:10003435-1776499200-1776520800@uuspokane.org
SUMMARY:Spokane Camera Club Salon
DESCRIPTION:
URL:https://uuspokane.org/event/spokane-camera-club-salon/
LOCATION:Chapel
CATEGORIES:Private Event
END:VEVENT
BEGIN:VEVENT
DTSTART;TZID=America/Los_Angeles:20260412T110000
DTEND;TZID=America/Los_Angeles:20260412T120000
DTSTAMP:20260423T124308
CREATED:20250924T193853Z
LAST-MODIFIED:20250925T235352Z
UID:10001056-1775991600-1775995200@uuspokane.org
SUMMARY:Sunday Worship
DESCRIPTION:Live Stream Available
URL:https://uuspokane.org/event/sunday-worship-2/2026-04-12/
LOCATION:Sanctuary
CATEGORIES:Worship Service
END:VEVENT
BEGIN:VEVENT
DTSTART;TZID=America/Los_Angeles:20260412T091500
DTEND;TZID=America/Los_Angeles:20260412T101500
DTSTAMP:20260423T124308
CREATED:20250924T193716Z
LAST-MODIFIED:20250925T235209Z
UID:10000795-1775985300-1775988900@uuspokane.org
SUMMARY:Sunday Worship
DESCRIPTION:Live Stream Available
URL:https://uuspokane.org/event/sunday-worship/2026-04-12/
LOCATION:Sanctuary
CATEGORIES:Worship Service
END:VEVENT
BEGIN:VEVENT
DTSTART;TZID=America/Los_Angeles:20260411T113000
DTEND;TZID=America/Los_Angeles:20260411T140000
DTSTAMP:20260423T124308
CREATED:20260204T203641Z
LAST-MODIFIED:20260204T203641Z
UID:10002513-1775907000-1775916000@uuspokane.org
SUMMARY:LGBTQ+ Seniors of the Inland Northwest Potluck
DESCRIPTION:Join us for food\, fellowship and conversation.
URL:https://uuspokane.org/event/lgbtq-seniors-of-the-inland-northwest-potluck-2/2026-04-11/
LOCATION:Friendship Hall
CATEGORIES:Other
ORGANIZER;CN="Nancy Avery":MAILTO:NancyTavery@comcast.net
END:VEVENT
BEGIN:VEVENT
DTSTART;TZID=America/Los_Angeles:20260410T160000
DTEND;TZID=America/Los_Angeles:20260410T210000
DTSTAMP:20260423T124308
CREATED:20251008T171357Z
LAST-MODIFIED:20260319T175459Z
UID:10003446-1775836800-1775854800@uuspokane.org
SUMMARY:Blues Brews and BBQ
DESCRIPTION:Enjoy an afternoon and evening of Blues\, Brews\, and BBQ at the Unitarian Universalist Church of Spokane. \nLyle Morse\, local Blues sensation\, will provide his sensational Blues guitar and vocals\, followed by a BBQ dinner of Longhorn BBQ pork with sides. Dinner will be served at 6:00 p.m. \nWe’ll also be serving snacks\, non-alcoholic drinks\, wine and beer. The beer is proudly provided by Aslan Brewing (Bellingham\, WA)\, an award-winning brewery offering a wide selection of organic beers. Aslan is co-owned and operated by Layne Carter. \nTickets are $30.00 each. Take me to the UUCS donation page to purchase tickets.
URL:https://uuspokane.org/event/blues-brews-and-bbq/
LOCATION:Friendship Hall
CATEGORIES:Auction Item
ORGANIZER;CN="Nancy Avery":MAILTO:NancyTavery@comcast.net
END:VEVENT
BEGIN:VEVENT
DTSTART;TZID=America/Los_Angeles:20260410T110000
DTEND;TZID=America/Los_Angeles:20260410T160000
DTSTAMP:20260423T124308
CREATED:20251008T171502Z
LAST-MODIFIED:20251008T171502Z
UID:10003447-1775818800-1775836800@uuspokane.org
SUMMARY:BBB Set Up
DESCRIPTION:
URL:https://uuspokane.org/event/bbb-set-up/
LOCATION:Friendship Hall
CATEGORIES:Event Set Up
ORGANIZER;CN="Nancy Avery":MAILTO:NancyTavery@comcast.net
END:VEVENT
BEGIN:VEVENT
DTSTART;TZID=America/Los_Angeles:20260409T140000
DTEND;TZID=America/Los_Angeles:20260409T160000
DTSTAMP:20260423T124308
CREATED:20260325T173759Z
LAST-MODIFIED:20260325T173759Z
UID:10004298-1775743200-1775750400@uuspokane.org
SUMMARY:BBB Set Up
DESCRIPTION:
URL:https://uuspokane.org/event/bbb-set-up-2/
LOCATION:Friendship Hall
CATEGORIES:Event Set Up
END:VEVENT
BEGIN:VEVENT
DTSTART;TZID=America/Los_Angeles:20260405T110000
DTEND;TZID=America/Los_Angeles:20260405T120000
DTSTAMP:20260423T124308
CREATED:20250924T193853Z
LAST-MODIFIED:20250925T235352Z
UID:10001055-1775386800-1775390400@uuspokane.org
SUMMARY:Sunday Worship
DESCRIPTION:Live Stream Available
URL:https://uuspokane.org/event/sunday-worship-2/2026-04-05/
LOCATION:Sanctuary
CATEGORIES:Worship Service
END:VEVENT
BEGIN:VEVENT
DTSTART;TZID=America/Los_Angeles:20260405T091500
DTEND;TZID=America/Los_Angeles:20260405T101500
DTSTAMP:20260423T124308
CREATED:20250924T193716Z
LAST-MODIFIED:20250925T235209Z
UID:10000794-1775380500-1775384100@uuspokane.org
SUMMARY:Sunday Worship
DESCRIPTION:Live Stream Available
URL:https://uuspokane.org/event/sunday-worship/2026-04-05/
LOCATION:Sanctuary
CATEGORIES:Worship Service
END:VEVENT
BEGIN:VEVENT
DTSTART;TZID=America/Los_Angeles:20260401T180000
DTEND;TZID=America/Los_Angeles:20260401T220000
DTSTAMP:20260423T124308
CREATED:20250925T165107Z
LAST-MODIFIED:20250925T165225Z
UID:10002138-1775066400-1775080800@uuspokane.org
SUMMARY:Spokane Camera Club
DESCRIPTION:
URL:https://uuspokane.org/event/spokane-camera-club/2026-04-01/
LOCATION:Friendship Hall
CATEGORIES:Meeting
END:VEVENT
BEGIN:VEVENT
DTSTART;TZID=America/Los_Angeles:20260329T110000
DTEND;TZID=America/Los_Angeles:20260329T120000
DTSTAMP:20260423T124308
CREATED:20250924T193853Z
LAST-MODIFIED:20250925T235352Z
UID:10001054-1774782000-1774785600@uuspokane.org
SUMMARY:Sunday Worship
DESCRIPTION:Live Stream Available
URL:https://uuspokane.org/event/sunday-worship-2/2026-03-29/
LOCATION:Sanctuary
CATEGORIES:Worship Service
END:VEVENT
BEGIN:VEVENT
DTSTART;TZID=America/Los_Angeles:20260329T091500
DTEND;TZID=America/Los_Angeles:20260329T101500
DTSTAMP:20260423T124308
CREATED:20250924T193716Z
LAST-MODIFIED:20250925T235209Z
UID:10000793-1774775700-1774779300@uuspokane.org
SUMMARY:Sunday Worship
DESCRIPTION:Live Stream Available
URL:https://uuspokane.org/event/sunday-worship/2026-03-29/
LOCATION:Sanctuary
CATEGORIES:Worship Service
END:VEVENT
BEGIN:VEVENT
DTSTART;TZID=America/Los_Angeles:20260326T083000
DTEND;TZID=America/Los_Angeles:20260326T100000
DTSTAMP:20260423T124308
CREATED:20260311T183811Z
LAST-MODIFIED:20260311T183811Z
UID:10004294-1774513800-1774519200@uuspokane.org
SUMMARY:SNAP All Staff Meeting
DESCRIPTION:
URL:https://uuspokane.org/event/snap-all-staff-meeting/
LOCATION:Sanctuary
CATEGORIES:Meeting
END:VEVENT
BEGIN:VEVENT
DTSTART;TZID=America/Los_Angeles:20260322T110000
DTEND;TZID=America/Los_Angeles:20260322T120000
DTSTAMP:20260423T124308
CREATED:20250924T193853Z
LAST-MODIFIED:20250925T235352Z
UID:10001053-1774177200-1774180800@uuspokane.org
SUMMARY:Sunday Worship
DESCRIPTION:Live Stream Available
URL:https://uuspokane.org/event/sunday-worship-2/2026-03-22/
LOCATION:Sanctuary
CATEGORIES:Worship Service
END:VEVENT
BEGIN:VEVENT
DTSTART;TZID=America/Los_Angeles:20260322T091500
DTEND;TZID=America/Los_Angeles:20260322T101500
DTSTAMP:20260423T124308
CREATED:20250924T193716Z
LAST-MODIFIED:20250925T235209Z
UID:10000792-1774170900-1774174500@uuspokane.org
SUMMARY:Sunday Worship
DESCRIPTION:Live Stream Available
URL:https://uuspokane.org/event/sunday-worship/2026-03-22/
LOCATION:Sanctuary
CATEGORIES:Worship Service
END:VEVENT
BEGIN:VEVENT
DTSTART;TZID=America/Los_Angeles:20260318T180000
DTEND;TZID=America/Los_Angeles:20260318T220000
DTSTAMP:20260423T124308
CREATED:20250925T165407Z
LAST-MODIFIED:20250925T165407Z
UID:10002197-1773856800-1773871200@uuspokane.org
SUMMARY:Spokane Camera Club
DESCRIPTION:
URL:https://uuspokane.org/event/spokane-camera-club-2/2026-03-18/
LOCATION:Friendship Hall
CATEGORIES:Meeting
END:VEVENT
BEGIN:VEVENT
DTSTART;TZID=America/Los_Angeles:20260315T110000
DTEND;TZID=America/Los_Angeles:20260315T120000
DTSTAMP:20260423T124308
CREATED:20250924T193853Z
LAST-MODIFIED:20250925T235352Z
UID:10001052-1773572400-1773576000@uuspokane.org
SUMMARY:Sunday Worship
DESCRIPTION:Live Stream Available
URL:https://uuspokane.org/event/sunday-worship-2/2026-03-15/
LOCATION:Sanctuary
CATEGORIES:Worship Service
END:VEVENT
BEGIN:VEVENT
DTSTART;TZID=America/Los_Angeles:20260315T091500
DTEND;TZID=America/Los_Angeles:20260315T101500
DTSTAMP:20260423T124308
CREATED:20250924T193716Z
LAST-MODIFIED:20250925T235209Z
UID:10000791-1773566100-1773569700@uuspokane.org
SUMMARY:Sunday Worship
DESCRIPTION:Live Stream Available
URL:https://uuspokane.org/event/sunday-worship/2026-03-15/
LOCATION:Sanctuary
CATEGORIES:Worship Service
END:VEVENT
BEGIN:VEVENT
DTSTART;TZID=America/Los_Angeles:20260314T113000
DTEND;TZID=America/Los_Angeles:20260314T140000
DTSTAMP:20260423T124308
CREATED:20260204T203641Z
LAST-MODIFIED:20260204T203641Z
UID:10002512-1773487800-1773496800@uuspokane.org
SUMMARY:LGBTQ+ Seniors of the Inland Northwest Potluck
DESCRIPTION:Join us for food\, fellowship and conversation.
URL:https://uuspokane.org/event/lgbtq-seniors-of-the-inland-northwest-potluck-2/2026-03-14/
LOCATION:Friendship Hall
CATEGORIES:Other
ORGANIZER;CN="Nancy Avery":MAILTO:NancyTavery@comcast.net
END:VEVENT
BEGIN:VEVENT
DTSTART;TZID=America/Los_Angeles:20260313T140000
DTEND;TZID=America/Los_Angeles:20260313T153000
DTSTAMP:20260423T124308
CREATED:20260202T210543Z
LAST-MODIFIED:20260202T210543Z
UID:10003986-1773410400-1773415800@uuspokane.org
SUMMARY:Windsong Spring Fundraiser
DESCRIPTION:Setup time: 11:30am\nEvent: 2-3:30pm\nClean up: 3:30-4:00pm 
URL:https://uuspokane.org/event/windsong-spring-fundraiser/
LOCATION:Sanctuary
CATEGORIES:Private Event
END:VEVENT
BEGIN:VEVENT
DTSTART;TZID=America/Los_Angeles:20260311T183000
DTEND;TZID=America/Los_Angeles:20260311T203000
DTSTAMP:20260423T124308
CREATED:20260225T182644Z
LAST-MODIFIED:20260225T182644Z
UID:10004042-1773253800-1773261000@uuspokane.org
SUMMARY:Spokane Camera Club - Education Seminar
DESCRIPTION:
URL:https://uuspokane.org/event/spokane-camera-club-education-seminar/
LOCATION:Friendship Hall
CATEGORIES:Meeting
END:VEVENT
BEGIN:VEVENT
DTSTART;TZID=America/Los_Angeles:20260308T123000
DTEND;TZID=America/Los_Angeles:20260308T143000
DTSTAMP:20260423T124308
CREATED:20260226T210023Z
LAST-MODIFIED:20260305T171043Z
UID:10004043-1772973000-1772980200@uuspokane.org
SUMMARY:Gathering of the Eagles Blessing
DESCRIPTION:Hosted by UUCS Member Jacob Johns\, join us for an inspiring gathering as Freddie Lane shares the vision and spirit of the Gathering of the Eagles – and extends a personal invitation to our congregation. \nFreddie will be presenting formal invitations to join a paddle journey through the breathtaking San Juan Islands this May 2026 – an adventure of water\, wilderness\, and community. \n 
URL:https://uuspokane.org/event/gathering-of-the-eagles-discussion/
LOCATION:Sanctuary
CATEGORIES:Ceremony
END:VEVENT
BEGIN:VEVENT
DTSTART;TZID=America/Los_Angeles:20260308T110000
DTEND;TZID=America/Los_Angeles:20260308T120000
DTSTAMP:20260423T124308
CREATED:20250924T193853Z
LAST-MODIFIED:20250925T235352Z
UID:10001051-1772967600-1772971200@uuspokane.org
SUMMARY:Sunday Worship
DESCRIPTION:Live Stream Available
URL:https://uuspokane.org/event/sunday-worship-2/2026-03-08/
LOCATION:Sanctuary
CATEGORIES:Worship Service
END:VEVENT
BEGIN:VEVENT
DTSTART;TZID=America/Los_Angeles:20260308T091500
DTEND;TZID=America/Los_Angeles:20260308T101500
DTSTAMP:20260423T124308
CREATED:20250924T193716Z
LAST-MODIFIED:20250925T235209Z
UID:10000790-1772961300-1772964900@uuspokane.org
SUMMARY:Sunday Worship
DESCRIPTION:Live Stream Available
URL:https://uuspokane.org/event/sunday-worship/2026-03-08/
LOCATION:Sanctuary
CATEGORIES:Worship Service
END:VEVENT
BEGIN:VEVENT
DTSTART;TZID=America/Los_Angeles:20260307T160000
DTEND;TZID=America/Los_Angeles:20260307T213000
DTSTAMP:20260423T124308
CREATED:20250925T165921Z
LAST-MODIFIED:20250925T165921Z
UID:10002323-1772899200-1772919000@uuspokane.org
SUMMARY:INWBMA Meeting
DESCRIPTION:
URL:https://uuspokane.org/event/inwbma-meeting/2026-03-07/
LOCATION:Sanctuary
CATEGORIES:Meeting
END:VEVENT
BEGIN:VEVENT
DTSTART;TZID=America/Los_Angeles:20260307T110000
DTEND;TZID=America/Los_Angeles:20260307T140000
DTSTAMP:20260423T124308
CREATED:20260223T185157Z
LAST-MODIFIED:20260223T185157Z
UID:10004040-1772881200-1772892000@uuspokane.org
SUMMARY:Private Memorial Service
DESCRIPTION:Building Use 10 am – 3 pm
URL:https://uuspokane.org/event/private-memorial-service-2/
LOCATION:Friendship Hall
CATEGORIES:Memorial Service
END:VEVENT
BEGIN:VEVENT
DTSTART;TZID=America/Los_Angeles:20260306T210000
DTEND;TZID=America/Los_Angeles:20260306T220000
DTSTAMP:20260423T124308
CREATED:20260303T183411Z
LAST-MODIFIED:20260303T183411Z
UID:10004046-1772830800-1772834400@uuspokane.org
SUMMARY:Meaningful Movies - Cleanup
DESCRIPTION:
URL:https://uuspokane.org/event/meaningful-movies-cleanup/
LOCATION:Chapel
CATEGORIES:Event Tear Down and Clean Up,Social Justice
ORGANIZER;CN="Barb Stuebing":MAILTO:barbstuebing@gmail.com
END:VEVENT
END:VCALENDAR