BEGIN:VCALENDAR
VERSION:2.0
PRODID:-//Unitarian Universalist Church of Spokane - ECPv6.15.20//NONSGML v1.0//EN
CALSCALE:GREGORIAN
METHOD:PUBLISH
X-ORIGINAL-URL:https://uuspokane.org
X-WR-CALDESC:Events for Unitarian Universalist Church of Spokane
REFRESH-INTERVAL;VALUE=DURATION:PT1H
X-Robots-Tag:noindex
X-PUBLISHED-TTL:PT1H
BEGIN:VTIMEZONE
TZID:America/Los_Angeles
BEGIN:DAYLIGHT
TZOFFSETFROM:-0800
TZOFFSETTO:-0700
TZNAME:PDT
DTSTART:20250309T100000
END:DAYLIGHT
BEGIN:STANDARD
TZOFFSETFROM:-0700
TZOFFSETTO:-0800
TZNAME:PST
DTSTART:20251102T090000
END:STANDARD
BEGIN:DAYLIGHT
TZOFFSETFROM:-0800
TZOFFSETTO:-0700
TZNAME:PDT
DTSTART:20260308T100000
END:DAYLIGHT
BEGIN:STANDARD
TZOFFSETFROM:-0700
TZOFFSETTO:-0800
TZNAME:PST
DTSTART:20261101T090000
END:STANDARD
BEGIN:DAYLIGHT
TZOFFSETFROM:-0800
TZOFFSETTO:-0700
TZNAME:PDT
DTSTART:20270314T100000
END:DAYLIGHT
BEGIN:STANDARD
TZOFFSETFROM:-0700
TZOFFSETTO:-0800
TZNAME:PST
DTSTART:20271107T090000
END:STANDARD
END:VTIMEZONE
BEGIN:VEVENT
DTSTART;TZID=America/Los_Angeles:20260315T091500
DTEND;TZID=America/Los_Angeles:20260315T101500
DTSTAMP:20260423T154943
CREATED:20250924T193716Z
LAST-MODIFIED:20250925T235209Z
UID:10000791-1773566100-1773569700@uuspokane.org
SUMMARY:Sunday Worship
DESCRIPTION:Live Stream Available
URL:https://uuspokane.org/event/sunday-worship/2026-03-15/
LOCATION:Sanctuary
CATEGORIES:Worship Service
END:VEVENT
BEGIN:VEVENT
DTSTART;TZID=America/Los_Angeles:20260314T113000
DTEND;TZID=America/Los_Angeles:20260314T140000
DTSTAMP:20260423T154943
CREATED:20260204T203641Z
LAST-MODIFIED:20260204T203641Z
UID:10002512-1773487800-1773496800@uuspokane.org
SUMMARY:LGBTQ+ Seniors of the Inland Northwest Potluck
DESCRIPTION:Join us for food\, fellowship and conversation.
URL:https://uuspokane.org/event/lgbtq-seniors-of-the-inland-northwest-potluck-2/2026-03-14/
LOCATION:Friendship Hall
CATEGORIES:Other
ORGANIZER;CN="Nancy Avery":MAILTO:NancyTavery@comcast.net
END:VEVENT
BEGIN:VEVENT
DTSTART;TZID=America/Los_Angeles:20260313T140000
DTEND;TZID=America/Los_Angeles:20260313T153000
DTSTAMP:20260423T154943
CREATED:20260202T210543Z
LAST-MODIFIED:20260202T210543Z
UID:10003986-1773410400-1773415800@uuspokane.org
SUMMARY:Windsong Spring Fundraiser
DESCRIPTION:Setup time: 11:30am\nEvent: 2-3:30pm\nClean up: 3:30-4:00pm 
URL:https://uuspokane.org/event/windsong-spring-fundraiser/
LOCATION:Sanctuary
CATEGORIES:Private Event
END:VEVENT
BEGIN:VEVENT
DTSTART;TZID=America/Los_Angeles:20260311T183000
DTEND;TZID=America/Los_Angeles:20260311T203000
DTSTAMP:20260423T154943
CREATED:20260225T182644Z
LAST-MODIFIED:20260225T182644Z
UID:10004042-1773253800-1773261000@uuspokane.org
SUMMARY:Spokane Camera Club - Education Seminar
DESCRIPTION:
URL:https://uuspokane.org/event/spokane-camera-club-education-seminar/
LOCATION:Friendship Hall
CATEGORIES:Meeting
END:VEVENT
BEGIN:VEVENT
DTSTART;TZID=America/Los_Angeles:20260308T123000
DTEND;TZID=America/Los_Angeles:20260308T143000
DTSTAMP:20260423T154943
CREATED:20260226T210023Z
LAST-MODIFIED:20260305T171043Z
UID:10004043-1772973000-1772980200@uuspokane.org
SUMMARY:Gathering of the Eagles Blessing
DESCRIPTION:Hosted by UUCS Member Jacob Johns\, join us for an inspiring gathering as Freddie Lane shares the vision and spirit of the Gathering of the Eagles – and extends a personal invitation to our congregation. \nFreddie will be presenting formal invitations to join a paddle journey through the breathtaking San Juan Islands this May 2026 – an adventure of water\, wilderness\, and community. \n 
URL:https://uuspokane.org/event/gathering-of-the-eagles-discussion/
LOCATION:Sanctuary
CATEGORIES:Ceremony
END:VEVENT
BEGIN:VEVENT
DTSTART;TZID=America/Los_Angeles:20260308T110000
DTEND;TZID=America/Los_Angeles:20260308T120000
DTSTAMP:20260423T154943
CREATED:20250924T193853Z
LAST-MODIFIED:20250925T235352Z
UID:10001051-1772967600-1772971200@uuspokane.org
SUMMARY:Sunday Worship
DESCRIPTION:Live Stream Available
URL:https://uuspokane.org/event/sunday-worship-2/2026-03-08/
LOCATION:Sanctuary
CATEGORIES:Worship Service
END:VEVENT
BEGIN:VEVENT
DTSTART;TZID=America/Los_Angeles:20260308T091500
DTEND;TZID=America/Los_Angeles:20260308T101500
DTSTAMP:20260423T154943
CREATED:20250924T193716Z
LAST-MODIFIED:20250925T235209Z
UID:10000790-1772961300-1772964900@uuspokane.org
SUMMARY:Sunday Worship
DESCRIPTION:Live Stream Available
URL:https://uuspokane.org/event/sunday-worship/2026-03-08/
LOCATION:Sanctuary
CATEGORIES:Worship Service
END:VEVENT
BEGIN:VEVENT
DTSTART;TZID=America/Los_Angeles:20260307T160000
DTEND;TZID=America/Los_Angeles:20260307T213000
DTSTAMP:20260423T154943
CREATED:20250925T165921Z
LAST-MODIFIED:20250925T165921Z
UID:10002323-1772899200-1772919000@uuspokane.org
SUMMARY:INWBMA Meeting
DESCRIPTION:
URL:https://uuspokane.org/event/inwbma-meeting/2026-03-07/
LOCATION:Sanctuary
CATEGORIES:Meeting
END:VEVENT
BEGIN:VEVENT
DTSTART;TZID=America/Los_Angeles:20260307T110000
DTEND;TZID=America/Los_Angeles:20260307T140000
DTSTAMP:20260423T154943
CREATED:20260223T185157Z
LAST-MODIFIED:20260223T185157Z
UID:10004040-1772881200-1772892000@uuspokane.org
SUMMARY:Private Memorial Service
DESCRIPTION:Building Use 10 am – 3 pm
URL:https://uuspokane.org/event/private-memorial-service-2/
LOCATION:Friendship Hall
CATEGORIES:Memorial Service
END:VEVENT
BEGIN:VEVENT
DTSTART;TZID=America/Los_Angeles:20260306T210000
DTEND;TZID=America/Los_Angeles:20260306T220000
DTSTAMP:20260423T154943
CREATED:20260303T183411Z
LAST-MODIFIED:20260303T183411Z
UID:10004046-1772830800-1772834400@uuspokane.org
SUMMARY:Meaningful Movies - Cleanup
DESCRIPTION:
URL:https://uuspokane.org/event/meaningful-movies-cleanup/
LOCATION:Chapel
CATEGORIES:Event Tear Down and Clean Up,Social Justice
ORGANIZER;CN="Barb Stuebing":MAILTO:barbstuebing@gmail.com
END:VEVENT
BEGIN:VEVENT
DTSTART;TZID=America/Los_Angeles:20260306T183000
DTEND;TZID=America/Los_Angeles:20260306T210000
DTSTAMP:20260423T154943
CREATED:20251208T220545Z
LAST-MODIFIED:20260303T200906Z
UID:10003848-1772821800-1772830800@uuspokane.org
SUMMARY:Meaningful Movies - The Librarians
DESCRIPTION:Meaningful Movies Spokane is excited to present the documentary The Librarians on March 6 at 6:30 p.m. at the UU Church of Spokane. And excited to be hosted by Be The Change 509\, an activist group formed by Petra Hoy doing amazing work in our community. This documentary brings to the forefront a force in our country that intends to limit freedom of speech\, along with promoting the influence of religion in ways that are unconstitutional in America. If you are concerned about keeping alive the separation of church and state\, you will want to attend this showing and discussion. Take me to The Librarians Engagement Guide.
URL:https://uuspokane.org/event/meaningful-movies-3/
LOCATION:Chapel
CATEGORIES:Social Justice
ORGANIZER;CN="Barb Stuebing":MAILTO:barbstuebing@gmail.com
END:VEVENT
BEGIN:VEVENT
DTSTART;TZID=America/Los_Angeles:20260306T170000
DTEND;TZID=America/Los_Angeles:20260306T183000
DTSTAMP:20260423T154943
CREATED:20260303T183132Z
LAST-MODIFIED:20260303T183254Z
UID:10004045-1772816400-1772821800@uuspokane.org
SUMMARY:Meaningful Movies - Set Up
DESCRIPTION:
URL:https://uuspokane.org/event/meaningful-movies-set-up/
LOCATION:Friendship Hall
CATEGORIES:Event Set Up,Social Justice
ORGANIZER;CN="Barb Stuebing":MAILTO:barbstuebing@gmail.com
END:VEVENT
BEGIN:VEVENT
DTSTART;TZID=America/Los_Angeles:20260304T180000
DTEND;TZID=America/Los_Angeles:20260304T220000
DTSTAMP:20260423T154943
CREATED:20250925T165107Z
LAST-MODIFIED:20250925T165225Z
UID:10002137-1772647200-1772661600@uuspokane.org
SUMMARY:Spokane Camera Club
DESCRIPTION:
URL:https://uuspokane.org/event/spokane-camera-club/2026-03-04/
LOCATION:Friendship Hall
CATEGORIES:Meeting
END:VEVENT
BEGIN:VEVENT
DTSTART;TZID=America/Los_Angeles:20260301T110000
DTEND;TZID=America/Los_Angeles:20260301T120000
DTSTAMP:20260423T154943
CREATED:20250924T193853Z
LAST-MODIFIED:20250925T235352Z
UID:10001050-1772362800-1772366400@uuspokane.org
SUMMARY:Sunday Worship
DESCRIPTION:Live Stream Available
URL:https://uuspokane.org/event/sunday-worship-2/2026-03-01/
LOCATION:Sanctuary
CATEGORIES:Worship Service
END:VEVENT
BEGIN:VEVENT
DTSTART;TZID=America/Los_Angeles:20260301T091500
DTEND;TZID=America/Los_Angeles:20260301T101500
DTSTAMP:20260423T154943
CREATED:20250924T193716Z
LAST-MODIFIED:20250925T235209Z
UID:10000789-1772356500-1772360100@uuspokane.org
SUMMARY:Sunday Worship
DESCRIPTION:Live Stream Available
URL:https://uuspokane.org/event/sunday-worship/2026-03-01/
LOCATION:Sanctuary
CATEGORIES:Worship Service
END:VEVENT
BEGIN:VEVENT
DTSTART;TZID=America/Los_Angeles:20260222T123000
DTEND;TZID=America/Los_Angeles:20260222T153000
DTSTAMP:20260423T154943
CREATED:20260126T181517Z
LAST-MODIFIED:20260126T181517Z
UID:10003965-1771763400-1771774200@uuspokane.org
SUMMARY:Partner Church Baking Day
DESCRIPTION:
URL:https://uuspokane.org/event/partner-church-baking-day/
LOCATION:Friendship Hall
CATEGORIES:Other
END:VEVENT
BEGIN:VEVENT
DTSTART;TZID=America/Los_Angeles:20260222T110000
DTEND;TZID=America/Los_Angeles:20260222T120000
DTSTAMP:20260423T154943
CREATED:20250924T193853Z
LAST-MODIFIED:20250925T235352Z
UID:10001049-1771758000-1771761600@uuspokane.org
SUMMARY:Sunday Worship
DESCRIPTION:Live Stream Available
URL:https://uuspokane.org/event/sunday-worship-2/2026-02-22/
LOCATION:Sanctuary
CATEGORIES:Worship Service
END:VEVENT
BEGIN:VEVENT
DTSTART;TZID=America/Los_Angeles:20260222T091500
DTEND;TZID=America/Los_Angeles:20260222T101500
DTSTAMP:20260423T154943
CREATED:20250924T193716Z
LAST-MODIFIED:20250925T235209Z
UID:10000788-1771751700-1771755300@uuspokane.org
SUMMARY:Sunday Worship
DESCRIPTION:Live Stream Available
URL:https://uuspokane.org/event/sunday-worship/2026-02-22/
LOCATION:Sanctuary
CATEGORIES:Worship Service
END:VEVENT
BEGIN:VEVENT
DTSTART;TZID=America/Los_Angeles:20260218T180000
DTEND;TZID=America/Los_Angeles:20260218T220000
DTSTAMP:20260423T154943
CREATED:20250925T165407Z
LAST-MODIFIED:20250925T165407Z
UID:10002196-1771437600-1771452000@uuspokane.org
SUMMARY:Spokane Camera Club
DESCRIPTION:
URL:https://uuspokane.org/event/spokane-camera-club-2/2026-02-18/
LOCATION:Friendship Hall
CATEGORIES:Meeting
END:VEVENT
BEGIN:VEVENT
DTSTART;TZID=America/Los_Angeles:20260215T150000
DTEND;TZID=America/Los_Angeles:20260215T200000
DTSTAMP:20260423T154943
CREATED:20251204T210127Z
LAST-MODIFIED:20251215T185629Z
UID:10003724-1771167600-1771185600@uuspokane.org
SUMMARY:Private Event: Dan Randal Wright Memorial Service
DESCRIPTION:Building use 3 – 8 PM
URL:https://uuspokane.org/event/private-memorial-service/
LOCATION:Friendship Hall
CATEGORIES:Memorial Service
END:VEVENT
BEGIN:VEVENT
DTSTART;TZID=America/Los_Angeles:20260215T123000
DTEND;TZID=America/Los_Angeles:20260215T140000
DTSTAMP:20260423T154943
CREATED:20260204T193727Z
LAST-MODIFIED:20260204T193727Z
UID:10003123-1771158600-1771164000@uuspokane.org
SUMMARY:Church Potluck
DESCRIPTION:
URL:https://uuspokane.org/event/church-potluck-5/2026-02-15/
LOCATION:Friendship Hall
CATEGORIES:Fellowship
END:VEVENT
BEGIN:VEVENT
DTSTART;TZID=America/Los_Angeles:20260215T110000
DTEND;TZID=America/Los_Angeles:20260215T120000
DTSTAMP:20260423T154943
CREATED:20250924T193853Z
LAST-MODIFIED:20250925T235352Z
UID:10001048-1771153200-1771156800@uuspokane.org
SUMMARY:Sunday Worship
DESCRIPTION:Live Stream Available
URL:https://uuspokane.org/event/sunday-worship-2/2026-02-15/
LOCATION:Sanctuary
CATEGORIES:Worship Service
END:VEVENT
BEGIN:VEVENT
DTSTART;TZID=America/Los_Angeles:20260215T091500
DTEND;TZID=America/Los_Angeles:20260215T101500
DTSTAMP:20260423T154944
CREATED:20250924T193716Z
LAST-MODIFIED:20250925T235209Z
UID:10000787-1771146900-1771150500@uuspokane.org
SUMMARY:Sunday Worship
DESCRIPTION:Live Stream Available
URL:https://uuspokane.org/event/sunday-worship/2026-02-15/
LOCATION:Sanctuary
CATEGORIES:Worship Service
END:VEVENT
BEGIN:VEVENT
DTSTART;TZID=America/Los_Angeles:20260214T210000
DTEND;TZID=America/Los_Angeles:20260214T220000
DTSTAMP:20260423T154944
CREATED:20260115T195145Z
LAST-MODIFIED:20260122T200214Z
UID:10003896-1771102800-1771106400@uuspokane.org
SUMMARY:Valentine's Dance - Cleanup
DESCRIPTION:
URL:https://uuspokane.org/event/sweetheart-dance-cleanup/
LOCATION:Friendship Hall
CATEGORIES:Event Tear Down and Clean Up
ORGANIZER;CN="Nancy Avery":MAILTO:NancyTavery@comcast.net
END:VEVENT
BEGIN:VEVENT
DTSTART;TZID=America/Los_Angeles:20260214T190000
DTEND;TZID=America/Los_Angeles:20260214T210000
DTSTAMP:20260423T154944
CREATED:20251208T220437Z
LAST-MODIFIED:20260211T190127Z
UID:10003847-1771095600-1771102800@uuspokane.org
SUMMARY:Hearts & Soles Valentine's Dance
DESCRIPTION:Celebrate love\, friendship\, and community with us at Hearts & Soles: A Valentine’s Day Dance! Whether you come with a partner\, a friend\, or on your own\, this evening is for everyone who enjoys music\, movement\, and good company. Dress up\, dress down\, or come as you are — just bring your enthusiasm and your dancing shoes. We look forward to sharing this festive and heart-warming evening with you! \nEnjoy an evening of dancing\, tasty snacks and a sweet chocolate fountain. Wine and beer will be available for a suggested $5.00 donation. Music for the evening will be brought to you by our very own DJ\, Susan Tyler Babkirk\, keeping the dance floor lively all night long. \nTickets will be on sale after church on January 25 and February 1\, or you may purchase tickets at the door. Ticket prices are $15.00 for one or $25.00 for two. \nVolunteers Needed:  We could use help with ticket sales\, set-up on Friday\, and clean-up after the dance. Even a short time makes a big difference! Contact Nancy Avery at Nancytavery@comcast.net if you’re able to help.
URL:https://uuspokane.org/event/sweetheart-dance/
LOCATION:Friendship Hall
CATEGORIES:Adult Enrichment,Fellowship
ORGANIZER;CN="Nancy Avery":MAILTO:NancyTavery@comcast.net
END:VEVENT
BEGIN:VEVENT
DTSTART;TZID=America/Los_Angeles:20260214T160000
DTEND;TZID=America/Los_Angeles:20260214T190000
DTSTAMP:20260423T154944
CREATED:20260115T195048Z
LAST-MODIFIED:20260122T200240Z
UID:10003895-1771084800-1771095600@uuspokane.org
SUMMARY:Valentine's Dance - Setup
DESCRIPTION:
URL:https://uuspokane.org/event/sweetheart-dance-setup/
LOCATION:Friendship Hall
CATEGORIES:Event Set Up
ORGANIZER;CN="Nancy Avery":MAILTO:NancyTavery@comcast.net
END:VEVENT
BEGIN:VEVENT
DTSTART;TZID=America/Los_Angeles:20260214T080000
DTEND;TZID=America/Los_Angeles:20260214T110000
DTSTAMP:20260423T154944
CREATED:20251204T210356Z
LAST-MODIFIED:20251204T210356Z
UID:10003725-1771056000-1771066800@uuspokane.org
SUMMARY:Memorial Service Set Up
DESCRIPTION:
URL:https://uuspokane.org/event/memorial-service-set-up/
LOCATION:Friendship Hall
CATEGORIES:Event Set Up
END:VEVENT
BEGIN:VEVENT
DTSTART;TZID=America/Los_Angeles:20260213T183000
DTEND;TZID=America/Los_Angeles:20260213T210000
DTSTAMP:20260423T154944
CREATED:20251208T220320Z
LAST-MODIFIED:20260204T191958Z
UID:10003846-1771007400-1771016400@uuspokane.org
SUMMARY:Meaningful Movies - Is That Black Enough for You?!?
DESCRIPTION:Join us in Spokane for a Screening of Is this Black Enough for You?!? \nFrom celebrated writer and film historian Elvis Mitchell\, Is That Black Enough for You?!? is a documentary and a deeply personal essay. The film examines the craft and power of cinema from a perspective often overlooked: the African American contribution to films released from the landmark era of the 70s. It is a deep dive into the impact that point of view had on movies\, as well as popular culture\, and serves as a love letter to film\, posing questions that have never been asked\, let alone answered. Crucial artistic voices\, including director Charles Burnett\, Samuel L. Jackson\, Whoopi Goldberg\, Laurence Fishburne\, Zendaya and others\, offer their distinctive prism on the creators and films that dazzled and inspired. The film provides insight into the history of Black representation going back to the earliest days of cinema\, and the cultural impact of witnessing unapologetic Blackness. Produced by Steven Soderbergh\, David Fincher\, Angus Wall and Ciara Lacy\, Is That Black Enough for You?!? marks Mitchell’s directorial debut. \n\nFacebook Page: https://facebook.com/events/s/is-that-black-enough-for-you/1608945116933855/?
URL:https://uuspokane.org/event/meaningful-movies-2/
LOCATION:Chapel
CATEGORIES:Social Justice
ORGANIZER;CN="Barb Stuebing":MAILTO:barbstuebing@gmail.com
END:VEVENT
BEGIN:VEVENT
DTSTART;TZID=America/Los_Angeles:20260212T210000
DTEND;TZID=America/Los_Angeles:20260212T220000
DTSTAMP:20260423T154944
CREATED:20260129T181655Z
LAST-MODIFIED:20260129T181655Z
UID:10003985-1770930000-1770933600@uuspokane.org
SUMMARY:Salish School Spokane Storytelling - Clean up
DESCRIPTION:
URL:https://uuspokane.org/event/salish-school-spokane-storytelling-clean-up/
LOCATION:Friendship Hall
CATEGORIES:Event Tear Down and Clean Up
ORGANIZER;CN="Joy Peltier":MAILTO:joy@salishschoolofspokane.org
END:VEVENT
BEGIN:VEVENT
DTSTART;TZID=America/Los_Angeles:20260212T190000
DTEND;TZID=America/Los_Angeles:20260212T210000
DTSTAMP:20260423T154944
CREATED:20260121T225947Z
LAST-MODIFIED:20260203T223503Z
UID:10003897-1770922800-1770930000@uuspokane.org
SUMMARY:Let's Tell Stories (kʷu ksčaptíkʷlaʔx) - Salish School Spokane
DESCRIPTION:Čaptíkʷɬ are the literature\, law\, and scripture of Southern Interior Salish culture\, and winter is an important time to share čaptíkʷɬ. Traditionally\, in the wintertime\, people were gathered together in their permanent homes after a long season of managing and harvesting their root\, fish\, berry and game resources throughout their territory. The short days and long nights of winter provided opportunity for teaching and entertaining with čaptíkʷɬ\, our traditional stories. \nSalish School of Spokane presents an evening of Southern Interior Salish storytelling.  We will share our čaptíkʷɬ\, traditional creation and Coyote stories\, through both traditional and modern means. Stories will be shared in n̓səl̓xčin̓ (Colville Salish) with interpretation to English. All are welcome with complimentary ticketing. \n  \nSeating is limited. Please reserve a seat and free ticket here.
URL:https://uuspokane.org/event/private-event/
LOCATION:Friendship Hall
CATEGORIES:Private Event
ORGANIZER;CN="Joy Peltier":MAILTO:joy@salishschoolofspokane.org
END:VEVENT
END:VCALENDAR