BEGIN:VCALENDAR
VERSION:2.0
PRODID:-//Unitarian Universalist Church of Spokane - ECPv6.15.20//NONSGML v1.0//EN
CALSCALE:GREGORIAN
METHOD:PUBLISH
X-ORIGINAL-URL:https://uuspokane.org
X-WR-CALDESC:Events for Unitarian Universalist Church of Spokane
REFRESH-INTERVAL;VALUE=DURATION:PT1H
X-Robots-Tag:noindex
X-PUBLISHED-TTL:PT1H
BEGIN:VTIMEZONE
TZID:America/Los_Angeles
BEGIN:DAYLIGHT
TZOFFSETFROM:-0800
TZOFFSETTO:-0700
TZNAME:PDT
DTSTART:20250309T100000
END:DAYLIGHT
BEGIN:STANDARD
TZOFFSETFROM:-0700
TZOFFSETTO:-0800
TZNAME:PST
DTSTART:20251102T090000
END:STANDARD
BEGIN:DAYLIGHT
TZOFFSETFROM:-0800
TZOFFSETTO:-0700
TZNAME:PDT
DTSTART:20260308T100000
END:DAYLIGHT
BEGIN:STANDARD
TZOFFSETFROM:-0700
TZOFFSETTO:-0800
TZNAME:PST
DTSTART:20261101T090000
END:STANDARD
BEGIN:DAYLIGHT
TZOFFSETFROM:-0800
TZOFFSETTO:-0700
TZNAME:PDT
DTSTART:20270314T100000
END:DAYLIGHT
BEGIN:STANDARD
TZOFFSETFROM:-0700
TZOFFSETTO:-0800
TZNAME:PST
DTSTART:20271107T090000
END:STANDARD
END:VTIMEZONE
BEGIN:VEVENT
DTSTART;TZID=America/Los_Angeles:20260712T091500
DTEND;TZID=America/Los_Angeles:20260712T101500
DTSTAMP:20260423T172415
CREATED:20250924T193716Z
LAST-MODIFIED:20250925T235209Z
UID:10000808-1783847700-1783851300@uuspokane.org
SUMMARY:Sunday Worship
DESCRIPTION:Live Stream Available
URL:https://uuspokane.org/event/sunday-worship/2026-07-12/
LOCATION:Sanctuary
CATEGORIES:Worship Service
END:VEVENT
BEGIN:VEVENT
DTSTART;TZID=America/Los_Angeles:20260712T110000
DTEND;TZID=America/Los_Angeles:20260712T120000
DTSTAMP:20260423T172416
CREATED:20250924T193853Z
LAST-MODIFIED:20250925T235352Z
UID:10001069-1783854000-1783857600@uuspokane.org
SUMMARY:Sunday Worship
DESCRIPTION:Live Stream Available
URL:https://uuspokane.org/event/sunday-worship-2/2026-07-12/
LOCATION:Sanctuary
CATEGORIES:Worship Service
END:VEVENT
BEGIN:VEVENT
DTSTART;TZID=America/Los_Angeles:20260719T091500
DTEND;TZID=America/Los_Angeles:20260719T101500
DTSTAMP:20260423T172416
CREATED:20250924T193716Z
LAST-MODIFIED:20250925T235209Z
UID:10000809-1784452500-1784456100@uuspokane.org
SUMMARY:Sunday Worship
DESCRIPTION:Live Stream Available
URL:https://uuspokane.org/event/sunday-worship/2026-07-19/
LOCATION:Sanctuary
CATEGORIES:Worship Service
END:VEVENT
BEGIN:VEVENT
DTSTART;TZID=America/Los_Angeles:20260719T110000
DTEND;TZID=America/Los_Angeles:20260719T120000
DTSTAMP:20260423T172416
CREATED:20250924T193853Z
LAST-MODIFIED:20250925T235352Z
UID:10001070-1784458800-1784462400@uuspokane.org
SUMMARY:Sunday Worship
DESCRIPTION:Live Stream Available
URL:https://uuspokane.org/event/sunday-worship-2/2026-07-19/
LOCATION:Sanctuary
CATEGORIES:Worship Service
END:VEVENT
BEGIN:VEVENT
DTSTART;TZID=America/Los_Angeles:20260719T123000
DTEND;TZID=America/Los_Angeles:20260719T140000
DTSTAMP:20260423T172416
CREATED:20260204T193727Z
LAST-MODIFIED:20260204T193727Z
UID:10003128-1784464200-1784469600@uuspokane.org
SUMMARY:Church Potluck
DESCRIPTION:
URL:https://uuspokane.org/event/church-potluck-5/2026-07-19/
LOCATION:Friendship Hall
CATEGORIES:Fellowship
END:VEVENT
BEGIN:VEVENT
DTSTART;TZID=America/Los_Angeles:20260726T091500
DTEND;TZID=America/Los_Angeles:20260726T101500
DTSTAMP:20260423T172416
CREATED:20250924T193716Z
LAST-MODIFIED:20250925T235209Z
UID:10000810-1785057300-1785060900@uuspokane.org
SUMMARY:Sunday Worship
DESCRIPTION:Live Stream Available
URL:https://uuspokane.org/event/sunday-worship/2026-07-26/
LOCATION:Sanctuary
CATEGORIES:Worship Service
END:VEVENT
BEGIN:VEVENT
DTSTART;TZID=America/Los_Angeles:20260726T110000
DTEND;TZID=America/Los_Angeles:20260726T120000
DTSTAMP:20260423T172416
CREATED:20250924T193853Z
LAST-MODIFIED:20250925T235352Z
UID:10001071-1785063600-1785067200@uuspokane.org
SUMMARY:Sunday Worship
DESCRIPTION:Live Stream Available
URL:https://uuspokane.org/event/sunday-worship-2/2026-07-26/
LOCATION:Sanctuary
CATEGORIES:Worship Service
END:VEVENT
BEGIN:VEVENT
DTSTART;TZID=America/Los_Angeles:20260802T091500
DTEND;TZID=America/Los_Angeles:20260802T101500
DTSTAMP:20260423T172416
CREATED:20250924T193716Z
LAST-MODIFIED:20250925T235209Z
UID:10000811-1785662100-1785665700@uuspokane.org
SUMMARY:Sunday Worship
DESCRIPTION:Live Stream Available
URL:https://uuspokane.org/event/sunday-worship/2026-08-02/
LOCATION:Sanctuary
CATEGORIES:Worship Service
END:VEVENT
BEGIN:VEVENT
DTSTART;TZID=America/Los_Angeles:20260802T110000
DTEND;TZID=America/Los_Angeles:20260802T120000
DTSTAMP:20260423T172416
CREATED:20250924T193853Z
LAST-MODIFIED:20250925T235352Z
UID:10001072-1785668400-1785672000@uuspokane.org
SUMMARY:Sunday Worship
DESCRIPTION:Live Stream Available
URL:https://uuspokane.org/event/sunday-worship-2/2026-08-02/
LOCATION:Sanctuary
CATEGORIES:Worship Service
END:VEVENT
BEGIN:VEVENT
DTSTART;TZID=America/Los_Angeles:20260808T113000
DTEND;TZID=America/Los_Angeles:20260808T140000
DTSTAMP:20260423T172416
CREATED:20260204T203641Z
LAST-MODIFIED:20260204T203641Z
UID:10002517-1786188600-1786197600@uuspokane.org
SUMMARY:LGBTQ+ Seniors of the Inland Northwest Potluck
DESCRIPTION:Join us for food\, fellowship and conversation.
URL:https://uuspokane.org/event/lgbtq-seniors-of-the-inland-northwest-potluck-2/2026-08-08/
LOCATION:Friendship Hall
CATEGORIES:Other
ORGANIZER;CN="Nancy Avery":MAILTO:NancyTavery@comcast.net
END:VEVENT
BEGIN:VEVENT
DTSTART;TZID=America/Los_Angeles:20260809T091500
DTEND;TZID=America/Los_Angeles:20260809T101500
DTSTAMP:20260423T172416
CREATED:20250924T193716Z
LAST-MODIFIED:20250925T235209Z
UID:10000812-1786266900-1786270500@uuspokane.org
SUMMARY:Sunday Worship
DESCRIPTION:Live Stream Available
URL:https://uuspokane.org/event/sunday-worship/2026-08-09/
LOCATION:Sanctuary
CATEGORIES:Worship Service
END:VEVENT
BEGIN:VEVENT
DTSTART;TZID=America/Los_Angeles:20260809T110000
DTEND;TZID=America/Los_Angeles:20260809T120000
DTSTAMP:20260423T172416
CREATED:20250924T193853Z
LAST-MODIFIED:20250925T235352Z
UID:10001073-1786273200-1786276800@uuspokane.org
SUMMARY:Sunday Worship
DESCRIPTION:Live Stream Available
URL:https://uuspokane.org/event/sunday-worship-2/2026-08-09/
LOCATION:Sanctuary
CATEGORIES:Worship Service
END:VEVENT
BEGIN:VEVENT
DTSTART;TZID=America/Los_Angeles:20260814T170000
DTEND;TZID=America/Los_Angeles:20260814T183000
DTSTAMP:20260423T172416
CREATED:20260305T213814Z
LAST-MODIFIED:20260305T213814Z
UID:10004174-1786726800-1786732200@uuspokane.org
SUMMARY:Meaningful Movies - Set Up
DESCRIPTION:
URL:https://uuspokane.org/event/meaningful-movies-set-up-2/2026-08-14/
LOCATION:Friendship Hall
CATEGORIES:Event Set Up,Social Justice
ORGANIZER;CN="Barb Stuebing":MAILTO:barbstuebing@gmail.com
END:VEVENT
BEGIN:VEVENT
DTSTART;TZID=America/Los_Angeles:20260814T180000
DTEND;TZID=America/Los_Angeles:20260814T210000
DTSTAMP:20260423T172416
CREATED:20251208T220636Z
LAST-MODIFIED:20260305T213645Z
UID:10004115-1786730400-1786741200@uuspokane.org
SUMMARY:Meaningful Movies
DESCRIPTION:
URL:https://uuspokane.org/event/meaningful-movies-4/2026-08-14/
LOCATION:Chapel
CATEGORIES:Social Justice
ORGANIZER;CN="Barb Stuebing":MAILTO:barbstuebing@gmail.com
END:VEVENT
BEGIN:VEVENT
DTSTART;TZID=America/Los_Angeles:20260816T091500
DTEND;TZID=America/Los_Angeles:20260816T101500
DTSTAMP:20260423T172416
CREATED:20250924T193716Z
LAST-MODIFIED:20250925T235209Z
UID:10000813-1786871700-1786875300@uuspokane.org
SUMMARY:Sunday Worship
DESCRIPTION:Live Stream Available
URL:https://uuspokane.org/event/sunday-worship/2026-08-16/
LOCATION:Sanctuary
CATEGORIES:Worship Service
END:VEVENT
BEGIN:VEVENT
DTSTART;TZID=America/Los_Angeles:20260816T110000
DTEND;TZID=America/Los_Angeles:20260816T120000
DTSTAMP:20260423T172416
CREATED:20250924T193853Z
LAST-MODIFIED:20250925T235352Z
UID:10001074-1786878000-1786881600@uuspokane.org
SUMMARY:Sunday Worship
DESCRIPTION:Live Stream Available
URL:https://uuspokane.org/event/sunday-worship-2/2026-08-16/
LOCATION:Sanctuary
CATEGORIES:Worship Service
END:VEVENT
BEGIN:VEVENT
DTSTART;TZID=America/Los_Angeles:20260816T123000
DTEND;TZID=America/Los_Angeles:20260816T140000
DTSTAMP:20260423T172416
CREATED:20260204T193727Z
LAST-MODIFIED:20260204T193727Z
UID:10003129-1786883400-1786888800@uuspokane.org
SUMMARY:Church Potluck
DESCRIPTION:
URL:https://uuspokane.org/event/church-potluck-5/2026-08-16/
LOCATION:Friendship Hall
CATEGORIES:Fellowship
END:VEVENT
BEGIN:VEVENT
DTSTART;TZID=America/Los_Angeles:20260823T091500
DTEND;TZID=America/Los_Angeles:20260823T101500
DTSTAMP:20260423T172416
CREATED:20250924T193716Z
LAST-MODIFIED:20250925T235209Z
UID:10000814-1787476500-1787480100@uuspokane.org
SUMMARY:Sunday Worship
DESCRIPTION:Live Stream Available
URL:https://uuspokane.org/event/sunday-worship/2026-08-23/
LOCATION:Sanctuary
CATEGORIES:Worship Service
END:VEVENT
BEGIN:VEVENT
DTSTART;TZID=America/Los_Angeles:20260823T110000
DTEND;TZID=America/Los_Angeles:20260823T120000
DTSTAMP:20260423T172416
CREATED:20250924T193853Z
LAST-MODIFIED:20250925T235352Z
UID:10001075-1787482800-1787486400@uuspokane.org
SUMMARY:Sunday Worship
DESCRIPTION:Live Stream Available
URL:https://uuspokane.org/event/sunday-worship-2/2026-08-23/
LOCATION:Sanctuary
CATEGORIES:Worship Service
END:VEVENT
BEGIN:VEVENT
DTSTART;TZID=America/Los_Angeles:20260830T091500
DTEND;TZID=America/Los_Angeles:20260830T101500
DTSTAMP:20260423T172416
CREATED:20250924T193716Z
LAST-MODIFIED:20250925T235209Z
UID:10000815-1788081300-1788084900@uuspokane.org
SUMMARY:Sunday Worship
DESCRIPTION:Live Stream Available
URL:https://uuspokane.org/event/sunday-worship/2026-08-30/
LOCATION:Sanctuary
CATEGORIES:Worship Service
END:VEVENT
BEGIN:VEVENT
DTSTART;TZID=America/Los_Angeles:20260830T110000
DTEND;TZID=America/Los_Angeles:20260830T120000
DTSTAMP:20260423T172416
CREATED:20250924T193853Z
LAST-MODIFIED:20250925T235352Z
UID:10001076-1788087600-1788091200@uuspokane.org
SUMMARY:Sunday Worship
DESCRIPTION:Live Stream Available
URL:https://uuspokane.org/event/sunday-worship-2/2026-08-30/
LOCATION:Sanctuary
CATEGORIES:Worship Service
END:VEVENT
BEGIN:VEVENT
DTSTART;TZID=America/Los_Angeles:20260906T091500
DTEND;TZID=America/Los_Angeles:20260906T101500
DTSTAMP:20260423T172416
CREATED:20250924T193716Z
LAST-MODIFIED:20250925T235209Z
UID:10000816-1788686100-1788689700@uuspokane.org
SUMMARY:Sunday Worship
DESCRIPTION:Live Stream Available
URL:https://uuspokane.org/event/sunday-worship/2026-09-06/
LOCATION:Sanctuary
CATEGORIES:Worship Service
END:VEVENT
BEGIN:VEVENT
DTSTART;TZID=America/Los_Angeles:20260906T110000
DTEND;TZID=America/Los_Angeles:20260906T120000
DTSTAMP:20260423T172416
CREATED:20250924T193853Z
LAST-MODIFIED:20250925T235352Z
UID:10001077-1788692400-1788696000@uuspokane.org
SUMMARY:Sunday Worship
DESCRIPTION:Live Stream Available
URL:https://uuspokane.org/event/sunday-worship-2/2026-09-06/
LOCATION:Sanctuary
CATEGORIES:Worship Service
END:VEVENT
BEGIN:VEVENT
DTSTART;TZID=America/Los_Angeles:20260911T170000
DTEND;TZID=America/Los_Angeles:20260911T183000
DTSTAMP:20260423T172416
CREATED:20260305T213814Z
LAST-MODIFIED:20260305T213814Z
UID:10004175-1789146000-1789151400@uuspokane.org
SUMMARY:Meaningful Movies - Set Up
DESCRIPTION:
URL:https://uuspokane.org/event/meaningful-movies-set-up-2/2026-09-11/
LOCATION:Friendship Hall
CATEGORIES:Event Set Up,Social Justice
ORGANIZER;CN="Barb Stuebing":MAILTO:barbstuebing@gmail.com
END:VEVENT
BEGIN:VEVENT
DTSTART;TZID=America/Los_Angeles:20260911T180000
DTEND;TZID=America/Los_Angeles:20260911T210000
DTSTAMP:20260423T172416
CREATED:20251208T220636Z
LAST-MODIFIED:20260305T213645Z
UID:10004116-1789149600-1789160400@uuspokane.org
SUMMARY:Meaningful Movies
DESCRIPTION:
URL:https://uuspokane.org/event/meaningful-movies-4/2026-09-11/
LOCATION:Chapel
CATEGORIES:Social Justice
ORGANIZER;CN="Barb Stuebing":MAILTO:barbstuebing@gmail.com
END:VEVENT
BEGIN:VEVENT
DTSTART;TZID=America/Los_Angeles:20260912T113000
DTEND;TZID=America/Los_Angeles:20260912T140000
DTSTAMP:20260423T172416
CREATED:20260204T203641Z
LAST-MODIFIED:20260204T203641Z
UID:10002518-1789212600-1789221600@uuspokane.org
SUMMARY:LGBTQ+ Seniors of the Inland Northwest Potluck
DESCRIPTION:Join us for food\, fellowship and conversation.
URL:https://uuspokane.org/event/lgbtq-seniors-of-the-inland-northwest-potluck-2/2026-09-12/
LOCATION:Friendship Hall
CATEGORIES:Other
ORGANIZER;CN="Nancy Avery":MAILTO:NancyTavery@comcast.net
END:VEVENT
BEGIN:VEVENT
DTSTART;TZID=America/Los_Angeles:20260913T091500
DTEND;TZID=America/Los_Angeles:20260913T101500
DTSTAMP:20260423T172416
CREATED:20250924T193716Z
LAST-MODIFIED:20250925T235209Z
UID:10000817-1789290900-1789294500@uuspokane.org
SUMMARY:Sunday Worship
DESCRIPTION:Live Stream Available
URL:https://uuspokane.org/event/sunday-worship/2026-09-13/
LOCATION:Sanctuary
CATEGORIES:Worship Service
END:VEVENT
BEGIN:VEVENT
DTSTART;TZID=America/Los_Angeles:20260913T110000
DTEND;TZID=America/Los_Angeles:20260913T120000
DTSTAMP:20260423T172416
CREATED:20250924T193853Z
LAST-MODIFIED:20250925T235352Z
UID:10001078-1789297200-1789300800@uuspokane.org
SUMMARY:Sunday Worship
DESCRIPTION:Live Stream Available
URL:https://uuspokane.org/event/sunday-worship-2/2026-09-13/
LOCATION:Sanctuary
CATEGORIES:Worship Service
END:VEVENT
BEGIN:VEVENT
DTSTART;TZID=America/Los_Angeles:20260920T091500
DTEND;TZID=America/Los_Angeles:20260920T101500
DTSTAMP:20260423T172416
CREATED:20250924T193716Z
LAST-MODIFIED:20250925T235209Z
UID:10000818-1789895700-1789899300@uuspokane.org
SUMMARY:Sunday Worship
DESCRIPTION:Live Stream Available
URL:https://uuspokane.org/event/sunday-worship/2026-09-20/
LOCATION:Sanctuary
CATEGORIES:Worship Service
END:VEVENT
BEGIN:VEVENT
DTSTART;TZID=America/Los_Angeles:20260920T110000
DTEND;TZID=America/Los_Angeles:20260920T120000
DTSTAMP:20260423T172416
CREATED:20250924T193853Z
LAST-MODIFIED:20250925T235352Z
UID:10001079-1789902000-1789905600@uuspokane.org
SUMMARY:Sunday Worship
DESCRIPTION:Live Stream Available
URL:https://uuspokane.org/event/sunday-worship-2/2026-09-20/
LOCATION:Sanctuary
CATEGORIES:Worship Service
END:VEVENT
END:VCALENDAR