BEGIN:VCALENDAR
VERSION:2.0
PRODID:-//Unitarian Universalist Church of Spokane - ECPv6.15.20//NONSGML v1.0//EN
CALSCALE:GREGORIAN
METHOD:PUBLISH
X-ORIGINAL-URL:https://uuspokane.org
X-WR-CALDESC:Events for Unitarian Universalist Church of Spokane
REFRESH-INTERVAL;VALUE=DURATION:PT1H
X-Robots-Tag:noindex
X-PUBLISHED-TTL:PT1H
BEGIN:VTIMEZONE
TZID:America/Los_Angeles
BEGIN:DAYLIGHT
TZOFFSETFROM:-0800
TZOFFSETTO:-0700
TZNAME:PDT
DTSTART:20240310T100000
END:DAYLIGHT
BEGIN:STANDARD
TZOFFSETFROM:-0700
TZOFFSETTO:-0800
TZNAME:PST
DTSTART:20241103T090000
END:STANDARD
BEGIN:DAYLIGHT
TZOFFSETFROM:-0800
TZOFFSETTO:-0700
TZNAME:PDT
DTSTART:20250309T100000
END:DAYLIGHT
BEGIN:STANDARD
TZOFFSETFROM:-0700
TZOFFSETTO:-0800
TZNAME:PST
DTSTART:20251102T090000
END:STANDARD
BEGIN:DAYLIGHT
TZOFFSETFROM:-0800
TZOFFSETTO:-0700
TZNAME:PDT
DTSTART:20260308T100000
END:DAYLIGHT
BEGIN:STANDARD
TZOFFSETFROM:-0700
TZOFFSETTO:-0800
TZNAME:PST
DTSTART:20261101T090000
END:STANDARD
BEGIN:DAYLIGHT
TZOFFSETFROM:-0800
TZOFFSETTO:-0700
TZNAME:PDT
DTSTART:20270314T100000
END:DAYLIGHT
BEGIN:STANDARD
TZOFFSETFROM:-0700
TZOFFSETTO:-0800
TZNAME:PST
DTSTART:20271107T090000
END:STANDARD
END:VTIMEZONE
BEGIN:VEVENT
DTSTART;TZID=America/Los_Angeles:20260121T180000
DTEND;TZID=America/Los_Angeles:20260121T220000
DTSTAMP:20260423T220459
CREATED:20250925T165407Z
LAST-MODIFIED:20250925T165407Z
UID:10002195-1769018400-1769032800@uuspokane.org
SUMMARY:Spokane Camera Club
DESCRIPTION:
URL:https://uuspokane.org/event/spokane-camera-club-2/2026-01-21/
LOCATION:Friendship Hall
CATEGORIES:Meeting
END:VEVENT
BEGIN:VEVENT
DTSTART;TZID=America/Los_Angeles:20260118T123000
DTEND;TZID=America/Los_Angeles:20260118T140000
DTSTAMP:20260423T220459
CREATED:20260115T185447Z
LAST-MODIFIED:20260115T185501Z
UID:10003122-1768739400-1768744800@uuspokane.org
SUMMARY:Church Potluck - Canceled
DESCRIPTION:
URL:https://uuspokane.org/event/church-potluck-4/
LOCATION:Friendship Hall
CATEGORIES:Fellowship
END:VEVENT
BEGIN:VEVENT
DTSTART;TZID=America/Los_Angeles:20260118T110000
DTEND;TZID=America/Los_Angeles:20260118T120000
DTSTAMP:20260423T220459
CREATED:20250924T193853Z
LAST-MODIFIED:20250925T235352Z
UID:10001044-1768734000-1768737600@uuspokane.org
SUMMARY:Sunday Worship
DESCRIPTION:Live Stream Available
URL:https://uuspokane.org/event/sunday-worship-2/2026-01-18/
LOCATION:Sanctuary
CATEGORIES:Worship Service
END:VEVENT
BEGIN:VEVENT
DTSTART;TZID=America/Los_Angeles:20260118T091500
DTEND;TZID=America/Los_Angeles:20260118T101500
DTSTAMP:20260423T220459
CREATED:20250924T193716Z
LAST-MODIFIED:20250925T235209Z
UID:10000783-1768727700-1768731300@uuspokane.org
SUMMARY:Sunday Worship
DESCRIPTION:Live Stream Available
URL:https://uuspokane.org/event/sunday-worship/2026-01-18/
LOCATION:Sanctuary
CATEGORIES:Worship Service
END:VEVENT
BEGIN:VEVENT
DTSTART;TZID=America/Los_Angeles:20260117T130000
DTEND;TZID=America/Los_Angeles:20260117T150000
DTSTAMP:20260423T220459
CREATED:20260105T214725Z
LAST-MODIFIED:20260105T231336Z
UID:10003859-1768654800-1768662000@uuspokane.org
SUMMARY:Linda Hodge Memorial Service
DESCRIPTION:Building use 12-4 PM
URL:https://uuspokane.org/event/linda-hodges-memorial-service/
LOCATION:Sanctuary
CATEGORIES:Memorial Service
END:VEVENT
BEGIN:VEVENT
DTSTART;TZID=America/Los_Angeles:20260116T160000
DTEND;TZID=America/Los_Angeles:20260116T200000
DTSTAMP:20260423T220459
CREATED:20251217T163013Z
LAST-MODIFIED:20251217T163013Z
UID:10003856-1768579200-1768593600@uuspokane.org
SUMMARY:Windsong School Meeting
DESCRIPTION:
URL:https://uuspokane.org/event/windsong-school-meeting/
LOCATION:Friendship Hall
CATEGORIES:Meeting
END:VEVENT
BEGIN:VEVENT
DTSTART;TZID=America/Los_Angeles:20260111T110000
DTEND;TZID=America/Los_Angeles:20260111T120000
DTSTAMP:20260423T220459
CREATED:20250924T193853Z
LAST-MODIFIED:20250925T235352Z
UID:10001043-1768129200-1768132800@uuspokane.org
SUMMARY:Sunday Worship
DESCRIPTION:Live Stream Available
URL:https://uuspokane.org/event/sunday-worship-2/2026-01-11/
LOCATION:Sanctuary
CATEGORIES:Worship Service
END:VEVENT
BEGIN:VEVENT
DTSTART;TZID=America/Los_Angeles:20260111T091500
DTEND;TZID=America/Los_Angeles:20260111T101500
DTSTAMP:20260423T220459
CREATED:20250924T193716Z
LAST-MODIFIED:20250925T235209Z
UID:10000782-1768122900-1768126500@uuspokane.org
SUMMARY:Sunday Worship
DESCRIPTION:Live Stream Available
URL:https://uuspokane.org/event/sunday-worship/2026-01-11/
LOCATION:Sanctuary
CATEGORIES:Worship Service
END:VEVENT
BEGIN:VEVENT
DTSTART;TZID=America/Los_Angeles:20260110T113000
DTEND;TZID=America/Los_Angeles:20260110T140000
DTSTAMP:20260423T220459
CREATED:20250925T172601Z
LAST-MODIFIED:20251030T173052Z
UID:10002510-1768044600-1768053600@uuspokane.org
SUMMARY:LGBTQ+ Seniors of the Inland Northwest Potluck
DESCRIPTION:Join us for food\, fellowship and conversation.
URL:https://uuspokane.org/event/lgbtq-seniors-of-the-inland-northwest-potluck/2026-01-10/
LOCATION:Friendship Hall
CATEGORIES:Other
ORGANIZER;CN="Nancy Avery":MAILTO:NancyTavery@comcast.net
END:VEVENT
BEGIN:VEVENT
DTSTART;TZID=America/Los_Angeles:20260109T183000
DTEND;TZID=America/Los_Angeles:20260109T220000
DTSTAMP:20260423T220459
CREATED:20251208T220051Z
LAST-MODIFIED:20251230T185842Z
UID:10003845-1767983400-1767996000@uuspokane.org
SUMMARY:Meaningful Movies: Healing Us
DESCRIPTION:Approximately 68\,000 Americans will die this year due to lack of adequate health care and nearly half a million families will file for bankruptcy due to health care costs. These numbers only represent a fraction of the trauma that millions of people experience everyday in the American for-profit health care industry. The country is divided and wounded and yet 70% of Americans believe health care is a human right. Could the fight for health care be the last hope for unifying and healing America? \nHealing Us is a call for unity\, a cry for help and a voice for hope in America’s ongoing battle for health care justice. Michael Doyle from Whole Washington will be joining us for conversation about a possible ballot initiative for Washington state. We have also invited several local health care workers.
URL:https://uuspokane.org/event/meaningful-movies/
LOCATION:Chapel
CATEGORIES:Social Justice
ORGANIZER;CN="Barb Stuebing":MAILTO:barbstuebing@gmail.com
END:VEVENT
BEGIN:VEVENT
DTSTART;TZID=America/Los_Angeles:20260109T170000
DTEND;TZID=America/Los_Angeles:20260109T183000
DTSTAMP:20260423T220459
CREATED:20251216T193141Z
LAST-MODIFIED:20251230T185936Z
UID:10003855-1767978000-1767983400@uuspokane.org
SUMMARY:Meaningful Movies Setup
DESCRIPTION:
URL:https://uuspokane.org/event/meaningful-movies-setup/
LOCATION:Friendship Hall
CATEGORIES:Event Set Up
ORGANIZER;CN="Barb Stuebing":MAILTO:barbstuebing@gmail.com
END:VEVENT
BEGIN:VEVENT
DTSTART;TZID=America/Los_Angeles:20260107T180000
DTEND;TZID=America/Los_Angeles:20260107T220000
DTSTAMP:20260423T220459
CREATED:20250925T165107Z
LAST-MODIFIED:20250925T165225Z
UID:10002135-1767808800-1767823200@uuspokane.org
SUMMARY:Spokane Camera Club
DESCRIPTION:
URL:https://uuspokane.org/event/spokane-camera-club/2026-01-07/
LOCATION:Friendship Hall
CATEGORIES:Meeting
END:VEVENT
BEGIN:VEVENT
DTSTART;TZID=America/Los_Angeles:20260104T110000
DTEND;TZID=America/Los_Angeles:20260104T120000
DTSTAMP:20260423T220459
CREATED:20250924T193853Z
LAST-MODIFIED:20250925T235352Z
UID:10001042-1767524400-1767528000@uuspokane.org
SUMMARY:Sunday Worship
DESCRIPTION:Live Stream Available
URL:https://uuspokane.org/event/sunday-worship-2/2026-01-04/
LOCATION:Sanctuary
CATEGORIES:Worship Service
END:VEVENT
BEGIN:VEVENT
DTSTART;TZID=America/Los_Angeles:20260104T091500
DTEND;TZID=America/Los_Angeles:20260104T101500
DTSTAMP:20260423T220459
CREATED:20250924T193716Z
LAST-MODIFIED:20250925T235209Z
UID:10000781-1767518100-1767521700@uuspokane.org
SUMMARY:Sunday Worship
DESCRIPTION:Live Stream Available
URL:https://uuspokane.org/event/sunday-worship/2026-01-04/
LOCATION:Sanctuary
CATEGORIES:Worship Service
END:VEVENT
BEGIN:VEVENT
DTSTART;TZID=America/Los_Angeles:20260103T160000
DTEND;TZID=America/Los_Angeles:20260103T213000
DTSTAMP:20260423T220459
CREATED:20250925T165921Z
LAST-MODIFIED:20250925T165921Z
UID:10002321-1767456000-1767475800@uuspokane.org
SUMMARY:INWBMA Meeting
DESCRIPTION:
URL:https://uuspokane.org/event/inwbma-meeting/2026-01-03/
LOCATION:Sanctuary
CATEGORIES:Meeting
END:VEVENT
BEGIN:VEVENT
DTSTART;TZID=America/Los_Angeles:20251228T110000
DTEND;TZID=America/Los_Angeles:20251228T120000
DTSTAMP:20260423T220459
CREATED:20250924T193853Z
LAST-MODIFIED:20250925T235352Z
UID:10001041-1766919600-1766923200@uuspokane.org
SUMMARY:Sunday Worship
DESCRIPTION:Live Stream Available
URL:https://uuspokane.org/event/sunday-worship-2/2025-12-28/
LOCATION:Sanctuary
CATEGORIES:Worship Service
END:VEVENT
BEGIN:VEVENT
DTSTART;TZID=America/Los_Angeles:20251228T091500
DTEND;TZID=America/Los_Angeles:20251228T101500
DTSTAMP:20260423T220459
CREATED:20250924T193716Z
LAST-MODIFIED:20250925T235209Z
UID:10000780-1766913300-1766916900@uuspokane.org
SUMMARY:Sunday Worship
DESCRIPTION:Live Stream Available
URL:https://uuspokane.org/event/sunday-worship/2025-12-28/
LOCATION:Sanctuary
CATEGORIES:Worship Service
END:VEVENT
BEGIN:VEVENT
DTSTART;TZID=America/Los_Angeles:20251224T163000
DTEND;TZID=America/Los_Angeles:20251224T180000
DTSTAMP:20260423T220459
CREATED:20251124T222258Z
LAST-MODIFIED:20251124T222536Z
UID:10003642-1766593800-1766599200@uuspokane.org
SUMMARY:Cosmic Advent Service
DESCRIPTION:Join us for our annual Cosmic Advent Service being held at UUCS in the Sanctuary. Join Todd and our worship team for this holiday ritual with music\, readings and a special message from Todd. We hope to see you all there\, Happy Holidays!
URL:https://uuspokane.org/event/cosmic-advent-service/
LOCATION:Sanctuary
CATEGORIES:Worship Service
END:VEVENT
BEGIN:VEVENT
DTSTART;TZID=America/Los_Angeles:20251223T183000
DTEND;TZID=America/Los_Angeles:20251223T200000
DTSTAMP:20260423T220459
CREATED:20251203T172258Z
LAST-MODIFIED:20251216T184701Z
UID:10003661-1766514600-1766520000@uuspokane.org
SUMMARY:Yuletide Rhythms: An Evening of Music\, Cheer\, and Community
DESCRIPTION:As the winter nights draw near and the season’s sparkle fills the air\, we invite you to gather with us for Yuletide Rhythms\, a joyful evening of holiday music\, dancing\, and community. Whether you arrive in your most outrageous\, ugly sweater or shine in glitter and pearls\, this celebration promises warmth\, laughter\, and festive fun. \nEnjoy live holiday music. Together they will fill the sanctuary with seasonal favorites and lively tunes perfect for listening\, dancing\, and celebrating the spirit of the season. \nGuests can look forward to holiday cheer in abundance—snacks\, wine\, beer\, and egg nog will all be available. Wine and beer will be offered for a suggested donation of $5.00. \nTickets: $15.00 each/2 for $25.00 \nShare the warmth of community\, savor the music\, and enjoy a festive evening UU-style. Children are welcome for free. \nHelp Needed \n\nTicket Sales – before the event and at the door\, or serving wine and beer\nSet-Up Crew – decorating and preparing the space on Tuesday\, Dec. 23 at 10 AM\nClean-Up Crew – helping restore the sanctuary afterward\n\nIf you’re able to help in any of these areas\, please contact Nancy Avery at NancyTavery@comcast.net or 509-385-1344. Your support makes events like this possible—and magical.
URL:https://uuspokane.org/event/christmas-eve-eve-holiday-concert-party/
LOCATION:Friendship Hall
CATEGORIES:Adult Enrichment,Fellowship
ORGANIZER;CN="Nancy Avery":MAILTO:NancyTavery@comcast.net
END:VEVENT
BEGIN:VEVENT
DTSTART;TZID=America/Los_Angeles:20251223T120000
DTEND;TZID=America/Los_Angeles:20251223T170000
DTSTAMP:20260423T220459
CREATED:20251203T172343Z
LAST-MODIFIED:20251203T172343Z
UID:10003662-1766491200-1766509200@uuspokane.org
SUMMARY:Party Set Up
DESCRIPTION:
URL:https://uuspokane.org/event/party-set-up/
LOCATION:Friendship Hall
CATEGORIES:Event Set Up
END:VEVENT
BEGIN:VEVENT
DTSTART;TZID=America/Los_Angeles:20251221T123000
DTEND;TZID=America/Los_Angeles:20251221T140000
DTSTAMP:20260423T220459
CREATED:20251216T190149Z
LAST-MODIFIED:20251216T191128Z
UID:10003121-1766320200-1766325600@uuspokane.org
SUMMARY:Church Potluck
DESCRIPTION:Let’s celebrate Christmas with good food and friends! This Sunday after the 2nd service is our monthly potluck. Ham will be provided by Lynn Diddens. We do need all the fixings! If your last name starts with A-M please bring a side dish/vegetable and if your last name starts with N-Z please bring either bread or dessert. Let’s enjoy the season together!
URL:https://uuspokane.org/event/church-potluck-3/
LOCATION:Friendship Hall
CATEGORIES:Fellowship
ORGANIZER;CN="Michele Attwood":MAILTO:jaimebrand12@hotmail.com
END:VEVENT
BEGIN:VEVENT
DTSTART;TZID=America/Los_Angeles:20251221T110000
DTEND;TZID=America/Los_Angeles:20251221T120000
DTSTAMP:20260423T220459
CREATED:20250924T193853Z
LAST-MODIFIED:20250925T235352Z
UID:10001040-1766314800-1766318400@uuspokane.org
SUMMARY:Sunday Worship
DESCRIPTION:Live Stream Available
URL:https://uuspokane.org/event/sunday-worship-2/2025-12-21/
LOCATION:Sanctuary
CATEGORIES:Worship Service
END:VEVENT
BEGIN:VEVENT
DTSTART;TZID=America/Los_Angeles:20251221T091500
DTEND;TZID=America/Los_Angeles:20251221T101500
DTSTAMP:20260423T220459
CREATED:20250924T193716Z
LAST-MODIFIED:20250925T235209Z
UID:10000779-1766308500-1766312100@uuspokane.org
SUMMARY:Sunday Worship
DESCRIPTION:Live Stream Available
URL:https://uuspokane.org/event/sunday-worship/2025-12-21/
LOCATION:Sanctuary
CATEGORIES:Worship Service
END:VEVENT
BEGIN:VEVENT
DTSTART;TZID=America/Los_Angeles:20251219T080000
DTEND;TZID=America/Los_Angeles:20251219T150000
DTSTAMP:20260423T220459
CREATED:20251118T001123Z
LAST-MODIFIED:20251118T001123Z
UID:10003637-1766131200-1766156400@uuspokane.org
SUMMARY:Windsong Recital
DESCRIPTION:
URL:https://uuspokane.org/event/windsong-recital/
LOCATION:Sanctuary
CATEGORIES:Recital
END:VEVENT
BEGIN:VEVENT
DTSTART;TZID=America/Los_Angeles:20251218T090000
DTEND;TZID=America/Los_Angeles:20251218T150000
DTSTAMP:20260423T220459
CREATED:20251118T001019Z
LAST-MODIFIED:20251118T001019Z
UID:10003636-1766048400-1766070000@uuspokane.org
SUMMARY:Windsong Rehearsal
DESCRIPTION:
URL:https://uuspokane.org/event/windsong-rehearsal/
LOCATION:Sanctuary
CATEGORIES:Rehearsal
END:VEVENT
BEGIN:VEVENT
DTSTART;TZID=America/Los_Angeles:20251217T180000
DTEND;TZID=America/Los_Angeles:20251217T220000
DTSTAMP:20260423T220459
CREATED:20250925T165407Z
LAST-MODIFIED:20250925T165407Z
UID:10002194-1765994400-1766008800@uuspokane.org
SUMMARY:Spokane Camera Club
DESCRIPTION:
URL:https://uuspokane.org/event/spokane-camera-club-2/2025-12-17/
LOCATION:Friendship Hall
CATEGORIES:Meeting
END:VEVENT
BEGIN:VEVENT
DTSTART;TZID=America/Los_Angeles:20251217T160000
DTEND;TZID=America/Los_Angeles:20251217T180000
DTSTAMP:20260423T220459
CREATED:20250925T233834Z
LAST-MODIFIED:20250925T233834Z
UID:10003366-1765987200-1765994400@uuspokane.org
SUMMARY:Spokane Camera Club Potluck
DESCRIPTION:
URL:https://uuspokane.org/event/spokane-camera-club-potluck/
LOCATION:Friendship Hall
CATEGORIES:Private Event
END:VEVENT
BEGIN:VEVENT
DTSTART;TZID=America/Los_Angeles:20251214T110000
DTEND;TZID=America/Los_Angeles:20251214T120000
DTSTAMP:20260423T220459
CREATED:20250924T193853Z
LAST-MODIFIED:20250925T235352Z
UID:10001039-1765710000-1765713600@uuspokane.org
SUMMARY:Sunday Worship
DESCRIPTION:Live Stream Available
URL:https://uuspokane.org/event/sunday-worship-2/2025-12-14/
LOCATION:Sanctuary
CATEGORIES:Worship Service
END:VEVENT
BEGIN:VEVENT
DTSTART;TZID=America/Los_Angeles:20251214T091500
DTEND;TZID=America/Los_Angeles:20251214T101500
DTSTAMP:20260423T220459
CREATED:20250924T193716Z
LAST-MODIFIED:20250925T235209Z
UID:10000778-1765703700-1765707300@uuspokane.org
SUMMARY:Sunday Worship
DESCRIPTION:Live Stream Available
URL:https://uuspokane.org/event/sunday-worship/2025-12-14/
LOCATION:Sanctuary
CATEGORIES:Worship Service
END:VEVENT
BEGIN:VEVENT
DTSTART;TZID=America/Los_Angeles:20251213T150000
DTEND;TZID=America/Los_Angeles:20251213T170000
DTSTAMP:20260423T220459
CREATED:20251209T203101Z
LAST-MODIFIED:20251209T210229Z
UID:10003852-1765638000-1765645200@uuspokane.org
SUMMARY:Kay Parkin Memorial Service
DESCRIPTION:Building Use 2 – 6 PM
URL:https://uuspokane.org/event/kay-parkin-memorial-service/
LOCATION:Friendship Hall
CATEGORIES:Memorial Service
END:VEVENT
END:VCALENDAR