BEGIN:VCALENDAR
VERSION:2.0
PRODID:-//Unitarian Universalist Church of Spokane - ECPv6.15.20//NONSGML v1.0//EN
CALSCALE:GREGORIAN
METHOD:PUBLISH
X-ORIGINAL-URL:https://uuspokane.org
X-WR-CALDESC:Events for Unitarian Universalist Church of Spokane
REFRESH-INTERVAL;VALUE=DURATION:PT1H
X-Robots-Tag:noindex
X-PUBLISHED-TTL:PT1H
BEGIN:VTIMEZONE
TZID:America/Los_Angeles
BEGIN:DAYLIGHT
TZOFFSETFROM:-0800
TZOFFSETTO:-0700
TZNAME:PDT
DTSTART:20250309T100000
END:DAYLIGHT
BEGIN:STANDARD
TZOFFSETFROM:-0700
TZOFFSETTO:-0800
TZNAME:PST
DTSTART:20251102T090000
END:STANDARD
BEGIN:DAYLIGHT
TZOFFSETFROM:-0800
TZOFFSETTO:-0700
TZNAME:PDT
DTSTART:20260308T100000
END:DAYLIGHT
BEGIN:STANDARD
TZOFFSETFROM:-0700
TZOFFSETTO:-0800
TZNAME:PST
DTSTART:20261101T090000
END:STANDARD
BEGIN:DAYLIGHT
TZOFFSETFROM:-0800
TZOFFSETTO:-0700
TZNAME:PDT
DTSTART:20270314T100000
END:DAYLIGHT
BEGIN:STANDARD
TZOFFSETFROM:-0700
TZOFFSETTO:-0800
TZNAME:PST
DTSTART:20271107T090000
END:STANDARD
END:VTIMEZONE
BEGIN:VEVENT
DTSTART;TZID=America/Los_Angeles:20260830T110000
DTEND;TZID=America/Los_Angeles:20260830T120000
DTSTAMP:20260423T203632
CREATED:20250924T193853Z
LAST-MODIFIED:20250925T235352Z
UID:10001076-1788087600-1788091200@uuspokane.org
SUMMARY:Sunday Worship
DESCRIPTION:Live Stream Available
URL:https://uuspokane.org/event/sunday-worship-2/2026-08-30/
LOCATION:Sanctuary
CATEGORIES:Worship Service
END:VEVENT
BEGIN:VEVENT
DTSTART;TZID=America/Los_Angeles:20260906T091500
DTEND;TZID=America/Los_Angeles:20260906T101500
DTSTAMP:20260423T203632
CREATED:20250924T193716Z
LAST-MODIFIED:20250925T235209Z
UID:10000816-1788686100-1788689700@uuspokane.org
SUMMARY:Sunday Worship
DESCRIPTION:Live Stream Available
URL:https://uuspokane.org/event/sunday-worship/2026-09-06/
LOCATION:Sanctuary
CATEGORIES:Worship Service
END:VEVENT
BEGIN:VEVENT
DTSTART;TZID=America/Los_Angeles:20260906T110000
DTEND;TZID=America/Los_Angeles:20260906T120000
DTSTAMP:20260423T203632
CREATED:20250924T193853Z
LAST-MODIFIED:20250925T235352Z
UID:10001077-1788692400-1788696000@uuspokane.org
SUMMARY:Sunday Worship
DESCRIPTION:Live Stream Available
URL:https://uuspokane.org/event/sunday-worship-2/2026-09-06/
LOCATION:Sanctuary
CATEGORIES:Worship Service
END:VEVENT
BEGIN:VEVENT
DTSTART;TZID=America/Los_Angeles:20260911T170000
DTEND;TZID=America/Los_Angeles:20260911T183000
DTSTAMP:20260423T203632
CREATED:20260305T213814Z
LAST-MODIFIED:20260305T213814Z
UID:10004175-1789146000-1789151400@uuspokane.org
SUMMARY:Meaningful Movies - Set Up
DESCRIPTION:
URL:https://uuspokane.org/event/meaningful-movies-set-up-2/2026-09-11/
LOCATION:Friendship Hall
CATEGORIES:Event Set Up,Social Justice
ORGANIZER;CN="Barb Stuebing":MAILTO:barbstuebing@gmail.com
END:VEVENT
BEGIN:VEVENT
DTSTART;TZID=America/Los_Angeles:20260911T180000
DTEND;TZID=America/Los_Angeles:20260911T210000
DTSTAMP:20260423T203632
CREATED:20251208T220636Z
LAST-MODIFIED:20260305T213645Z
UID:10004116-1789149600-1789160400@uuspokane.org
SUMMARY:Meaningful Movies
DESCRIPTION:
URL:https://uuspokane.org/event/meaningful-movies-4/2026-09-11/
LOCATION:Chapel
CATEGORIES:Social Justice
ORGANIZER;CN="Barb Stuebing":MAILTO:barbstuebing@gmail.com
END:VEVENT
BEGIN:VEVENT
DTSTART;TZID=America/Los_Angeles:20260912T113000
DTEND;TZID=America/Los_Angeles:20260912T140000
DTSTAMP:20260423T203632
CREATED:20260204T203641Z
LAST-MODIFIED:20260204T203641Z
UID:10002518-1789212600-1789221600@uuspokane.org
SUMMARY:LGBTQ+ Seniors of the Inland Northwest Potluck
DESCRIPTION:Join us for food\, fellowship and conversation.
URL:https://uuspokane.org/event/lgbtq-seniors-of-the-inland-northwest-potluck-2/2026-09-12/
LOCATION:Friendship Hall
CATEGORIES:Other
ORGANIZER;CN="Nancy Avery":MAILTO:NancyTavery@comcast.net
END:VEVENT
BEGIN:VEVENT
DTSTART;TZID=America/Los_Angeles:20260913T091500
DTEND;TZID=America/Los_Angeles:20260913T101500
DTSTAMP:20260423T203632
CREATED:20250924T193716Z
LAST-MODIFIED:20250925T235209Z
UID:10000817-1789290900-1789294500@uuspokane.org
SUMMARY:Sunday Worship
DESCRIPTION:Live Stream Available
URL:https://uuspokane.org/event/sunday-worship/2026-09-13/
LOCATION:Sanctuary
CATEGORIES:Worship Service
END:VEVENT
BEGIN:VEVENT
DTSTART;TZID=America/Los_Angeles:20260913T110000
DTEND;TZID=America/Los_Angeles:20260913T120000
DTSTAMP:20260423T203632
CREATED:20250924T193853Z
LAST-MODIFIED:20250925T235352Z
UID:10001078-1789297200-1789300800@uuspokane.org
SUMMARY:Sunday Worship
DESCRIPTION:Live Stream Available
URL:https://uuspokane.org/event/sunday-worship-2/2026-09-13/
LOCATION:Sanctuary
CATEGORIES:Worship Service
END:VEVENT
BEGIN:VEVENT
DTSTART;TZID=America/Los_Angeles:20260920T091500
DTEND;TZID=America/Los_Angeles:20260920T101500
DTSTAMP:20260423T203632
CREATED:20250924T193716Z
LAST-MODIFIED:20250925T235209Z
UID:10000818-1789895700-1789899300@uuspokane.org
SUMMARY:Sunday Worship
DESCRIPTION:Live Stream Available
URL:https://uuspokane.org/event/sunday-worship/2026-09-20/
LOCATION:Sanctuary
CATEGORIES:Worship Service
END:VEVENT
BEGIN:VEVENT
DTSTART;TZID=America/Los_Angeles:20260920T110000
DTEND;TZID=America/Los_Angeles:20260920T120000
DTSTAMP:20260423T203632
CREATED:20250924T193853Z
LAST-MODIFIED:20250925T235352Z
UID:10001079-1789902000-1789905600@uuspokane.org
SUMMARY:Sunday Worship
DESCRIPTION:Live Stream Available
URL:https://uuspokane.org/event/sunday-worship-2/2026-09-20/
LOCATION:Sanctuary
CATEGORIES:Worship Service
END:VEVENT
BEGIN:VEVENT
DTSTART;TZID=America/Los_Angeles:20260920T123000
DTEND;TZID=America/Los_Angeles:20260920T140000
DTSTAMP:20260423T203632
CREATED:20260204T193727Z
LAST-MODIFIED:20260204T193727Z
UID:10003130-1789907400-1789912800@uuspokane.org
SUMMARY:Church Potluck
DESCRIPTION:
URL:https://uuspokane.org/event/church-potluck-5/2026-09-20/
LOCATION:Friendship Hall
CATEGORIES:Fellowship
END:VEVENT
BEGIN:VEVENT
DTSTART;TZID=America/Los_Angeles:20260927T091500
DTEND;TZID=America/Los_Angeles:20260927T101500
DTSTAMP:20260423T203632
CREATED:20250924T193716Z
LAST-MODIFIED:20250925T235209Z
UID:10000819-1790500500-1790504100@uuspokane.org
SUMMARY:Sunday Worship
DESCRIPTION:Live Stream Available
URL:https://uuspokane.org/event/sunday-worship/2026-09-27/
LOCATION:Sanctuary
CATEGORIES:Worship Service
END:VEVENT
BEGIN:VEVENT
DTSTART;TZID=America/Los_Angeles:20260927T110000
DTEND;TZID=America/Los_Angeles:20260927T120000
DTSTAMP:20260423T203632
CREATED:20250924T193853Z
LAST-MODIFIED:20250925T235352Z
UID:10001080-1790506800-1790510400@uuspokane.org
SUMMARY:Sunday Worship
DESCRIPTION:Live Stream Available
URL:https://uuspokane.org/event/sunday-worship-2/2026-09-27/
LOCATION:Sanctuary
CATEGORIES:Worship Service
END:VEVENT
BEGIN:VEVENT
DTSTART;TZID=America/Los_Angeles:20261004T091500
DTEND;TZID=America/Los_Angeles:20261004T101500
DTSTAMP:20260423T203632
CREATED:20250924T193716Z
LAST-MODIFIED:20250925T235209Z
UID:10000820-1791105300-1791108900@uuspokane.org
SUMMARY:Sunday Worship
DESCRIPTION:Live Stream Available
URL:https://uuspokane.org/event/sunday-worship/2026-10-04/
LOCATION:Sanctuary
CATEGORIES:Worship Service
END:VEVENT
BEGIN:VEVENT
DTSTART;TZID=America/Los_Angeles:20261004T110000
DTEND;TZID=America/Los_Angeles:20261004T120000
DTSTAMP:20260423T203632
CREATED:20250924T193853Z
LAST-MODIFIED:20250925T235352Z
UID:10001081-1791111600-1791115200@uuspokane.org
SUMMARY:Sunday Worship
DESCRIPTION:Live Stream Available
URL:https://uuspokane.org/event/sunday-worship-2/2026-10-04/
LOCATION:Sanctuary
CATEGORIES:Worship Service
END:VEVENT
BEGIN:VEVENT
DTSTART;TZID=America/Los_Angeles:20261009T170000
DTEND;TZID=America/Los_Angeles:20261009T183000
DTSTAMP:20260423T203632
CREATED:20260305T213814Z
LAST-MODIFIED:20260305T213814Z
UID:10004176-1791565200-1791570600@uuspokane.org
SUMMARY:Meaningful Movies - Set Up
DESCRIPTION:
URL:https://uuspokane.org/event/meaningful-movies-set-up-2/2026-10-09/
LOCATION:Friendship Hall
CATEGORIES:Event Set Up,Social Justice
ORGANIZER;CN="Barb Stuebing":MAILTO:barbstuebing@gmail.com
END:VEVENT
BEGIN:VEVENT
DTSTART;TZID=America/Los_Angeles:20261009T180000
DTEND;TZID=America/Los_Angeles:20261009T210000
DTSTAMP:20260423T203632
CREATED:20251208T220636Z
LAST-MODIFIED:20260305T213645Z
UID:10004117-1791568800-1791579600@uuspokane.org
SUMMARY:Meaningful Movies
DESCRIPTION:
URL:https://uuspokane.org/event/meaningful-movies-4/2026-10-09/
LOCATION:Chapel
CATEGORIES:Social Justice
ORGANIZER;CN="Barb Stuebing":MAILTO:barbstuebing@gmail.com
END:VEVENT
BEGIN:VEVENT
DTSTART;TZID=America/Los_Angeles:20261010T113000
DTEND;TZID=America/Los_Angeles:20261010T140000
DTSTAMP:20260423T203632
CREATED:20260204T203641Z
LAST-MODIFIED:20260204T203641Z
UID:10002519-1791631800-1791640800@uuspokane.org
SUMMARY:LGBTQ+ Seniors of the Inland Northwest Potluck
DESCRIPTION:Join us for food\, fellowship and conversation.
URL:https://uuspokane.org/event/lgbtq-seniors-of-the-inland-northwest-potluck-2/2026-10-10/
LOCATION:Friendship Hall
CATEGORIES:Other
ORGANIZER;CN="Nancy Avery":MAILTO:NancyTavery@comcast.net
END:VEVENT
BEGIN:VEVENT
DTSTART;TZID=America/Los_Angeles:20261011T091500
DTEND;TZID=America/Los_Angeles:20261011T101500
DTSTAMP:20260423T203632
CREATED:20250924T193716Z
LAST-MODIFIED:20250925T235209Z
UID:10000821-1791710100-1791713700@uuspokane.org
SUMMARY:Sunday Worship
DESCRIPTION:Live Stream Available
URL:https://uuspokane.org/event/sunday-worship/2026-10-11/
LOCATION:Sanctuary
CATEGORIES:Worship Service
END:VEVENT
BEGIN:VEVENT
DTSTART;TZID=America/Los_Angeles:20261011T110000
DTEND;TZID=America/Los_Angeles:20261011T120000
DTSTAMP:20260423T203632
CREATED:20250924T193853Z
LAST-MODIFIED:20250925T235352Z
UID:10001082-1791716400-1791720000@uuspokane.org
SUMMARY:Sunday Worship
DESCRIPTION:Live Stream Available
URL:https://uuspokane.org/event/sunday-worship-2/2026-10-11/
LOCATION:Sanctuary
CATEGORIES:Worship Service
END:VEVENT
BEGIN:VEVENT
DTSTART;TZID=America/Los_Angeles:20261018T091500
DTEND;TZID=America/Los_Angeles:20261018T101500
DTSTAMP:20260423T203632
CREATED:20250924T193716Z
LAST-MODIFIED:20250925T235209Z
UID:10000822-1792314900-1792318500@uuspokane.org
SUMMARY:Sunday Worship
DESCRIPTION:Live Stream Available
URL:https://uuspokane.org/event/sunday-worship/2026-10-18/
LOCATION:Sanctuary
CATEGORIES:Worship Service
END:VEVENT
BEGIN:VEVENT
DTSTART;TZID=America/Los_Angeles:20261018T110000
DTEND;TZID=America/Los_Angeles:20261018T120000
DTSTAMP:20260423T203632
CREATED:20250924T193853Z
LAST-MODIFIED:20250925T235352Z
UID:10001083-1792321200-1792324800@uuspokane.org
SUMMARY:Sunday Worship
DESCRIPTION:Live Stream Available
URL:https://uuspokane.org/event/sunday-worship-2/2026-10-18/
LOCATION:Sanctuary
CATEGORIES:Worship Service
END:VEVENT
BEGIN:VEVENT
DTSTART;TZID=America/Los_Angeles:20261018T123000
DTEND;TZID=America/Los_Angeles:20261018T140000
DTSTAMP:20260423T203632
CREATED:20260204T193727Z
LAST-MODIFIED:20260204T193727Z
UID:10003131-1792326600-1792332000@uuspokane.org
SUMMARY:Church Potluck
DESCRIPTION:
URL:https://uuspokane.org/event/church-potluck-5/2026-10-18/
LOCATION:Friendship Hall
CATEGORIES:Fellowship
END:VEVENT
BEGIN:VEVENT
DTSTART;TZID=America/Los_Angeles:20261025T091500
DTEND;TZID=America/Los_Angeles:20261025T101500
DTSTAMP:20260423T203632
CREATED:20250924T193716Z
LAST-MODIFIED:20250925T235209Z
UID:10000823-1792919700-1792923300@uuspokane.org
SUMMARY:Sunday Worship
DESCRIPTION:Live Stream Available
URL:https://uuspokane.org/event/sunday-worship/2026-10-25/
LOCATION:Sanctuary
CATEGORIES:Worship Service
END:VEVENT
BEGIN:VEVENT
DTSTART;TZID=America/Los_Angeles:20261025T110000
DTEND;TZID=America/Los_Angeles:20261025T120000
DTSTAMP:20260423T203632
CREATED:20250924T193853Z
LAST-MODIFIED:20250925T235352Z
UID:10001084-1792926000-1792929600@uuspokane.org
SUMMARY:Sunday Worship
DESCRIPTION:Live Stream Available
URL:https://uuspokane.org/event/sunday-worship-2/2026-10-25/
LOCATION:Sanctuary
CATEGORIES:Worship Service
END:VEVENT
BEGIN:VEVENT
DTSTART;TZID=America/Los_Angeles:20261101T091500
DTEND;TZID=America/Los_Angeles:20261101T101500
DTSTAMP:20260423T203632
CREATED:20250924T193716Z
LAST-MODIFIED:20250925T235209Z
UID:10000824-1793524500-1793528100@uuspokane.org
SUMMARY:Sunday Worship
DESCRIPTION:Live Stream Available
URL:https://uuspokane.org/event/sunday-worship/2026-11-01/
LOCATION:Sanctuary
CATEGORIES:Worship Service
END:VEVENT
BEGIN:VEVENT
DTSTART;TZID=America/Los_Angeles:20261101T110000
DTEND;TZID=America/Los_Angeles:20261101T120000
DTSTAMP:20260423T203632
CREATED:20250924T193853Z
LAST-MODIFIED:20250925T235352Z
UID:10001085-1793530800-1793534400@uuspokane.org
SUMMARY:Sunday Worship
DESCRIPTION:Live Stream Available
URL:https://uuspokane.org/event/sunday-worship-2/2026-11-01/
LOCATION:Sanctuary
CATEGORIES:Worship Service
END:VEVENT
BEGIN:VEVENT
DTSTART;TZID=America/Los_Angeles:20261108T091500
DTEND;TZID=America/Los_Angeles:20261108T101500
DTSTAMP:20260423T203632
CREATED:20250924T193716Z
LAST-MODIFIED:20250925T235209Z
UID:10000825-1794129300-1794132900@uuspokane.org
SUMMARY:Sunday Worship
DESCRIPTION:Live Stream Available
URL:https://uuspokane.org/event/sunday-worship/2026-11-08/
LOCATION:Sanctuary
CATEGORIES:Worship Service
END:VEVENT
BEGIN:VEVENT
DTSTART;TZID=America/Los_Angeles:20261108T110000
DTEND;TZID=America/Los_Angeles:20261108T120000
DTSTAMP:20260423T203632
CREATED:20250924T193853Z
LAST-MODIFIED:20250925T235352Z
UID:10001086-1794135600-1794139200@uuspokane.org
SUMMARY:Sunday Worship
DESCRIPTION:Live Stream Available
URL:https://uuspokane.org/event/sunday-worship-2/2026-11-08/
LOCATION:Sanctuary
CATEGORIES:Worship Service
END:VEVENT
BEGIN:VEVENT
DTSTART;TZID=America/Los_Angeles:20261113T170000
DTEND;TZID=America/Los_Angeles:20261113T183000
DTSTAMP:20260423T203632
CREATED:20260305T213814Z
LAST-MODIFIED:20260305T213814Z
UID:10004177-1794589200-1794594600@uuspokane.org
SUMMARY:Meaningful Movies - Set Up
DESCRIPTION:
URL:https://uuspokane.org/event/meaningful-movies-set-up-2/2026-11-13/
LOCATION:Friendship Hall
CATEGORIES:Event Set Up,Social Justice
ORGANIZER;CN="Barb Stuebing":MAILTO:barbstuebing@gmail.com
END:VEVENT
END:VCALENDAR