BEGIN:VCALENDAR
VERSION:2.0
PRODID:-//Unitarian Universalist Church of Spokane - ECPv6.15.20//NONSGML v1.0//EN
CALSCALE:GREGORIAN
METHOD:PUBLISH
X-ORIGINAL-URL:https://uuspokane.org
X-WR-CALDESC:Events for Unitarian Universalist Church of Spokane
REFRESH-INTERVAL;VALUE=DURATION:PT1H
X-Robots-Tag:noindex
X-PUBLISHED-TTL:PT1H
BEGIN:VTIMEZONE
TZID:America/Los_Angeles
BEGIN:DAYLIGHT
TZOFFSETFROM:-0800
TZOFFSETTO:-0700
TZNAME:PDT
DTSTART:20280312T100000
END:DAYLIGHT
BEGIN:STANDARD
TZOFFSETFROM:-0700
TZOFFSETTO:-0800
TZNAME:PST
DTSTART:20281105T090000
END:STANDARD
BEGIN:DAYLIGHT
TZOFFSETFROM:-0800
TZOFFSETTO:-0700
TZNAME:PDT
DTSTART:20290311T100000
END:DAYLIGHT
BEGIN:STANDARD
TZOFFSETFROM:-0700
TZOFFSETTO:-0800
TZNAME:PST
DTSTART:20291104T090000
END:STANDARD
BEGIN:DAYLIGHT
TZOFFSETFROM:-0800
TZOFFSETTO:-0700
TZNAME:PDT
DTSTART:20300310T100000
END:DAYLIGHT
BEGIN:STANDARD
TZOFFSETFROM:-0700
TZOFFSETTO:-0800
TZNAME:PST
DTSTART:20301103T090000
END:STANDARD
BEGIN:DAYLIGHT
TZOFFSETFROM:-0800
TZOFFSETTO:-0700
TZNAME:PDT
DTSTART:20310309T100000
END:DAYLIGHT
BEGIN:STANDARD
TZOFFSETFROM:-0700
TZOFFSETTO:-0800
TZNAME:PST
DTSTART:20311102T090000
END:STANDARD
END:VTIMEZONE
BEGIN:VEVENT
DTSTART;TZID=America/Los_Angeles:20290617T123000
DTEND;TZID=America/Los_Angeles:20290617T140000
DTSTAMP:20260424T001126
CREATED:20260204T193727Z
LAST-MODIFIED:20260204T193727Z
UID:10003163-1876393800-1876399200@uuspokane.org
SUMMARY:Church Potluck
DESCRIPTION:
URL:https://uuspokane.org/event/church-potluck-5/2029-06-17/
LOCATION:Friendship Hall
CATEGORIES:Fellowship
END:VEVENT
BEGIN:VEVENT
DTSTART;TZID=America/Los_Angeles:20290714T113000
DTEND;TZID=America/Los_Angeles:20290714T140000
DTSTAMP:20260424T001126
CREATED:20260204T203641Z
LAST-MODIFIED:20260204T203641Z
UID:10002552-1878723000-1878732000@uuspokane.org
SUMMARY:LGBTQ+ Seniors of the Inland Northwest Potluck
DESCRIPTION:Join us for food\, fellowship and conversation.
URL:https://uuspokane.org/event/lgbtq-seniors-of-the-inland-northwest-potluck-2/2029-07-14/
LOCATION:Friendship Hall
CATEGORIES:Other
ORGANIZER;CN="Nancy Avery":MAILTO:NancyTavery@comcast.net
END:VEVENT
BEGIN:VEVENT
DTSTART;TZID=America/Los_Angeles:20290715T123000
DTEND;TZID=America/Los_Angeles:20290715T140000
DTSTAMP:20260424T001126
CREATED:20260204T193727Z
LAST-MODIFIED:20260204T193727Z
UID:10003164-1878813000-1878818400@uuspokane.org
SUMMARY:Church Potluck
DESCRIPTION:
URL:https://uuspokane.org/event/church-potluck-5/2029-07-15/
LOCATION:Friendship Hall
CATEGORIES:Fellowship
END:VEVENT
BEGIN:VEVENT
DTSTART;TZID=America/Los_Angeles:20290811T113000
DTEND;TZID=America/Los_Angeles:20290811T140000
DTSTAMP:20260424T001126
CREATED:20260204T203641Z
LAST-MODIFIED:20260204T203641Z
UID:10002553-1881142200-1881151200@uuspokane.org
SUMMARY:LGBTQ+ Seniors of the Inland Northwest Potluck
DESCRIPTION:Join us for food\, fellowship and conversation.
URL:https://uuspokane.org/event/lgbtq-seniors-of-the-inland-northwest-potluck-2/2029-08-11/
LOCATION:Friendship Hall
CATEGORIES:Other
ORGANIZER;CN="Nancy Avery":MAILTO:NancyTavery@comcast.net
END:VEVENT
BEGIN:VEVENT
DTSTART;TZID=America/Los_Angeles:20290819T123000
DTEND;TZID=America/Los_Angeles:20290819T140000
DTSTAMP:20260424T001126
CREATED:20260204T193727Z
LAST-MODIFIED:20260204T193727Z
UID:10003165-1881837000-1881842400@uuspokane.org
SUMMARY:Church Potluck
DESCRIPTION:
URL:https://uuspokane.org/event/church-potluck-5/2029-08-19/
LOCATION:Friendship Hall
CATEGORIES:Fellowship
END:VEVENT
BEGIN:VEVENT
DTSTART;TZID=America/Los_Angeles:20290908T113000
DTEND;TZID=America/Los_Angeles:20290908T140000
DTSTAMP:20260424T001126
CREATED:20260204T203641Z
LAST-MODIFIED:20260204T203641Z
UID:10002554-1883561400-1883570400@uuspokane.org
SUMMARY:LGBTQ+ Seniors of the Inland Northwest Potluck
DESCRIPTION:Join us for food\, fellowship and conversation.
URL:https://uuspokane.org/event/lgbtq-seniors-of-the-inland-northwest-potluck-2/2029-09-08/
LOCATION:Friendship Hall
CATEGORIES:Other
ORGANIZER;CN="Nancy Avery":MAILTO:NancyTavery@comcast.net
END:VEVENT
BEGIN:VEVENT
DTSTART;TZID=America/Los_Angeles:20290916T123000
DTEND;TZID=America/Los_Angeles:20290916T140000
DTSTAMP:20260424T001126
CREATED:20260204T193727Z
LAST-MODIFIED:20260204T193727Z
UID:10003166-1884256200-1884261600@uuspokane.org
SUMMARY:Church Potluck
DESCRIPTION:
URL:https://uuspokane.org/event/church-potluck-5/2029-09-16/
LOCATION:Friendship Hall
CATEGORIES:Fellowship
END:VEVENT
BEGIN:VEVENT
DTSTART;TZID=America/Los_Angeles:20291013T113000
DTEND;TZID=America/Los_Angeles:20291013T140000
DTSTAMP:20260424T001126
CREATED:20260204T203641Z
LAST-MODIFIED:20260204T203641Z
UID:10002555-1886585400-1886594400@uuspokane.org
SUMMARY:LGBTQ+ Seniors of the Inland Northwest Potluck
DESCRIPTION:Join us for food\, fellowship and conversation.
URL:https://uuspokane.org/event/lgbtq-seniors-of-the-inland-northwest-potluck-2/2029-10-13/
LOCATION:Friendship Hall
CATEGORIES:Other
ORGANIZER;CN="Nancy Avery":MAILTO:NancyTavery@comcast.net
END:VEVENT
BEGIN:VEVENT
DTSTART;TZID=America/Los_Angeles:20291021T123000
DTEND;TZID=America/Los_Angeles:20291021T140000
DTSTAMP:20260424T001126
CREATED:20260204T193727Z
LAST-MODIFIED:20260204T193727Z
UID:10003167-1887280200-1887285600@uuspokane.org
SUMMARY:Church Potluck
DESCRIPTION:
URL:https://uuspokane.org/event/church-potluck-5/2029-10-21/
LOCATION:Friendship Hall
CATEGORIES:Fellowship
END:VEVENT
BEGIN:VEVENT
DTSTART;TZID=America/Los_Angeles:20291110T113000
DTEND;TZID=America/Los_Angeles:20291110T140000
DTSTAMP:20260424T001126
CREATED:20260204T203641Z
LAST-MODIFIED:20260204T203641Z
UID:10002556-1889004600-1889013600@uuspokane.org
SUMMARY:LGBTQ+ Seniors of the Inland Northwest Potluck
DESCRIPTION:Join us for food\, fellowship and conversation.
URL:https://uuspokane.org/event/lgbtq-seniors-of-the-inland-northwest-potluck-2/2029-11-10/
LOCATION:Friendship Hall
CATEGORIES:Other
ORGANIZER;CN="Nancy Avery":MAILTO:NancyTavery@comcast.net
END:VEVENT
BEGIN:VEVENT
DTSTART;TZID=America/Los_Angeles:20291118T123000
DTEND;TZID=America/Los_Angeles:20291118T140000
DTSTAMP:20260424T001126
CREATED:20260204T193727Z
LAST-MODIFIED:20260204T193727Z
UID:10003168-1889699400-1889704800@uuspokane.org
SUMMARY:Church Potluck
DESCRIPTION:
URL:https://uuspokane.org/event/church-potluck-5/2029-11-18/
LOCATION:Friendship Hall
CATEGORIES:Fellowship
END:VEVENT
BEGIN:VEVENT
DTSTART;TZID=America/Los_Angeles:20291208T113000
DTEND;TZID=America/Los_Angeles:20291208T140000
DTSTAMP:20260424T001126
CREATED:20260204T203641Z
LAST-MODIFIED:20260204T203641Z
UID:10002557-1891423800-1891432800@uuspokane.org
SUMMARY:LGBTQ+ Seniors of the Inland Northwest Potluck
DESCRIPTION:Join us for food\, fellowship and conversation.
URL:https://uuspokane.org/event/lgbtq-seniors-of-the-inland-northwest-potluck-2/2029-12-08/
LOCATION:Friendship Hall
CATEGORIES:Other
ORGANIZER;CN="Nancy Avery":MAILTO:NancyTavery@comcast.net
END:VEVENT
BEGIN:VEVENT
DTSTART;TZID=America/Los_Angeles:20291216T123000
DTEND;TZID=America/Los_Angeles:20291216T140000
DTSTAMP:20260424T001126
CREATED:20260204T193727Z
LAST-MODIFIED:20260204T193727Z
UID:10003169-1892118600-1892124000@uuspokane.org
SUMMARY:Church Potluck
DESCRIPTION:
URL:https://uuspokane.org/event/church-potluck-5/2029-12-16/
LOCATION:Friendship Hall
CATEGORIES:Fellowship
END:VEVENT
BEGIN:VEVENT
DTSTART;TZID=America/Los_Angeles:20300112T113000
DTEND;TZID=America/Los_Angeles:20300112T140000
DTSTAMP:20260424T001126
CREATED:20260204T203641Z
LAST-MODIFIED:20260204T203641Z
UID:10002558-1894447800-1894456800@uuspokane.org
SUMMARY:LGBTQ+ Seniors of the Inland Northwest Potluck
DESCRIPTION:Join us for food\, fellowship and conversation.
URL:https://uuspokane.org/event/lgbtq-seniors-of-the-inland-northwest-potluck-2/2030-01-12/
LOCATION:Friendship Hall
CATEGORIES:Other
ORGANIZER;CN="Nancy Avery":MAILTO:NancyTavery@comcast.net
END:VEVENT
BEGIN:VEVENT
DTSTART;TZID=America/Los_Angeles:20300120T123000
DTEND;TZID=America/Los_Angeles:20300120T140000
DTSTAMP:20260424T001126
CREATED:20260204T193727Z
LAST-MODIFIED:20260204T193727Z
UID:10003170-1895142600-1895148000@uuspokane.org
SUMMARY:Church Potluck
DESCRIPTION:
URL:https://uuspokane.org/event/church-potluck-5/2030-01-20/
LOCATION:Friendship Hall
CATEGORIES:Fellowship
END:VEVENT
BEGIN:VEVENT
DTSTART;TZID=America/Los_Angeles:20300209T113000
DTEND;TZID=America/Los_Angeles:20300209T140000
DTSTAMP:20260424T001126
CREATED:20260204T203641Z
LAST-MODIFIED:20260204T203641Z
UID:10002559-1896867000-1896876000@uuspokane.org
SUMMARY:LGBTQ+ Seniors of the Inland Northwest Potluck
DESCRIPTION:Join us for food\, fellowship and conversation.
URL:https://uuspokane.org/event/lgbtq-seniors-of-the-inland-northwest-potluck-2/2030-02-09/
LOCATION:Friendship Hall
CATEGORIES:Other
ORGANIZER;CN="Nancy Avery":MAILTO:NancyTavery@comcast.net
END:VEVENT
BEGIN:VEVENT
DTSTART;TZID=America/Los_Angeles:20300217T123000
DTEND;TZID=America/Los_Angeles:20300217T140000
DTSTAMP:20260424T001126
CREATED:20260204T193727Z
LAST-MODIFIED:20260204T193727Z
UID:10003171-1897561800-1897567200@uuspokane.org
SUMMARY:Church Potluck
DESCRIPTION:
URL:https://uuspokane.org/event/church-potluck-5/2030-02-17/
LOCATION:Friendship Hall
CATEGORIES:Fellowship
END:VEVENT
BEGIN:VEVENT
DTSTART;TZID=America/Los_Angeles:20300309T113000
DTEND;TZID=America/Los_Angeles:20300309T140000
DTSTAMP:20260424T001126
CREATED:20260204T203641Z
LAST-MODIFIED:20260204T203641Z
UID:10002560-1899286200-1899295200@uuspokane.org
SUMMARY:LGBTQ+ Seniors of the Inland Northwest Potluck
DESCRIPTION:Join us for food\, fellowship and conversation.
URL:https://uuspokane.org/event/lgbtq-seniors-of-the-inland-northwest-potluck-2/2030-03-09/
LOCATION:Friendship Hall
CATEGORIES:Other
ORGANIZER;CN="Nancy Avery":MAILTO:NancyTavery@comcast.net
END:VEVENT
BEGIN:VEVENT
DTSTART;TZID=America/Los_Angeles:20300317T123000
DTEND;TZID=America/Los_Angeles:20300317T140000
DTSTAMP:20260424T001126
CREATED:20260204T193727Z
LAST-MODIFIED:20260204T193727Z
UID:10003172-1899981000-1899986400@uuspokane.org
SUMMARY:Church Potluck
DESCRIPTION:
URL:https://uuspokane.org/event/church-potluck-5/2030-03-17/
LOCATION:Friendship Hall
CATEGORIES:Fellowship
END:VEVENT
BEGIN:VEVENT
DTSTART;TZID=America/Los_Angeles:20300413T113000
DTEND;TZID=America/Los_Angeles:20300413T140000
DTSTAMP:20260424T001126
CREATED:20260204T203641Z
LAST-MODIFIED:20260204T203641Z
UID:10002561-1902310200-1902319200@uuspokane.org
SUMMARY:LGBTQ+ Seniors of the Inland Northwest Potluck
DESCRIPTION:Join us for food\, fellowship and conversation.
URL:https://uuspokane.org/event/lgbtq-seniors-of-the-inland-northwest-potluck-2/2030-04-13/
LOCATION:Friendship Hall
CATEGORIES:Other
ORGANIZER;CN="Nancy Avery":MAILTO:NancyTavery@comcast.net
END:VEVENT
BEGIN:VEVENT
DTSTART;TZID=America/Los_Angeles:20300421T123000
DTEND;TZID=America/Los_Angeles:20300421T140000
DTSTAMP:20260424T001126
CREATED:20260204T193727Z
LAST-MODIFIED:20260204T193727Z
UID:10003173-1903005000-1903010400@uuspokane.org
SUMMARY:Church Potluck
DESCRIPTION:
URL:https://uuspokane.org/event/church-potluck-5/2030-04-21/
LOCATION:Friendship Hall
CATEGORIES:Fellowship
END:VEVENT
BEGIN:VEVENT
DTSTART;TZID=America/Los_Angeles:20300511T113000
DTEND;TZID=America/Los_Angeles:20300511T140000
DTSTAMP:20260424T001126
CREATED:20260204T203641Z
LAST-MODIFIED:20260204T203641Z
UID:10002562-1904729400-1904738400@uuspokane.org
SUMMARY:LGBTQ+ Seniors of the Inland Northwest Potluck
DESCRIPTION:Join us for food\, fellowship and conversation.
URL:https://uuspokane.org/event/lgbtq-seniors-of-the-inland-northwest-potluck-2/2030-05-11/
LOCATION:Friendship Hall
CATEGORIES:Other
ORGANIZER;CN="Nancy Avery":MAILTO:NancyTavery@comcast.net
END:VEVENT
BEGIN:VEVENT
DTSTART;TZID=America/Los_Angeles:20300519T123000
DTEND;TZID=America/Los_Angeles:20300519T140000
DTSTAMP:20260424T001126
CREATED:20260204T193727Z
LAST-MODIFIED:20260204T193727Z
UID:10003174-1905424200-1905429600@uuspokane.org
SUMMARY:Church Potluck
DESCRIPTION:
URL:https://uuspokane.org/event/church-potluck-5/2030-05-19/
LOCATION:Friendship Hall
CATEGORIES:Fellowship
END:VEVENT
BEGIN:VEVENT
DTSTART;TZID=America/Los_Angeles:20300608T113000
DTEND;TZID=America/Los_Angeles:20300608T140000
DTSTAMP:20260424T001126
CREATED:20260204T203641Z
LAST-MODIFIED:20260204T203641Z
UID:10002563-1907148600-1907157600@uuspokane.org
SUMMARY:LGBTQ+ Seniors of the Inland Northwest Potluck
DESCRIPTION:Join us for food\, fellowship and conversation.
URL:https://uuspokane.org/event/lgbtq-seniors-of-the-inland-northwest-potluck-2/2030-06-08/
LOCATION:Friendship Hall
CATEGORIES:Other
ORGANIZER;CN="Nancy Avery":MAILTO:NancyTavery@comcast.net
END:VEVENT
BEGIN:VEVENT
DTSTART;TZID=America/Los_Angeles:20300616T123000
DTEND;TZID=America/Los_Angeles:20300616T140000
DTSTAMP:20260424T001126
CREATED:20260204T193727Z
LAST-MODIFIED:20260204T193727Z
UID:10003175-1907843400-1907848800@uuspokane.org
SUMMARY:Church Potluck
DESCRIPTION:
URL:https://uuspokane.org/event/church-potluck-5/2030-06-16/
LOCATION:Friendship Hall
CATEGORIES:Fellowship
END:VEVENT
BEGIN:VEVENT
DTSTART;TZID=America/Los_Angeles:20300713T113000
DTEND;TZID=America/Los_Angeles:20300713T140000
DTSTAMP:20260424T001126
CREATED:20260204T203641Z
LAST-MODIFIED:20260204T203641Z
UID:10002564-1910172600-1910181600@uuspokane.org
SUMMARY:LGBTQ+ Seniors of the Inland Northwest Potluck
DESCRIPTION:Join us for food\, fellowship and conversation.
URL:https://uuspokane.org/event/lgbtq-seniors-of-the-inland-northwest-potluck-2/2030-07-13/
LOCATION:Friendship Hall
CATEGORIES:Other
ORGANIZER;CN="Nancy Avery":MAILTO:NancyTavery@comcast.net
END:VEVENT
BEGIN:VEVENT
DTSTART;TZID=America/Los_Angeles:20300721T123000
DTEND;TZID=America/Los_Angeles:20300721T140000
DTSTAMP:20260424T001126
CREATED:20260204T193727Z
LAST-MODIFIED:20260204T193727Z
UID:10003176-1910867400-1910872800@uuspokane.org
SUMMARY:Church Potluck
DESCRIPTION:
URL:https://uuspokane.org/event/church-potluck-5/2030-07-21/
LOCATION:Friendship Hall
CATEGORIES:Fellowship
END:VEVENT
BEGIN:VEVENT
DTSTART;TZID=America/Los_Angeles:20300810T113000
DTEND;TZID=America/Los_Angeles:20300810T140000
DTSTAMP:20260424T001126
CREATED:20260204T203641Z
LAST-MODIFIED:20260204T203641Z
UID:10002565-1912591800-1912600800@uuspokane.org
SUMMARY:LGBTQ+ Seniors of the Inland Northwest Potluck
DESCRIPTION:Join us for food\, fellowship and conversation.
URL:https://uuspokane.org/event/lgbtq-seniors-of-the-inland-northwest-potluck-2/2030-08-10/
LOCATION:Friendship Hall
CATEGORIES:Other
ORGANIZER;CN="Nancy Avery":MAILTO:NancyTavery@comcast.net
END:VEVENT
BEGIN:VEVENT
DTSTART;TZID=America/Los_Angeles:20300818T123000
DTEND;TZID=America/Los_Angeles:20300818T140000
DTSTAMP:20260424T001126
CREATED:20260204T193727Z
LAST-MODIFIED:20260204T193727Z
UID:10003177-1913286600-1913292000@uuspokane.org
SUMMARY:Church Potluck
DESCRIPTION:
URL:https://uuspokane.org/event/church-potluck-5/2030-08-18/
LOCATION:Friendship Hall
CATEGORIES:Fellowship
END:VEVENT
BEGIN:VEVENT
DTSTART;TZID=America/Los_Angeles:20300914T113000
DTEND;TZID=America/Los_Angeles:20300914T140000
DTSTAMP:20260424T001126
CREATED:20260204T203641Z
LAST-MODIFIED:20260204T203641Z
UID:10002566-1915615800-1915624800@uuspokane.org
SUMMARY:LGBTQ+ Seniors of the Inland Northwest Potluck
DESCRIPTION:Join us for food\, fellowship and conversation.
URL:https://uuspokane.org/event/lgbtq-seniors-of-the-inland-northwest-potluck-2/2030-09-14/
LOCATION:Friendship Hall
CATEGORIES:Other
ORGANIZER;CN="Nancy Avery":MAILTO:NancyTavery@comcast.net
END:VEVENT
END:VCALENDAR