BEGIN:VCALENDAR
VERSION:2.0
PRODID:-//Unitarian Universalist Church of Spokane - ECPv6.15.20//NONSGML v1.0//EN
CALSCALE:GREGORIAN
METHOD:PUBLISH
X-ORIGINAL-URL:https://uuspokane.org
X-WR-CALDESC:Events for Unitarian Universalist Church of Spokane
REFRESH-INTERVAL;VALUE=DURATION:PT1H
X-Robots-Tag:noindex
X-PUBLISHED-TTL:PT1H
BEGIN:VTIMEZONE
TZID:America/Los_Angeles
BEGIN:DAYLIGHT
TZOFFSETFROM:-0800
TZOFFSETTO:-0700
TZNAME:PDT
DTSTART:20260308T100000
END:DAYLIGHT
BEGIN:STANDARD
TZOFFSETFROM:-0700
TZOFFSETTO:-0800
TZNAME:PST
DTSTART:20261101T090000
END:STANDARD
BEGIN:DAYLIGHT
TZOFFSETFROM:-0800
TZOFFSETTO:-0700
TZNAME:PDT
DTSTART:20270314T100000
END:DAYLIGHT
BEGIN:STANDARD
TZOFFSETFROM:-0700
TZOFFSETTO:-0800
TZNAME:PST
DTSTART:20271107T090000
END:STANDARD
BEGIN:DAYLIGHT
TZOFFSETFROM:-0800
TZOFFSETTO:-0700
TZNAME:PDT
DTSTART:20280312T100000
END:DAYLIGHT
BEGIN:STANDARD
TZOFFSETFROM:-0700
TZOFFSETTO:-0800
TZNAME:PST
DTSTART:20281105T090000
END:STANDARD
BEGIN:DAYLIGHT
TZOFFSETFROM:-0800
TZOFFSETTO:-0700
TZNAME:PDT
DTSTART:20290311T100000
END:DAYLIGHT
BEGIN:STANDARD
TZOFFSETFROM:-0700
TZOFFSETTO:-0800
TZNAME:PST
DTSTART:20291104T090000
END:STANDARD
END:VTIMEZONE
BEGIN:VEVENT
DTSTART;TZID=America/Los_Angeles:20270920T183000
DTEND;TZID=America/Los_Angeles:20270920T200000
DTSTAMP:20260424T010512
CREATED:20250924T194849Z
LAST-MODIFIED:20250924T194849Z
UID:10001914-1821465000-1821470400@uuspokane.org
SUMMARY:Meditation Group
DESCRIPTION:Buddhist Meditation – Sravasti Abbey
URL:https://uuspokane.org/event/meditation-group/2027-09-20/
LOCATION:Private Zoom
CATEGORIES:Meditation
END:VEVENT
BEGIN:VEVENT
DTSTART;TZID=America/Los_Angeles:20270927T183000
DTEND;TZID=America/Los_Angeles:20270927T200000
DTSTAMP:20260424T010512
CREATED:20250924T194849Z
LAST-MODIFIED:20250924T194849Z
UID:10001915-1822069800-1822075200@uuspokane.org
SUMMARY:Meditation Group
DESCRIPTION:Buddhist Meditation – Sravasti Abbey
URL:https://uuspokane.org/event/meditation-group/2027-09-27/
LOCATION:Private Zoom
CATEGORIES:Meditation
END:VEVENT
BEGIN:VEVENT
DTSTART;TZID=America/Los_Angeles:20271004T183000
DTEND;TZID=America/Los_Angeles:20271004T200000
DTSTAMP:20260424T010512
CREATED:20250924T194849Z
LAST-MODIFIED:20250924T194849Z
UID:10001916-1822674600-1822680000@uuspokane.org
SUMMARY:Meditation Group
DESCRIPTION:Buddhist Meditation – Sravasti Abbey
URL:https://uuspokane.org/event/meditation-group/2027-10-04/
LOCATION:Private Zoom
CATEGORIES:Meditation
END:VEVENT
BEGIN:VEVENT
DTSTART;TZID=America/Los_Angeles:20271011T183000
DTEND;TZID=America/Los_Angeles:20271011T200000
DTSTAMP:20260424T010512
CREATED:20250924T194849Z
LAST-MODIFIED:20250924T194849Z
UID:10001917-1823279400-1823284800@uuspokane.org
SUMMARY:Meditation Group
DESCRIPTION:Buddhist Meditation – Sravasti Abbey
URL:https://uuspokane.org/event/meditation-group/2027-10-11/
LOCATION:Private Zoom
CATEGORIES:Meditation
END:VEVENT
BEGIN:VEVENT
DTSTART;TZID=America/Los_Angeles:20271016T100000
DTEND;TZID=America/Los_Angeles:20271016T120000
DTSTAMP:20260424T010512
CREATED:20260217T231342Z
LAST-MODIFIED:20260217T231342Z
UID:10002712-1823680800-1823688000@uuspokane.org
SUMMARY:NAUA Monthly Service - ZOOM Only
DESCRIPTION:
URL:https://uuspokane.org/event/naua-monthly-service-zoom-only-2/2027-10-16/
LOCATION:Private Zoom
CATEGORIES:Worship Service
ORGANIZER;CN="Roy Dickerson":MAILTO:info@naunitarians.org
END:VEVENT
BEGIN:VEVENT
DTSTART;TZID=America/Los_Angeles:20271018T183000
DTEND;TZID=America/Los_Angeles:20271018T200000
DTSTAMP:20260424T010512
CREATED:20250924T194849Z
LAST-MODIFIED:20250924T194849Z
UID:10001918-1823884200-1823889600@uuspokane.org
SUMMARY:Meditation Group
DESCRIPTION:Buddhist Meditation – Sravasti Abbey
URL:https://uuspokane.org/event/meditation-group/2027-10-18/
LOCATION:Private Zoom
CATEGORIES:Meditation
END:VEVENT
BEGIN:VEVENT
DTSTART;TZID=America/Los_Angeles:20271025T183000
DTEND;TZID=America/Los_Angeles:20271025T200000
DTSTAMP:20260424T010512
CREATED:20250924T194849Z
LAST-MODIFIED:20250924T194849Z
UID:10001919-1824489000-1824494400@uuspokane.org
SUMMARY:Meditation Group
DESCRIPTION:Buddhist Meditation – Sravasti Abbey
URL:https://uuspokane.org/event/meditation-group/2027-10-25/
LOCATION:Private Zoom
CATEGORIES:Meditation
END:VEVENT
BEGIN:VEVENT
DTSTART;TZID=America/Los_Angeles:20271101T183000
DTEND;TZID=America/Los_Angeles:20271101T200000
DTSTAMP:20260424T010512
CREATED:20250924T194849Z
LAST-MODIFIED:20250924T194849Z
UID:10001920-1825093800-1825099200@uuspokane.org
SUMMARY:Meditation Group
DESCRIPTION:Buddhist Meditation – Sravasti Abbey
URL:https://uuspokane.org/event/meditation-group/2027-11-01/
LOCATION:Private Zoom
CATEGORIES:Meditation
END:VEVENT
BEGIN:VEVENT
DTSTART;TZID=America/Los_Angeles:20271108T183000
DTEND;TZID=America/Los_Angeles:20271108T200000
DTSTAMP:20260424T010512
CREATED:20250924T194849Z
LAST-MODIFIED:20250924T194849Z
UID:10001921-1825698600-1825704000@uuspokane.org
SUMMARY:Meditation Group
DESCRIPTION:Buddhist Meditation – Sravasti Abbey
URL:https://uuspokane.org/event/meditation-group/2027-11-08/
LOCATION:Private Zoom
CATEGORIES:Meditation
END:VEVENT
BEGIN:VEVENT
DTSTART;TZID=America/Los_Angeles:20271115T183000
DTEND;TZID=America/Los_Angeles:20271115T200000
DTSTAMP:20260424T010512
CREATED:20250924T194849Z
LAST-MODIFIED:20250924T194849Z
UID:10001922-1826303400-1826308800@uuspokane.org
SUMMARY:Meditation Group
DESCRIPTION:Buddhist Meditation – Sravasti Abbey
URL:https://uuspokane.org/event/meditation-group/2027-11-15/
LOCATION:Private Zoom
CATEGORIES:Meditation
END:VEVENT
BEGIN:VEVENT
DTSTART;TZID=America/Los_Angeles:20271120T100000
DTEND;TZID=America/Los_Angeles:20271120T120000
DTSTAMP:20260424T010512
CREATED:20260217T231342Z
LAST-MODIFIED:20260217T231342Z
UID:10002713-1826704800-1826712000@uuspokane.org
SUMMARY:NAUA Monthly Service - ZOOM Only
DESCRIPTION:
URL:https://uuspokane.org/event/naua-monthly-service-zoom-only-2/2027-11-20/
LOCATION:Private Zoom
CATEGORIES:Worship Service
ORGANIZER;CN="Roy Dickerson":MAILTO:info@naunitarians.org
END:VEVENT
BEGIN:VEVENT
DTSTART;TZID=America/Los_Angeles:20271122T183000
DTEND;TZID=America/Los_Angeles:20271122T200000
DTSTAMP:20260424T010512
CREATED:20250924T194849Z
LAST-MODIFIED:20250924T194849Z
UID:10001923-1826908200-1826913600@uuspokane.org
SUMMARY:Meditation Group
DESCRIPTION:Buddhist Meditation – Sravasti Abbey
URL:https://uuspokane.org/event/meditation-group/2027-11-22/
LOCATION:Private Zoom
CATEGORIES:Meditation
END:VEVENT
BEGIN:VEVENT
DTSTART;TZID=America/Los_Angeles:20271129T183000
DTEND;TZID=America/Los_Angeles:20271129T200000
DTSTAMP:20260424T010512
CREATED:20250924T194849Z
LAST-MODIFIED:20250924T194849Z
UID:10001924-1827513000-1827518400@uuspokane.org
SUMMARY:Meditation Group
DESCRIPTION:Buddhist Meditation – Sravasti Abbey
URL:https://uuspokane.org/event/meditation-group/2027-11-29/
LOCATION:Private Zoom
CATEGORIES:Meditation
END:VEVENT
BEGIN:VEVENT
DTSTART;TZID=America/Los_Angeles:20271206T183000
DTEND;TZID=America/Los_Angeles:20271206T200000
DTSTAMP:20260424T010512
CREATED:20250924T194849Z
LAST-MODIFIED:20250924T194849Z
UID:10001925-1828117800-1828123200@uuspokane.org
SUMMARY:Meditation Group
DESCRIPTION:Buddhist Meditation – Sravasti Abbey
URL:https://uuspokane.org/event/meditation-group/2027-12-06/
LOCATION:Private Zoom
CATEGORIES:Meditation
END:VEVENT
BEGIN:VEVENT
DTSTART;TZID=America/Los_Angeles:20271213T183000
DTEND;TZID=America/Los_Angeles:20271213T200000
DTSTAMP:20260424T010512
CREATED:20250924T194849Z
LAST-MODIFIED:20250924T194849Z
UID:10001926-1828722600-1828728000@uuspokane.org
SUMMARY:Meditation Group
DESCRIPTION:Buddhist Meditation – Sravasti Abbey
URL:https://uuspokane.org/event/meditation-group/2027-12-13/
LOCATION:Private Zoom
CATEGORIES:Meditation
END:VEVENT
BEGIN:VEVENT
DTSTART;TZID=America/Los_Angeles:20271218T100000
DTEND;TZID=America/Los_Angeles:20271218T120000
DTSTAMP:20260424T010512
CREATED:20260217T231342Z
LAST-MODIFIED:20260217T231342Z
UID:10002714-1829124000-1829131200@uuspokane.org
SUMMARY:NAUA Monthly Service - ZOOM Only
DESCRIPTION:
URL:https://uuspokane.org/event/naua-monthly-service-zoom-only-2/2027-12-18/
LOCATION:Private Zoom
CATEGORIES:Worship Service
ORGANIZER;CN="Roy Dickerson":MAILTO:info@naunitarians.org
END:VEVENT
BEGIN:VEVENT
DTSTART;TZID=America/Los_Angeles:20271220T183000
DTEND;TZID=America/Los_Angeles:20271220T200000
DTSTAMP:20260424T010512
CREATED:20250924T194849Z
LAST-MODIFIED:20250924T194849Z
UID:10001927-1829327400-1829332800@uuspokane.org
SUMMARY:Meditation Group
DESCRIPTION:Buddhist Meditation – Sravasti Abbey
URL:https://uuspokane.org/event/meditation-group/2027-12-20/
LOCATION:Private Zoom
CATEGORIES:Meditation
END:VEVENT
BEGIN:VEVENT
DTSTART;TZID=America/Los_Angeles:20271227T183000
DTEND;TZID=America/Los_Angeles:20271227T200000
DTSTAMP:20260424T010512
CREATED:20250924T194849Z
LAST-MODIFIED:20250924T194849Z
UID:10001928-1829932200-1829937600@uuspokane.org
SUMMARY:Meditation Group
DESCRIPTION:Buddhist Meditation – Sravasti Abbey
URL:https://uuspokane.org/event/meditation-group/2027-12-27/
LOCATION:Private Zoom
CATEGORIES:Meditation
END:VEVENT
BEGIN:VEVENT
DTSTART;TZID=America/Los_Angeles:20280103T183000
DTEND;TZID=America/Los_Angeles:20280103T200000
DTSTAMP:20260424T010512
CREATED:20250924T194849Z
LAST-MODIFIED:20250924T194849Z
UID:10001929-1830537000-1830542400@uuspokane.org
SUMMARY:Meditation Group
DESCRIPTION:Buddhist Meditation – Sravasti Abbey
URL:https://uuspokane.org/event/meditation-group/2028-01-03/
LOCATION:Private Zoom
CATEGORIES:Meditation
END:VEVENT
BEGIN:VEVENT
DTSTART;TZID=America/Los_Angeles:20280110T183000
DTEND;TZID=America/Los_Angeles:20280110T200000
DTSTAMP:20260424T010512
CREATED:20250924T194849Z
LAST-MODIFIED:20250924T194849Z
UID:10001930-1831141800-1831147200@uuspokane.org
SUMMARY:Meditation Group
DESCRIPTION:Buddhist Meditation – Sravasti Abbey
URL:https://uuspokane.org/event/meditation-group/2028-01-10/
LOCATION:Private Zoom
CATEGORIES:Meditation
END:VEVENT
BEGIN:VEVENT
DTSTART;TZID=America/Los_Angeles:20280115T100000
DTEND;TZID=America/Los_Angeles:20280115T120000
DTSTAMP:20260424T010512
CREATED:20260217T231342Z
LAST-MODIFIED:20260217T231342Z
UID:10002715-1831543200-1831550400@uuspokane.org
SUMMARY:NAUA Monthly Service - ZOOM Only
DESCRIPTION:
URL:https://uuspokane.org/event/naua-monthly-service-zoom-only-2/2028-01-15/
LOCATION:Private Zoom
CATEGORIES:Worship Service
ORGANIZER;CN="Roy Dickerson":MAILTO:info@naunitarians.org
END:VEVENT
BEGIN:VEVENT
DTSTART;TZID=America/Los_Angeles:20280117T183000
DTEND;TZID=America/Los_Angeles:20280117T200000
DTSTAMP:20260424T010512
CREATED:20250924T194849Z
LAST-MODIFIED:20250924T194849Z
UID:10001931-1831746600-1831752000@uuspokane.org
SUMMARY:Meditation Group
DESCRIPTION:Buddhist Meditation – Sravasti Abbey
URL:https://uuspokane.org/event/meditation-group/2028-01-17/
LOCATION:Private Zoom
CATEGORIES:Meditation
END:VEVENT
BEGIN:VEVENT
DTSTART;TZID=America/Los_Angeles:20280124T183000
DTEND;TZID=America/Los_Angeles:20280124T200000
DTSTAMP:20260424T010512
CREATED:20250924T194849Z
LAST-MODIFIED:20250924T194849Z
UID:10001932-1832351400-1832356800@uuspokane.org
SUMMARY:Meditation Group
DESCRIPTION:Buddhist Meditation – Sravasti Abbey
URL:https://uuspokane.org/event/meditation-group/2028-01-24/
LOCATION:Private Zoom
CATEGORIES:Meditation
END:VEVENT
BEGIN:VEVENT
DTSTART;TZID=America/Los_Angeles:20280131T183000
DTEND;TZID=America/Los_Angeles:20280131T200000
DTSTAMP:20260424T010512
CREATED:20250924T194849Z
LAST-MODIFIED:20250924T194849Z
UID:10001933-1832956200-1832961600@uuspokane.org
SUMMARY:Meditation Group
DESCRIPTION:Buddhist Meditation – Sravasti Abbey
URL:https://uuspokane.org/event/meditation-group/2028-01-31/
LOCATION:Private Zoom
CATEGORIES:Meditation
END:VEVENT
BEGIN:VEVENT
DTSTART;TZID=America/Los_Angeles:20280207T183000
DTEND;TZID=America/Los_Angeles:20280207T200000
DTSTAMP:20260424T010512
CREATED:20250924T194849Z
LAST-MODIFIED:20250924T194849Z
UID:10001934-1833561000-1833566400@uuspokane.org
SUMMARY:Meditation Group
DESCRIPTION:Buddhist Meditation – Sravasti Abbey
URL:https://uuspokane.org/event/meditation-group/2028-02-07/
LOCATION:Private Zoom
CATEGORIES:Meditation
END:VEVENT
BEGIN:VEVENT
DTSTART;TZID=America/Los_Angeles:20280214T183000
DTEND;TZID=America/Los_Angeles:20280214T200000
DTSTAMP:20260424T010512
CREATED:20250924T194849Z
LAST-MODIFIED:20250924T194849Z
UID:10001935-1834165800-1834171200@uuspokane.org
SUMMARY:Meditation Group
DESCRIPTION:Buddhist Meditation – Sravasti Abbey
URL:https://uuspokane.org/event/meditation-group/2028-02-14/
LOCATION:Private Zoom
CATEGORIES:Meditation
END:VEVENT
BEGIN:VEVENT
DTSTART;TZID=America/Los_Angeles:20280219T100000
DTEND;TZID=America/Los_Angeles:20280219T120000
DTSTAMP:20260424T010512
CREATED:20260217T231342Z
LAST-MODIFIED:20260217T231342Z
UID:10002716-1834567200-1834574400@uuspokane.org
SUMMARY:NAUA Monthly Service - ZOOM Only
DESCRIPTION:
URL:https://uuspokane.org/event/naua-monthly-service-zoom-only-2/2028-02-19/
LOCATION:Private Zoom
CATEGORIES:Worship Service
ORGANIZER;CN="Roy Dickerson":MAILTO:info@naunitarians.org
END:VEVENT
BEGIN:VEVENT
DTSTART;TZID=America/Los_Angeles:20280221T183000
DTEND;TZID=America/Los_Angeles:20280221T200000
DTSTAMP:20260424T010512
CREATED:20250924T194849Z
LAST-MODIFIED:20250924T194849Z
UID:10001936-1834770600-1834776000@uuspokane.org
SUMMARY:Meditation Group
DESCRIPTION:Buddhist Meditation – Sravasti Abbey
URL:https://uuspokane.org/event/meditation-group/2028-02-21/
LOCATION:Private Zoom
CATEGORIES:Meditation
END:VEVENT
BEGIN:VEVENT
DTSTART;TZID=America/Los_Angeles:20280228T183000
DTEND;TZID=America/Los_Angeles:20280228T200000
DTSTAMP:20260424T010512
CREATED:20250924T194849Z
LAST-MODIFIED:20250924T194849Z
UID:10001937-1835375400-1835380800@uuspokane.org
SUMMARY:Meditation Group
DESCRIPTION:Buddhist Meditation – Sravasti Abbey
URL:https://uuspokane.org/event/meditation-group/2028-02-28/
LOCATION:Private Zoom
CATEGORIES:Meditation
END:VEVENT
BEGIN:VEVENT
DTSTART;TZID=America/Los_Angeles:20280306T183000
DTEND;TZID=America/Los_Angeles:20280306T200000
DTSTAMP:20260424T010512
CREATED:20250924T194849Z
LAST-MODIFIED:20250924T194849Z
UID:10001938-1835980200-1835985600@uuspokane.org
SUMMARY:Meditation Group
DESCRIPTION:Buddhist Meditation – Sravasti Abbey
URL:https://uuspokane.org/event/meditation-group/2028-03-06/
LOCATION:Private Zoom
CATEGORIES:Meditation
END:VEVENT
END:VCALENDAR