BEGIN:VCALENDAR
VERSION:2.0
PRODID:-//Unitarian Universalist Church of Spokane - ECPv6.15.20//NONSGML v1.0//EN
CALSCALE:GREGORIAN
METHOD:PUBLISH
X-ORIGINAL-URL:https://uuspokane.org
X-WR-CALDESC:Events for Unitarian Universalist Church of Spokane
REFRESH-INTERVAL;VALUE=DURATION:PT1H
X-Robots-Tag:noindex
X-PUBLISHED-TTL:PT1H
BEGIN:VTIMEZONE
TZID:America/Los_Angeles
BEGIN:DAYLIGHT
TZOFFSETFROM:-0800
TZOFFSETTO:-0700
TZNAME:PDT
DTSTART:20270314T100000
END:DAYLIGHT
BEGIN:STANDARD
TZOFFSETFROM:-0700
TZOFFSETTO:-0800
TZNAME:PST
DTSTART:20271107T090000
END:STANDARD
BEGIN:DAYLIGHT
TZOFFSETFROM:-0800
TZOFFSETTO:-0700
TZNAME:PDT
DTSTART:20280312T100000
END:DAYLIGHT
BEGIN:STANDARD
TZOFFSETFROM:-0700
TZOFFSETTO:-0800
TZNAME:PST
DTSTART:20281105T090000
END:STANDARD
BEGIN:DAYLIGHT
TZOFFSETFROM:-0800
TZOFFSETTO:-0700
TZNAME:PDT
DTSTART:20290311T100000
END:DAYLIGHT
BEGIN:STANDARD
TZOFFSETFROM:-0700
TZOFFSETTO:-0800
TZNAME:PST
DTSTART:20291104T090000
END:STANDARD
END:VTIMEZONE
BEGIN:VEVENT
DTSTART;TZID=America/Los_Angeles:20280313T183000
DTEND;TZID=America/Los_Angeles:20280313T200000
DTSTAMP:20260424T055349
CREATED:20250924T194849Z
LAST-MODIFIED:20250924T194849Z
UID:10001939-1836585000-1836590400@uuspokane.org
SUMMARY:Meditation Group
DESCRIPTION:Buddhist Meditation – Sravasti Abbey
URL:https://uuspokane.org/event/meditation-group/2028-03-13/
LOCATION:Private Zoom
CATEGORIES:Meditation
END:VEVENT
BEGIN:VEVENT
DTSTART;TZID=America/Los_Angeles:20280318T100000
DTEND;TZID=America/Los_Angeles:20280318T120000
DTSTAMP:20260424T055349
CREATED:20260217T231342Z
LAST-MODIFIED:20260217T231342Z
UID:10002717-1836986400-1836993600@uuspokane.org
SUMMARY:NAUA Monthly Service - ZOOM Only
DESCRIPTION:
URL:https://uuspokane.org/event/naua-monthly-service-zoom-only-2/2028-03-18/
LOCATION:Private Zoom
CATEGORIES:Worship Service
ORGANIZER;CN="Roy Dickerson":MAILTO:info@naunitarians.org
END:VEVENT
BEGIN:VEVENT
DTSTART;TZID=America/Los_Angeles:20280320T183000
DTEND;TZID=America/Los_Angeles:20280320T200000
DTSTAMP:20260424T055349
CREATED:20250924T194849Z
LAST-MODIFIED:20250924T194849Z
UID:10001940-1837189800-1837195200@uuspokane.org
SUMMARY:Meditation Group
DESCRIPTION:Buddhist Meditation – Sravasti Abbey
URL:https://uuspokane.org/event/meditation-group/2028-03-20/
LOCATION:Private Zoom
CATEGORIES:Meditation
END:VEVENT
BEGIN:VEVENT
DTSTART;TZID=America/Los_Angeles:20280327T183000
DTEND;TZID=America/Los_Angeles:20280327T200000
DTSTAMP:20260424T055349
CREATED:20250924T194849Z
LAST-MODIFIED:20250924T194849Z
UID:10001941-1837794600-1837800000@uuspokane.org
SUMMARY:Meditation Group
DESCRIPTION:Buddhist Meditation – Sravasti Abbey
URL:https://uuspokane.org/event/meditation-group/2028-03-27/
LOCATION:Private Zoom
CATEGORIES:Meditation
END:VEVENT
BEGIN:VEVENT
DTSTART;TZID=America/Los_Angeles:20280403T183000
DTEND;TZID=America/Los_Angeles:20280403T200000
DTSTAMP:20260424T055349
CREATED:20250924T194849Z
LAST-MODIFIED:20250924T194849Z
UID:10001942-1838399400-1838404800@uuspokane.org
SUMMARY:Meditation Group
DESCRIPTION:Buddhist Meditation – Sravasti Abbey
URL:https://uuspokane.org/event/meditation-group/2028-04-03/
LOCATION:Private Zoom
CATEGORIES:Meditation
END:VEVENT
BEGIN:VEVENT
DTSTART;TZID=America/Los_Angeles:20280410T183000
DTEND;TZID=America/Los_Angeles:20280410T200000
DTSTAMP:20260424T055349
CREATED:20250924T194849Z
LAST-MODIFIED:20250924T194849Z
UID:10001943-1839004200-1839009600@uuspokane.org
SUMMARY:Meditation Group
DESCRIPTION:Buddhist Meditation – Sravasti Abbey
URL:https://uuspokane.org/event/meditation-group/2028-04-10/
LOCATION:Private Zoom
CATEGORIES:Meditation
END:VEVENT
BEGIN:VEVENT
DTSTART;TZID=America/Los_Angeles:20280415T100000
DTEND;TZID=America/Los_Angeles:20280415T120000
DTSTAMP:20260424T055349
CREATED:20260217T231342Z
LAST-MODIFIED:20260217T231342Z
UID:10002718-1839405600-1839412800@uuspokane.org
SUMMARY:NAUA Monthly Service - ZOOM Only
DESCRIPTION:
URL:https://uuspokane.org/event/naua-monthly-service-zoom-only-2/2028-04-15/
LOCATION:Private Zoom
CATEGORIES:Worship Service
ORGANIZER;CN="Roy Dickerson":MAILTO:info@naunitarians.org
END:VEVENT
BEGIN:VEVENT
DTSTART;TZID=America/Los_Angeles:20280417T183000
DTEND;TZID=America/Los_Angeles:20280417T200000
DTSTAMP:20260424T055349
CREATED:20250924T194849Z
LAST-MODIFIED:20250924T194849Z
UID:10001944-1839609000-1839614400@uuspokane.org
SUMMARY:Meditation Group
DESCRIPTION:Buddhist Meditation – Sravasti Abbey
URL:https://uuspokane.org/event/meditation-group/2028-04-17/
LOCATION:Private Zoom
CATEGORIES:Meditation
END:VEVENT
BEGIN:VEVENT
DTSTART;TZID=America/Los_Angeles:20280424T183000
DTEND;TZID=America/Los_Angeles:20280424T200000
DTSTAMP:20260424T055349
CREATED:20250924T194849Z
LAST-MODIFIED:20250924T194849Z
UID:10001945-1840213800-1840219200@uuspokane.org
SUMMARY:Meditation Group
DESCRIPTION:Buddhist Meditation – Sravasti Abbey
URL:https://uuspokane.org/event/meditation-group/2028-04-24/
LOCATION:Private Zoom
CATEGORIES:Meditation
END:VEVENT
BEGIN:VEVENT
DTSTART;TZID=America/Los_Angeles:20280501T183000
DTEND;TZID=America/Los_Angeles:20280501T200000
DTSTAMP:20260424T055349
CREATED:20250924T194849Z
LAST-MODIFIED:20250924T194849Z
UID:10001946-1840818600-1840824000@uuspokane.org
SUMMARY:Meditation Group
DESCRIPTION:Buddhist Meditation – Sravasti Abbey
URL:https://uuspokane.org/event/meditation-group/2028-05-01/
LOCATION:Private Zoom
CATEGORIES:Meditation
END:VEVENT
BEGIN:VEVENT
DTSTART;TZID=America/Los_Angeles:20280508T183000
DTEND;TZID=America/Los_Angeles:20280508T200000
DTSTAMP:20260424T055349
CREATED:20250924T194849Z
LAST-MODIFIED:20250924T194849Z
UID:10001947-1841423400-1841428800@uuspokane.org
SUMMARY:Meditation Group
DESCRIPTION:Buddhist Meditation – Sravasti Abbey
URL:https://uuspokane.org/event/meditation-group/2028-05-08/
LOCATION:Private Zoom
CATEGORIES:Meditation
END:VEVENT
BEGIN:VEVENT
DTSTART;TZID=America/Los_Angeles:20280515T183000
DTEND;TZID=America/Los_Angeles:20280515T200000
DTSTAMP:20260424T055349
CREATED:20250924T194849Z
LAST-MODIFIED:20250924T194849Z
UID:10001948-1842028200-1842033600@uuspokane.org
SUMMARY:Meditation Group
DESCRIPTION:Buddhist Meditation – Sravasti Abbey
URL:https://uuspokane.org/event/meditation-group/2028-05-15/
LOCATION:Private Zoom
CATEGORIES:Meditation
END:VEVENT
BEGIN:VEVENT
DTSTART;TZID=America/Los_Angeles:20280520T100000
DTEND;TZID=America/Los_Angeles:20280520T120000
DTSTAMP:20260424T055349
CREATED:20260217T231342Z
LAST-MODIFIED:20260217T231342Z
UID:10002719-1842429600-1842436800@uuspokane.org
SUMMARY:NAUA Monthly Service - ZOOM Only
DESCRIPTION:
URL:https://uuspokane.org/event/naua-monthly-service-zoom-only-2/2028-05-20/
LOCATION:Private Zoom
CATEGORIES:Worship Service
ORGANIZER;CN="Roy Dickerson":MAILTO:info@naunitarians.org
END:VEVENT
BEGIN:VEVENT
DTSTART;TZID=America/Los_Angeles:20280522T183000
DTEND;TZID=America/Los_Angeles:20280522T200000
DTSTAMP:20260424T055349
CREATED:20250924T194849Z
LAST-MODIFIED:20250924T194849Z
UID:10001949-1842633000-1842638400@uuspokane.org
SUMMARY:Meditation Group
DESCRIPTION:Buddhist Meditation – Sravasti Abbey
URL:https://uuspokane.org/event/meditation-group/2028-05-22/
LOCATION:Private Zoom
CATEGORIES:Meditation
END:VEVENT
BEGIN:VEVENT
DTSTART;TZID=America/Los_Angeles:20280529T183000
DTEND;TZID=America/Los_Angeles:20280529T200000
DTSTAMP:20260424T055349
CREATED:20250924T194849Z
LAST-MODIFIED:20250924T194849Z
UID:10001950-1843237800-1843243200@uuspokane.org
SUMMARY:Meditation Group
DESCRIPTION:Buddhist Meditation – Sravasti Abbey
URL:https://uuspokane.org/event/meditation-group/2028-05-29/
LOCATION:Private Zoom
CATEGORIES:Meditation
END:VEVENT
BEGIN:VEVENT
DTSTART;TZID=America/Los_Angeles:20280605T183000
DTEND;TZID=America/Los_Angeles:20280605T200000
DTSTAMP:20260424T055349
CREATED:20250924T194849Z
LAST-MODIFIED:20250924T194849Z
UID:10001951-1843842600-1843848000@uuspokane.org
SUMMARY:Meditation Group
DESCRIPTION:Buddhist Meditation – Sravasti Abbey
URL:https://uuspokane.org/event/meditation-group/2028-06-05/
LOCATION:Private Zoom
CATEGORIES:Meditation
END:VEVENT
BEGIN:VEVENT
DTSTART;TZID=America/Los_Angeles:20280612T183000
DTEND;TZID=America/Los_Angeles:20280612T200000
DTSTAMP:20260424T055349
CREATED:20250924T194849Z
LAST-MODIFIED:20250924T194849Z
UID:10001952-1844447400-1844452800@uuspokane.org
SUMMARY:Meditation Group
DESCRIPTION:Buddhist Meditation – Sravasti Abbey
URL:https://uuspokane.org/event/meditation-group/2028-06-12/
LOCATION:Private Zoom
CATEGORIES:Meditation
END:VEVENT
BEGIN:VEVENT
DTSTART;TZID=America/Los_Angeles:20280617T100000
DTEND;TZID=America/Los_Angeles:20280617T120000
DTSTAMP:20260424T055349
CREATED:20260217T231342Z
LAST-MODIFIED:20260217T231342Z
UID:10002720-1844848800-1844856000@uuspokane.org
SUMMARY:NAUA Monthly Service - ZOOM Only
DESCRIPTION:
URL:https://uuspokane.org/event/naua-monthly-service-zoom-only-2/2028-06-17/
LOCATION:Private Zoom
CATEGORIES:Worship Service
ORGANIZER;CN="Roy Dickerson":MAILTO:info@naunitarians.org
END:VEVENT
BEGIN:VEVENT
DTSTART;TZID=America/Los_Angeles:20280619T183000
DTEND;TZID=America/Los_Angeles:20280619T200000
DTSTAMP:20260424T055349
CREATED:20250924T194849Z
LAST-MODIFIED:20250924T194849Z
UID:10001953-1845052200-1845057600@uuspokane.org
SUMMARY:Meditation Group
DESCRIPTION:Buddhist Meditation – Sravasti Abbey
URL:https://uuspokane.org/event/meditation-group/2028-06-19/
LOCATION:Private Zoom
CATEGORIES:Meditation
END:VEVENT
BEGIN:VEVENT
DTSTART;TZID=America/Los_Angeles:20280626T183000
DTEND;TZID=America/Los_Angeles:20280626T200000
DTSTAMP:20260424T055349
CREATED:20250924T194849Z
LAST-MODIFIED:20250924T194849Z
UID:10001954-1845657000-1845662400@uuspokane.org
SUMMARY:Meditation Group
DESCRIPTION:Buddhist Meditation – Sravasti Abbey
URL:https://uuspokane.org/event/meditation-group/2028-06-26/
LOCATION:Private Zoom
CATEGORIES:Meditation
END:VEVENT
BEGIN:VEVENT
DTSTART;TZID=America/Los_Angeles:20280703T183000
DTEND;TZID=America/Los_Angeles:20280703T200000
DTSTAMP:20260424T055349
CREATED:20250924T194849Z
LAST-MODIFIED:20250924T194849Z
UID:10001955-1846261800-1846267200@uuspokane.org
SUMMARY:Meditation Group
DESCRIPTION:Buddhist Meditation – Sravasti Abbey
URL:https://uuspokane.org/event/meditation-group/2028-07-03/
LOCATION:Private Zoom
CATEGORIES:Meditation
END:VEVENT
BEGIN:VEVENT
DTSTART;TZID=America/Los_Angeles:20280710T183000
DTEND;TZID=America/Los_Angeles:20280710T200000
DTSTAMP:20260424T055349
CREATED:20250924T194849Z
LAST-MODIFIED:20250924T194849Z
UID:10001956-1846866600-1846872000@uuspokane.org
SUMMARY:Meditation Group
DESCRIPTION:Buddhist Meditation – Sravasti Abbey
URL:https://uuspokane.org/event/meditation-group/2028-07-10/
LOCATION:Private Zoom
CATEGORIES:Meditation
END:VEVENT
BEGIN:VEVENT
DTSTART;TZID=America/Los_Angeles:20280715T100000
DTEND;TZID=America/Los_Angeles:20280715T120000
DTSTAMP:20260424T055349
CREATED:20260217T231342Z
LAST-MODIFIED:20260217T231342Z
UID:10002721-1847268000-1847275200@uuspokane.org
SUMMARY:NAUA Monthly Service - ZOOM Only
DESCRIPTION:
URL:https://uuspokane.org/event/naua-monthly-service-zoom-only-2/2028-07-15/
LOCATION:Private Zoom
CATEGORIES:Worship Service
ORGANIZER;CN="Roy Dickerson":MAILTO:info@naunitarians.org
END:VEVENT
BEGIN:VEVENT
DTSTART;TZID=America/Los_Angeles:20280717T183000
DTEND;TZID=America/Los_Angeles:20280717T200000
DTSTAMP:20260424T055349
CREATED:20250924T194849Z
LAST-MODIFIED:20250924T194849Z
UID:10001957-1847471400-1847476800@uuspokane.org
SUMMARY:Meditation Group
DESCRIPTION:Buddhist Meditation – Sravasti Abbey
URL:https://uuspokane.org/event/meditation-group/2028-07-17/
LOCATION:Private Zoom
CATEGORIES:Meditation
END:VEVENT
BEGIN:VEVENT
DTSTART;TZID=America/Los_Angeles:20280724T183000
DTEND;TZID=America/Los_Angeles:20280724T200000
DTSTAMP:20260424T055349
CREATED:20250924T194849Z
LAST-MODIFIED:20250924T194849Z
UID:10001958-1848076200-1848081600@uuspokane.org
SUMMARY:Meditation Group
DESCRIPTION:Buddhist Meditation – Sravasti Abbey
URL:https://uuspokane.org/event/meditation-group/2028-07-24/
LOCATION:Private Zoom
CATEGORIES:Meditation
END:VEVENT
BEGIN:VEVENT
DTSTART;TZID=America/Los_Angeles:20280731T183000
DTEND;TZID=America/Los_Angeles:20280731T200000
DTSTAMP:20260424T055349
CREATED:20250924T194849Z
LAST-MODIFIED:20250924T194849Z
UID:10001959-1848681000-1848686400@uuspokane.org
SUMMARY:Meditation Group
DESCRIPTION:Buddhist Meditation – Sravasti Abbey
URL:https://uuspokane.org/event/meditation-group/2028-07-31/
LOCATION:Private Zoom
CATEGORIES:Meditation
END:VEVENT
BEGIN:VEVENT
DTSTART;TZID=America/Los_Angeles:20280807T183000
DTEND;TZID=America/Los_Angeles:20280807T200000
DTSTAMP:20260424T055349
CREATED:20250924T194849Z
LAST-MODIFIED:20250924T194849Z
UID:10001960-1849285800-1849291200@uuspokane.org
SUMMARY:Meditation Group
DESCRIPTION:Buddhist Meditation – Sravasti Abbey
URL:https://uuspokane.org/event/meditation-group/2028-08-07/
LOCATION:Private Zoom
CATEGORIES:Meditation
END:VEVENT
BEGIN:VEVENT
DTSTART;TZID=America/Los_Angeles:20280814T183000
DTEND;TZID=America/Los_Angeles:20280814T200000
DTSTAMP:20260424T055349
CREATED:20250924T194849Z
LAST-MODIFIED:20250924T194849Z
UID:10001961-1849890600-1849896000@uuspokane.org
SUMMARY:Meditation Group
DESCRIPTION:Buddhist Meditation – Sravasti Abbey
URL:https://uuspokane.org/event/meditation-group/2028-08-14/
LOCATION:Private Zoom
CATEGORIES:Meditation
END:VEVENT
BEGIN:VEVENT
DTSTART;TZID=America/Los_Angeles:20280819T100000
DTEND;TZID=America/Los_Angeles:20280819T120000
DTSTAMP:20260424T055349
CREATED:20260217T231342Z
LAST-MODIFIED:20260217T231342Z
UID:10002722-1850292000-1850299200@uuspokane.org
SUMMARY:NAUA Monthly Service - ZOOM Only
DESCRIPTION:
URL:https://uuspokane.org/event/naua-monthly-service-zoom-only-2/2028-08-19/
LOCATION:Private Zoom
CATEGORIES:Worship Service
ORGANIZER;CN="Roy Dickerson":MAILTO:info@naunitarians.org
END:VEVENT
BEGIN:VEVENT
DTSTART;TZID=America/Los_Angeles:20280821T183000
DTEND;TZID=America/Los_Angeles:20280821T200000
DTSTAMP:20260424T055349
CREATED:20250924T194849Z
LAST-MODIFIED:20250924T194849Z
UID:10001962-1850495400-1850500800@uuspokane.org
SUMMARY:Meditation Group
DESCRIPTION:Buddhist Meditation – Sravasti Abbey
URL:https://uuspokane.org/event/meditation-group/2028-08-21/
LOCATION:Private Zoom
CATEGORIES:Meditation
END:VEVENT
END:VCALENDAR