BEGIN:VCALENDAR
VERSION:2.0
PRODID:-//Unitarian Universalist Church of Spokane - ECPv6.15.20//NONSGML v1.0//EN
CALSCALE:GREGORIAN
METHOD:PUBLISH
X-ORIGINAL-URL:https://uuspokane.org
X-WR-CALDESC:Events for Unitarian Universalist Church of Spokane
REFRESH-INTERVAL;VALUE=DURATION:PT1H
X-Robots-Tag:noindex
X-PUBLISHED-TTL:PT1H
BEGIN:VTIMEZONE
TZID:America/Los_Angeles
BEGIN:DAYLIGHT
TZOFFSETFROM:-0800
TZOFFSETTO:-0700
TZNAME:PDT
DTSTART:20270314T100000
END:DAYLIGHT
BEGIN:STANDARD
TZOFFSETFROM:-0700
TZOFFSETTO:-0800
TZNAME:PST
DTSTART:20271107T090000
END:STANDARD
BEGIN:DAYLIGHT
TZOFFSETFROM:-0800
TZOFFSETTO:-0700
TZNAME:PDT
DTSTART:20280312T100000
END:DAYLIGHT
BEGIN:STANDARD
TZOFFSETFROM:-0700
TZOFFSETTO:-0800
TZNAME:PST
DTSTART:20281105T090000
END:STANDARD
BEGIN:DAYLIGHT
TZOFFSETFROM:-0800
TZOFFSETTO:-0700
TZNAME:PDT
DTSTART:20290311T100000
END:DAYLIGHT
BEGIN:STANDARD
TZOFFSETFROM:-0700
TZOFFSETTO:-0800
TZNAME:PST
DTSTART:20291104T090000
END:STANDARD
END:VTIMEZONE
BEGIN:VEVENT
DTSTART;TZID=America/Los_Angeles:20280703T183000
DTEND;TZID=America/Los_Angeles:20280703T200000
DTSTAMP:20260424T092033
CREATED:20250924T194849Z
LAST-MODIFIED:20250924T194849Z
UID:10001955-1846261800-1846267200@uuspokane.org
SUMMARY:Meditation Group
DESCRIPTION:Buddhist Meditation – Sravasti Abbey
URL:https://uuspokane.org/event/meditation-group/2028-07-03/
LOCATION:Private Zoom
CATEGORIES:Meditation
END:VEVENT
BEGIN:VEVENT
DTSTART;TZID=America/Los_Angeles:20280710T183000
DTEND;TZID=America/Los_Angeles:20280710T200000
DTSTAMP:20260424T092033
CREATED:20250924T194849Z
LAST-MODIFIED:20250924T194849Z
UID:10001956-1846866600-1846872000@uuspokane.org
SUMMARY:Meditation Group
DESCRIPTION:Buddhist Meditation – Sravasti Abbey
URL:https://uuspokane.org/event/meditation-group/2028-07-10/
LOCATION:Private Zoom
CATEGORIES:Meditation
END:VEVENT
BEGIN:VEVENT
DTSTART;TZID=America/Los_Angeles:20280715T100000
DTEND;TZID=America/Los_Angeles:20280715T120000
DTSTAMP:20260424T092033
CREATED:20260217T231342Z
LAST-MODIFIED:20260217T231342Z
UID:10002721-1847268000-1847275200@uuspokane.org
SUMMARY:NAUA Monthly Service - ZOOM Only
DESCRIPTION:
URL:https://uuspokane.org/event/naua-monthly-service-zoom-only-2/2028-07-15/
LOCATION:Private Zoom
CATEGORIES:Worship Service
ORGANIZER;CN="Roy Dickerson":MAILTO:info@naunitarians.org
END:VEVENT
BEGIN:VEVENT
DTSTART;TZID=America/Los_Angeles:20280717T183000
DTEND;TZID=America/Los_Angeles:20280717T200000
DTSTAMP:20260424T092033
CREATED:20250924T194849Z
LAST-MODIFIED:20250924T194849Z
UID:10001957-1847471400-1847476800@uuspokane.org
SUMMARY:Meditation Group
DESCRIPTION:Buddhist Meditation – Sravasti Abbey
URL:https://uuspokane.org/event/meditation-group/2028-07-17/
LOCATION:Private Zoom
CATEGORIES:Meditation
END:VEVENT
BEGIN:VEVENT
DTSTART;TZID=America/Los_Angeles:20280724T183000
DTEND;TZID=America/Los_Angeles:20280724T200000
DTSTAMP:20260424T092033
CREATED:20250924T194849Z
LAST-MODIFIED:20250924T194849Z
UID:10001958-1848076200-1848081600@uuspokane.org
SUMMARY:Meditation Group
DESCRIPTION:Buddhist Meditation – Sravasti Abbey
URL:https://uuspokane.org/event/meditation-group/2028-07-24/
LOCATION:Private Zoom
CATEGORIES:Meditation
END:VEVENT
BEGIN:VEVENT
DTSTART;TZID=America/Los_Angeles:20280731T183000
DTEND;TZID=America/Los_Angeles:20280731T200000
DTSTAMP:20260424T092033
CREATED:20250924T194849Z
LAST-MODIFIED:20250924T194849Z
UID:10001959-1848681000-1848686400@uuspokane.org
SUMMARY:Meditation Group
DESCRIPTION:Buddhist Meditation – Sravasti Abbey
URL:https://uuspokane.org/event/meditation-group/2028-07-31/
LOCATION:Private Zoom
CATEGORIES:Meditation
END:VEVENT
BEGIN:VEVENT
DTSTART;TZID=America/Los_Angeles:20280807T183000
DTEND;TZID=America/Los_Angeles:20280807T200000
DTSTAMP:20260424T092033
CREATED:20250924T194849Z
LAST-MODIFIED:20250924T194849Z
UID:10001960-1849285800-1849291200@uuspokane.org
SUMMARY:Meditation Group
DESCRIPTION:Buddhist Meditation – Sravasti Abbey
URL:https://uuspokane.org/event/meditation-group/2028-08-07/
LOCATION:Private Zoom
CATEGORIES:Meditation
END:VEVENT
BEGIN:VEVENT
DTSTART;TZID=America/Los_Angeles:20280814T183000
DTEND;TZID=America/Los_Angeles:20280814T200000
DTSTAMP:20260424T092033
CREATED:20250924T194849Z
LAST-MODIFIED:20250924T194849Z
UID:10001961-1849890600-1849896000@uuspokane.org
SUMMARY:Meditation Group
DESCRIPTION:Buddhist Meditation – Sravasti Abbey
URL:https://uuspokane.org/event/meditation-group/2028-08-14/
LOCATION:Private Zoom
CATEGORIES:Meditation
END:VEVENT
BEGIN:VEVENT
DTSTART;TZID=America/Los_Angeles:20280819T100000
DTEND;TZID=America/Los_Angeles:20280819T120000
DTSTAMP:20260424T092033
CREATED:20260217T231342Z
LAST-MODIFIED:20260217T231342Z
UID:10002722-1850292000-1850299200@uuspokane.org
SUMMARY:NAUA Monthly Service - ZOOM Only
DESCRIPTION:
URL:https://uuspokane.org/event/naua-monthly-service-zoom-only-2/2028-08-19/
LOCATION:Private Zoom
CATEGORIES:Worship Service
ORGANIZER;CN="Roy Dickerson":MAILTO:info@naunitarians.org
END:VEVENT
BEGIN:VEVENT
DTSTART;TZID=America/Los_Angeles:20280821T183000
DTEND;TZID=America/Los_Angeles:20280821T200000
DTSTAMP:20260424T092033
CREATED:20250924T194849Z
LAST-MODIFIED:20250924T194849Z
UID:10001962-1850495400-1850500800@uuspokane.org
SUMMARY:Meditation Group
DESCRIPTION:Buddhist Meditation – Sravasti Abbey
URL:https://uuspokane.org/event/meditation-group/2028-08-21/
LOCATION:Private Zoom
CATEGORIES:Meditation
END:VEVENT
BEGIN:VEVENT
DTSTART;TZID=America/Los_Angeles:20280828T183000
DTEND;TZID=America/Los_Angeles:20280828T200000
DTSTAMP:20260424T092033
CREATED:20250924T194849Z
LAST-MODIFIED:20250924T194849Z
UID:10001963-1851100200-1851105600@uuspokane.org
SUMMARY:Meditation Group
DESCRIPTION:Buddhist Meditation – Sravasti Abbey
URL:https://uuspokane.org/event/meditation-group/2028-08-28/
LOCATION:Private Zoom
CATEGORIES:Meditation
END:VEVENT
BEGIN:VEVENT
DTSTART;TZID=America/Los_Angeles:20280904T183000
DTEND;TZID=America/Los_Angeles:20280904T200000
DTSTAMP:20260424T092033
CREATED:20250924T194849Z
LAST-MODIFIED:20250924T194849Z
UID:10001964-1851705000-1851710400@uuspokane.org
SUMMARY:Meditation Group
DESCRIPTION:Buddhist Meditation – Sravasti Abbey
URL:https://uuspokane.org/event/meditation-group/2028-09-04/
LOCATION:Private Zoom
CATEGORIES:Meditation
END:VEVENT
BEGIN:VEVENT
DTSTART;TZID=America/Los_Angeles:20280911T183000
DTEND;TZID=America/Los_Angeles:20280911T200000
DTSTAMP:20260424T092033
CREATED:20250924T194849Z
LAST-MODIFIED:20250924T194849Z
UID:10001965-1852309800-1852315200@uuspokane.org
SUMMARY:Meditation Group
DESCRIPTION:Buddhist Meditation – Sravasti Abbey
URL:https://uuspokane.org/event/meditation-group/2028-09-11/
LOCATION:Private Zoom
CATEGORIES:Meditation
END:VEVENT
BEGIN:VEVENT
DTSTART;TZID=America/Los_Angeles:20280916T100000
DTEND;TZID=America/Los_Angeles:20280916T120000
DTSTAMP:20260424T092033
CREATED:20260217T231342Z
LAST-MODIFIED:20260217T231342Z
UID:10002723-1852711200-1852718400@uuspokane.org
SUMMARY:NAUA Monthly Service - ZOOM Only
DESCRIPTION:
URL:https://uuspokane.org/event/naua-monthly-service-zoom-only-2/2028-09-16/
LOCATION:Private Zoom
CATEGORIES:Worship Service
ORGANIZER;CN="Roy Dickerson":MAILTO:info@naunitarians.org
END:VEVENT
BEGIN:VEVENT
DTSTART;TZID=America/Los_Angeles:20280918T183000
DTEND;TZID=America/Los_Angeles:20280918T200000
DTSTAMP:20260424T092033
CREATED:20250924T194849Z
LAST-MODIFIED:20250924T194849Z
UID:10001966-1852914600-1852920000@uuspokane.org
SUMMARY:Meditation Group
DESCRIPTION:Buddhist Meditation – Sravasti Abbey
URL:https://uuspokane.org/event/meditation-group/2028-09-18/
LOCATION:Private Zoom
CATEGORIES:Meditation
END:VEVENT
BEGIN:VEVENT
DTSTART;TZID=America/Los_Angeles:20280925T183000
DTEND;TZID=America/Los_Angeles:20280925T200000
DTSTAMP:20260424T092033
CREATED:20250924T194849Z
LAST-MODIFIED:20250924T194849Z
UID:10001967-1853519400-1853524800@uuspokane.org
SUMMARY:Meditation Group
DESCRIPTION:Buddhist Meditation – Sravasti Abbey
URL:https://uuspokane.org/event/meditation-group/2028-09-25/
LOCATION:Private Zoom
CATEGORIES:Meditation
END:VEVENT
BEGIN:VEVENT
DTSTART;TZID=America/Los_Angeles:20281002T183000
DTEND;TZID=America/Los_Angeles:20281002T200000
DTSTAMP:20260424T092033
CREATED:20250924T194849Z
LAST-MODIFIED:20250924T194849Z
UID:10001968-1854124200-1854129600@uuspokane.org
SUMMARY:Meditation Group
DESCRIPTION:Buddhist Meditation – Sravasti Abbey
URL:https://uuspokane.org/event/meditation-group/2028-10-02/
LOCATION:Private Zoom
CATEGORIES:Meditation
END:VEVENT
BEGIN:VEVENT
DTSTART;TZID=America/Los_Angeles:20281009T183000
DTEND;TZID=America/Los_Angeles:20281009T200000
DTSTAMP:20260424T092033
CREATED:20250924T194849Z
LAST-MODIFIED:20250924T194849Z
UID:10001969-1854729000-1854734400@uuspokane.org
SUMMARY:Meditation Group
DESCRIPTION:Buddhist Meditation – Sravasti Abbey
URL:https://uuspokane.org/event/meditation-group/2028-10-09/
LOCATION:Private Zoom
CATEGORIES:Meditation
END:VEVENT
BEGIN:VEVENT
DTSTART;TZID=America/Los_Angeles:20281016T183000
DTEND;TZID=America/Los_Angeles:20281016T200000
DTSTAMP:20260424T092033
CREATED:20250924T194849Z
LAST-MODIFIED:20250924T194849Z
UID:10001970-1855333800-1855339200@uuspokane.org
SUMMARY:Meditation Group
DESCRIPTION:Buddhist Meditation – Sravasti Abbey
URL:https://uuspokane.org/event/meditation-group/2028-10-16/
LOCATION:Private Zoom
CATEGORIES:Meditation
END:VEVENT
BEGIN:VEVENT
DTSTART;TZID=America/Los_Angeles:20281021T100000
DTEND;TZID=America/Los_Angeles:20281021T120000
DTSTAMP:20260424T092033
CREATED:20260217T231342Z
LAST-MODIFIED:20260217T231342Z
UID:10002724-1855735200-1855742400@uuspokane.org
SUMMARY:NAUA Monthly Service - ZOOM Only
DESCRIPTION:
URL:https://uuspokane.org/event/naua-monthly-service-zoom-only-2/2028-10-21/
LOCATION:Private Zoom
CATEGORIES:Worship Service
ORGANIZER;CN="Roy Dickerson":MAILTO:info@naunitarians.org
END:VEVENT
BEGIN:VEVENT
DTSTART;TZID=America/Los_Angeles:20281023T183000
DTEND;TZID=America/Los_Angeles:20281023T200000
DTSTAMP:20260424T092033
CREATED:20250924T194849Z
LAST-MODIFIED:20250924T194849Z
UID:10001971-1855938600-1855944000@uuspokane.org
SUMMARY:Meditation Group
DESCRIPTION:Buddhist Meditation – Sravasti Abbey
URL:https://uuspokane.org/event/meditation-group/2028-10-23/
LOCATION:Private Zoom
CATEGORIES:Meditation
END:VEVENT
BEGIN:VEVENT
DTSTART;TZID=America/Los_Angeles:20281030T183000
DTEND;TZID=America/Los_Angeles:20281030T200000
DTSTAMP:20260424T092033
CREATED:20250924T194849Z
LAST-MODIFIED:20250924T194849Z
UID:10001972-1856543400-1856548800@uuspokane.org
SUMMARY:Meditation Group
DESCRIPTION:Buddhist Meditation – Sravasti Abbey
URL:https://uuspokane.org/event/meditation-group/2028-10-30/
LOCATION:Private Zoom
CATEGORIES:Meditation
END:VEVENT
BEGIN:VEVENT
DTSTART;TZID=America/Los_Angeles:20281106T183000
DTEND;TZID=America/Los_Angeles:20281106T200000
DTSTAMP:20260424T092033
CREATED:20250924T194849Z
LAST-MODIFIED:20250924T194849Z
UID:10001973-1857148200-1857153600@uuspokane.org
SUMMARY:Meditation Group
DESCRIPTION:Buddhist Meditation – Sravasti Abbey
URL:https://uuspokane.org/event/meditation-group/2028-11-06/
LOCATION:Private Zoom
CATEGORIES:Meditation
END:VEVENT
BEGIN:VEVENT
DTSTART;TZID=America/Los_Angeles:20281113T183000
DTEND;TZID=America/Los_Angeles:20281113T200000
DTSTAMP:20260424T092033
CREATED:20250924T194849Z
LAST-MODIFIED:20250924T194849Z
UID:10001974-1857753000-1857758400@uuspokane.org
SUMMARY:Meditation Group
DESCRIPTION:Buddhist Meditation – Sravasti Abbey
URL:https://uuspokane.org/event/meditation-group/2028-11-13/
LOCATION:Private Zoom
CATEGORIES:Meditation
END:VEVENT
BEGIN:VEVENT
DTSTART;TZID=America/Los_Angeles:20281118T100000
DTEND;TZID=America/Los_Angeles:20281118T120000
DTSTAMP:20260424T092033
CREATED:20260217T231342Z
LAST-MODIFIED:20260217T231342Z
UID:10002725-1858154400-1858161600@uuspokane.org
SUMMARY:NAUA Monthly Service - ZOOM Only
DESCRIPTION:
URL:https://uuspokane.org/event/naua-monthly-service-zoom-only-2/2028-11-18/
LOCATION:Private Zoom
CATEGORIES:Worship Service
ORGANIZER;CN="Roy Dickerson":MAILTO:info@naunitarians.org
END:VEVENT
BEGIN:VEVENT
DTSTART;TZID=America/Los_Angeles:20281120T183000
DTEND;TZID=America/Los_Angeles:20281120T200000
DTSTAMP:20260424T092033
CREATED:20250924T194849Z
LAST-MODIFIED:20250924T194849Z
UID:10001975-1858357800-1858363200@uuspokane.org
SUMMARY:Meditation Group
DESCRIPTION:Buddhist Meditation – Sravasti Abbey
URL:https://uuspokane.org/event/meditation-group/2028-11-20/
LOCATION:Private Zoom
CATEGORIES:Meditation
END:VEVENT
BEGIN:VEVENT
DTSTART;TZID=America/Los_Angeles:20281127T183000
DTEND;TZID=America/Los_Angeles:20281127T200000
DTSTAMP:20260424T092033
CREATED:20250924T194849Z
LAST-MODIFIED:20250924T194849Z
UID:10001976-1858962600-1858968000@uuspokane.org
SUMMARY:Meditation Group
DESCRIPTION:Buddhist Meditation – Sravasti Abbey
URL:https://uuspokane.org/event/meditation-group/2028-11-27/
LOCATION:Private Zoom
CATEGORIES:Meditation
END:VEVENT
BEGIN:VEVENT
DTSTART;TZID=America/Los_Angeles:20281204T183000
DTEND;TZID=America/Los_Angeles:20281204T200000
DTSTAMP:20260424T092033
CREATED:20250924T194849Z
LAST-MODIFIED:20250924T194849Z
UID:10001977-1859567400-1859572800@uuspokane.org
SUMMARY:Meditation Group
DESCRIPTION:Buddhist Meditation – Sravasti Abbey
URL:https://uuspokane.org/event/meditation-group/2028-12-04/
LOCATION:Private Zoom
CATEGORIES:Meditation
END:VEVENT
BEGIN:VEVENT
DTSTART;TZID=America/Los_Angeles:20281211T183000
DTEND;TZID=America/Los_Angeles:20281211T200000
DTSTAMP:20260424T092033
CREATED:20250924T194849Z
LAST-MODIFIED:20250924T194849Z
UID:10001978-1860172200-1860177600@uuspokane.org
SUMMARY:Meditation Group
DESCRIPTION:Buddhist Meditation – Sravasti Abbey
URL:https://uuspokane.org/event/meditation-group/2028-12-11/
LOCATION:Private Zoom
CATEGORIES:Meditation
END:VEVENT
BEGIN:VEVENT
DTSTART;TZID=America/Los_Angeles:20281216T100000
DTEND;TZID=America/Los_Angeles:20281216T120000
DTSTAMP:20260424T092033
CREATED:20260217T231342Z
LAST-MODIFIED:20260217T231342Z
UID:10002726-1860573600-1860580800@uuspokane.org
SUMMARY:NAUA Monthly Service - ZOOM Only
DESCRIPTION:
URL:https://uuspokane.org/event/naua-monthly-service-zoom-only-2/2028-12-16/
LOCATION:Private Zoom
CATEGORIES:Worship Service
ORGANIZER;CN="Roy Dickerson":MAILTO:info@naunitarians.org
END:VEVENT
END:VCALENDAR