BEGIN:VCALENDAR
VERSION:2.0
PRODID:-//Unitarian Universalist Church of Spokane - ECPv6.15.20//NONSGML v1.0//EN
CALSCALE:GREGORIAN
METHOD:PUBLISH
X-ORIGINAL-URL:https://uuspokane.org
X-WR-CALDESC:Events for Unitarian Universalist Church of Spokane
REFRESH-INTERVAL;VALUE=DURATION:PT1H
X-Robots-Tag:noindex
X-PUBLISHED-TTL:PT1H
BEGIN:VTIMEZONE
TZID:America/Los_Angeles
BEGIN:DAYLIGHT
TZOFFSETFROM:-0800
TZOFFSETTO:-0700
TZNAME:PDT
DTSTART:20280312T100000
END:DAYLIGHT
BEGIN:STANDARD
TZOFFSETFROM:-0700
TZOFFSETTO:-0800
TZNAME:PST
DTSTART:20281105T090000
END:STANDARD
BEGIN:DAYLIGHT
TZOFFSETFROM:-0800
TZOFFSETTO:-0700
TZNAME:PDT
DTSTART:20290311T100000
END:DAYLIGHT
BEGIN:STANDARD
TZOFFSETFROM:-0700
TZOFFSETTO:-0800
TZNAME:PST
DTSTART:20291104T090000
END:STANDARD
BEGIN:DAYLIGHT
TZOFFSETFROM:-0800
TZOFFSETTO:-0700
TZNAME:PDT
DTSTART:20300310T100000
END:DAYLIGHT
BEGIN:STANDARD
TZOFFSETFROM:-0700
TZOFFSETTO:-0800
TZNAME:PST
DTSTART:20301103T090000
END:STANDARD
END:VTIMEZONE
BEGIN:VEVENT
DTSTART;TZID=America/Los_Angeles:20290217T100000
DTEND;TZID=America/Los_Angeles:20290217T120000
DTSTAMP:20260424T155228
CREATED:20260217T231342Z
LAST-MODIFIED:20260217T231342Z
UID:10002728-1866016800-1866024000@uuspokane.org
SUMMARY:NAUA Monthly Service - ZOOM Only
DESCRIPTION:
URL:https://uuspokane.org/event/naua-monthly-service-zoom-only-2/2029-02-17/
LOCATION:Private Zoom
CATEGORIES:Worship Service
ORGANIZER;CN="Roy Dickerson":MAILTO:info@naunitarians.org
END:VEVENT
BEGIN:VEVENT
DTSTART;TZID=America/Los_Angeles:20290219T183000
DTEND;TZID=America/Los_Angeles:20290219T200000
DTSTAMP:20260424T155228
CREATED:20250924T194849Z
LAST-MODIFIED:20250924T194849Z
UID:10001988-1866220200-1866225600@uuspokane.org
SUMMARY:Meditation Group
DESCRIPTION:Buddhist Meditation – Sravasti Abbey
URL:https://uuspokane.org/event/meditation-group/2029-02-19/
LOCATION:Private Zoom
CATEGORIES:Meditation
END:VEVENT
BEGIN:VEVENT
DTSTART;TZID=America/Los_Angeles:20290226T183000
DTEND;TZID=America/Los_Angeles:20290226T200000
DTSTAMP:20260424T155228
CREATED:20250924T194849Z
LAST-MODIFIED:20250924T194849Z
UID:10001989-1866825000-1866830400@uuspokane.org
SUMMARY:Meditation Group
DESCRIPTION:Buddhist Meditation – Sravasti Abbey
URL:https://uuspokane.org/event/meditation-group/2029-02-26/
LOCATION:Private Zoom
CATEGORIES:Meditation
END:VEVENT
BEGIN:VEVENT
DTSTART;TZID=America/Los_Angeles:20290305T183000
DTEND;TZID=America/Los_Angeles:20290305T200000
DTSTAMP:20260424T155228
CREATED:20250924T194849Z
LAST-MODIFIED:20250924T194849Z
UID:10001990-1867429800-1867435200@uuspokane.org
SUMMARY:Meditation Group
DESCRIPTION:Buddhist Meditation – Sravasti Abbey
URL:https://uuspokane.org/event/meditation-group/2029-03-05/
LOCATION:Private Zoom
CATEGORIES:Meditation
END:VEVENT
BEGIN:VEVENT
DTSTART;TZID=America/Los_Angeles:20290312T183000
DTEND;TZID=America/Los_Angeles:20290312T200000
DTSTAMP:20260424T155228
CREATED:20250924T194849Z
LAST-MODIFIED:20250924T194849Z
UID:10001991-1868034600-1868040000@uuspokane.org
SUMMARY:Meditation Group
DESCRIPTION:Buddhist Meditation – Sravasti Abbey
URL:https://uuspokane.org/event/meditation-group/2029-03-12/
LOCATION:Private Zoom
CATEGORIES:Meditation
END:VEVENT
BEGIN:VEVENT
DTSTART;TZID=America/Los_Angeles:20290317T100000
DTEND;TZID=America/Los_Angeles:20290317T120000
DTSTAMP:20260424T155228
CREATED:20260217T231342Z
LAST-MODIFIED:20260217T231342Z
UID:10002729-1868436000-1868443200@uuspokane.org
SUMMARY:NAUA Monthly Service - ZOOM Only
DESCRIPTION:
URL:https://uuspokane.org/event/naua-monthly-service-zoom-only-2/2029-03-17/
LOCATION:Private Zoom
CATEGORIES:Worship Service
ORGANIZER;CN="Roy Dickerson":MAILTO:info@naunitarians.org
END:VEVENT
BEGIN:VEVENT
DTSTART;TZID=America/Los_Angeles:20290319T183000
DTEND;TZID=America/Los_Angeles:20290319T200000
DTSTAMP:20260424T155228
CREATED:20250924T194849Z
LAST-MODIFIED:20250924T194849Z
UID:10001992-1868639400-1868644800@uuspokane.org
SUMMARY:Meditation Group
DESCRIPTION:Buddhist Meditation – Sravasti Abbey
URL:https://uuspokane.org/event/meditation-group/2029-03-19/
LOCATION:Private Zoom
CATEGORIES:Meditation
END:VEVENT
BEGIN:VEVENT
DTSTART;TZID=America/Los_Angeles:20290326T183000
DTEND;TZID=America/Los_Angeles:20290326T200000
DTSTAMP:20260424T155228
CREATED:20250924T194849Z
LAST-MODIFIED:20250924T194849Z
UID:10001993-1869244200-1869249600@uuspokane.org
SUMMARY:Meditation Group
DESCRIPTION:Buddhist Meditation – Sravasti Abbey
URL:https://uuspokane.org/event/meditation-group/2029-03-26/
LOCATION:Private Zoom
CATEGORIES:Meditation
END:VEVENT
BEGIN:VEVENT
DTSTART;TZID=America/Los_Angeles:20290402T183000
DTEND;TZID=America/Los_Angeles:20290402T200000
DTSTAMP:20260424T155228
CREATED:20250924T194849Z
LAST-MODIFIED:20250924T194849Z
UID:10001994-1869849000-1869854400@uuspokane.org
SUMMARY:Meditation Group
DESCRIPTION:Buddhist Meditation – Sravasti Abbey
URL:https://uuspokane.org/event/meditation-group/2029-04-02/
LOCATION:Private Zoom
CATEGORIES:Meditation
END:VEVENT
BEGIN:VEVENT
DTSTART;TZID=America/Los_Angeles:20290409T183000
DTEND;TZID=America/Los_Angeles:20290409T200000
DTSTAMP:20260424T155228
CREATED:20250924T194849Z
LAST-MODIFIED:20250924T194849Z
UID:10001995-1870453800-1870459200@uuspokane.org
SUMMARY:Meditation Group
DESCRIPTION:Buddhist Meditation – Sravasti Abbey
URL:https://uuspokane.org/event/meditation-group/2029-04-09/
LOCATION:Private Zoom
CATEGORIES:Meditation
END:VEVENT
BEGIN:VEVENT
DTSTART;TZID=America/Los_Angeles:20290416T183000
DTEND;TZID=America/Los_Angeles:20290416T200000
DTSTAMP:20260424T155228
CREATED:20250924T194849Z
LAST-MODIFIED:20250924T194849Z
UID:10001996-1871058600-1871064000@uuspokane.org
SUMMARY:Meditation Group
DESCRIPTION:Buddhist Meditation – Sravasti Abbey
URL:https://uuspokane.org/event/meditation-group/2029-04-16/
LOCATION:Private Zoom
CATEGORIES:Meditation
END:VEVENT
BEGIN:VEVENT
DTSTART;TZID=America/Los_Angeles:20290421T100000
DTEND;TZID=America/Los_Angeles:20290421T120000
DTSTAMP:20260424T155228
CREATED:20260217T231342Z
LAST-MODIFIED:20260217T231342Z
UID:10002730-1871460000-1871467200@uuspokane.org
SUMMARY:NAUA Monthly Service - ZOOM Only
DESCRIPTION:
URL:https://uuspokane.org/event/naua-monthly-service-zoom-only-2/2029-04-21/
LOCATION:Private Zoom
CATEGORIES:Worship Service
ORGANIZER;CN="Roy Dickerson":MAILTO:info@naunitarians.org
END:VEVENT
BEGIN:VEVENT
DTSTART;TZID=America/Los_Angeles:20290423T183000
DTEND;TZID=America/Los_Angeles:20290423T200000
DTSTAMP:20260424T155228
CREATED:20250924T194849Z
LAST-MODIFIED:20250924T194849Z
UID:10001997-1871663400-1871668800@uuspokane.org
SUMMARY:Meditation Group
DESCRIPTION:Buddhist Meditation – Sravasti Abbey
URL:https://uuspokane.org/event/meditation-group/2029-04-23/
LOCATION:Private Zoom
CATEGORIES:Meditation
END:VEVENT
BEGIN:VEVENT
DTSTART;TZID=America/Los_Angeles:20290430T183000
DTEND;TZID=America/Los_Angeles:20290430T200000
DTSTAMP:20260424T155228
CREATED:20250924T194849Z
LAST-MODIFIED:20250924T194849Z
UID:10001998-1872268200-1872273600@uuspokane.org
SUMMARY:Meditation Group
DESCRIPTION:Buddhist Meditation – Sravasti Abbey
URL:https://uuspokane.org/event/meditation-group/2029-04-30/
LOCATION:Private Zoom
CATEGORIES:Meditation
END:VEVENT
BEGIN:VEVENT
DTSTART;TZID=America/Los_Angeles:20290507T183000
DTEND;TZID=America/Los_Angeles:20290507T200000
DTSTAMP:20260424T155228
CREATED:20250924T194849Z
LAST-MODIFIED:20250924T194849Z
UID:10001999-1872873000-1872878400@uuspokane.org
SUMMARY:Meditation Group
DESCRIPTION:Buddhist Meditation – Sravasti Abbey
URL:https://uuspokane.org/event/meditation-group/2029-05-07/
LOCATION:Private Zoom
CATEGORIES:Meditation
END:VEVENT
BEGIN:VEVENT
DTSTART;TZID=America/Los_Angeles:20290514T183000
DTEND;TZID=America/Los_Angeles:20290514T200000
DTSTAMP:20260424T155228
CREATED:20250924T194849Z
LAST-MODIFIED:20250924T194849Z
UID:10002000-1873477800-1873483200@uuspokane.org
SUMMARY:Meditation Group
DESCRIPTION:Buddhist Meditation – Sravasti Abbey
URL:https://uuspokane.org/event/meditation-group/2029-05-14/
LOCATION:Private Zoom
CATEGORIES:Meditation
END:VEVENT
BEGIN:VEVENT
DTSTART;TZID=America/Los_Angeles:20290519T100000
DTEND;TZID=America/Los_Angeles:20290519T120000
DTSTAMP:20260424T155228
CREATED:20260217T231342Z
LAST-MODIFIED:20260217T231342Z
UID:10002731-1873879200-1873886400@uuspokane.org
SUMMARY:NAUA Monthly Service - ZOOM Only
DESCRIPTION:
URL:https://uuspokane.org/event/naua-monthly-service-zoom-only-2/2029-05-19/
LOCATION:Private Zoom
CATEGORIES:Worship Service
ORGANIZER;CN="Roy Dickerson":MAILTO:info@naunitarians.org
END:VEVENT
BEGIN:VEVENT
DTSTART;TZID=America/Los_Angeles:20290521T183000
DTEND;TZID=America/Los_Angeles:20290521T200000
DTSTAMP:20260424T155228
CREATED:20250924T194849Z
LAST-MODIFIED:20250924T194849Z
UID:10002001-1874082600-1874088000@uuspokane.org
SUMMARY:Meditation Group
DESCRIPTION:Buddhist Meditation – Sravasti Abbey
URL:https://uuspokane.org/event/meditation-group/2029-05-21/
LOCATION:Private Zoom
CATEGORIES:Meditation
END:VEVENT
BEGIN:VEVENT
DTSTART;TZID=America/Los_Angeles:20290528T183000
DTEND;TZID=America/Los_Angeles:20290528T200000
DTSTAMP:20260424T155228
CREATED:20250924T194849Z
LAST-MODIFIED:20250924T194849Z
UID:10002002-1874687400-1874692800@uuspokane.org
SUMMARY:Meditation Group
DESCRIPTION:Buddhist Meditation – Sravasti Abbey
URL:https://uuspokane.org/event/meditation-group/2029-05-28/
LOCATION:Private Zoom
CATEGORIES:Meditation
END:VEVENT
BEGIN:VEVENT
DTSTART;TZID=America/Los_Angeles:20290604T183000
DTEND;TZID=America/Los_Angeles:20290604T200000
DTSTAMP:20260424T155228
CREATED:20250924T194849Z
LAST-MODIFIED:20250924T194849Z
UID:10002003-1875292200-1875297600@uuspokane.org
SUMMARY:Meditation Group
DESCRIPTION:Buddhist Meditation – Sravasti Abbey
URL:https://uuspokane.org/event/meditation-group/2029-06-04/
LOCATION:Private Zoom
CATEGORIES:Meditation
END:VEVENT
BEGIN:VEVENT
DTSTART;TZID=America/Los_Angeles:20290611T183000
DTEND;TZID=America/Los_Angeles:20290611T200000
DTSTAMP:20260424T155228
CREATED:20250924T194849Z
LAST-MODIFIED:20250924T194849Z
UID:10002004-1875897000-1875902400@uuspokane.org
SUMMARY:Meditation Group
DESCRIPTION:Buddhist Meditation – Sravasti Abbey
URL:https://uuspokane.org/event/meditation-group/2029-06-11/
LOCATION:Private Zoom
CATEGORIES:Meditation
END:VEVENT
BEGIN:VEVENT
DTSTART;TZID=America/Los_Angeles:20290616T100000
DTEND;TZID=America/Los_Angeles:20290616T120000
DTSTAMP:20260424T155228
CREATED:20260217T231342Z
LAST-MODIFIED:20260217T231342Z
UID:10002732-1876298400-1876305600@uuspokane.org
SUMMARY:NAUA Monthly Service - ZOOM Only
DESCRIPTION:
URL:https://uuspokane.org/event/naua-monthly-service-zoom-only-2/2029-06-16/
LOCATION:Private Zoom
CATEGORIES:Worship Service
ORGANIZER;CN="Roy Dickerson":MAILTO:info@naunitarians.org
END:VEVENT
BEGIN:VEVENT
DTSTART;TZID=America/Los_Angeles:20290618T183000
DTEND;TZID=America/Los_Angeles:20290618T200000
DTSTAMP:20260424T155228
CREATED:20250924T194849Z
LAST-MODIFIED:20250924T194849Z
UID:10002005-1876501800-1876507200@uuspokane.org
SUMMARY:Meditation Group
DESCRIPTION:Buddhist Meditation – Sravasti Abbey
URL:https://uuspokane.org/event/meditation-group/2029-06-18/
LOCATION:Private Zoom
CATEGORIES:Meditation
END:VEVENT
BEGIN:VEVENT
DTSTART;TZID=America/Los_Angeles:20290625T183000
DTEND;TZID=America/Los_Angeles:20290625T200000
DTSTAMP:20260424T155228
CREATED:20250924T194849Z
LAST-MODIFIED:20250924T194849Z
UID:10002006-1877106600-1877112000@uuspokane.org
SUMMARY:Meditation Group
DESCRIPTION:Buddhist Meditation – Sravasti Abbey
URL:https://uuspokane.org/event/meditation-group/2029-06-25/
LOCATION:Private Zoom
CATEGORIES:Meditation
END:VEVENT
BEGIN:VEVENT
DTSTART;TZID=America/Los_Angeles:20290702T183000
DTEND;TZID=America/Los_Angeles:20290702T200000
DTSTAMP:20260424T155228
CREATED:20250924T194849Z
LAST-MODIFIED:20250924T194849Z
UID:10002007-1877711400-1877716800@uuspokane.org
SUMMARY:Meditation Group
DESCRIPTION:Buddhist Meditation – Sravasti Abbey
URL:https://uuspokane.org/event/meditation-group/2029-07-02/
LOCATION:Private Zoom
CATEGORIES:Meditation
END:VEVENT
BEGIN:VEVENT
DTSTART;TZID=America/Los_Angeles:20290709T183000
DTEND;TZID=America/Los_Angeles:20290709T200000
DTSTAMP:20260424T155228
CREATED:20250924T194849Z
LAST-MODIFIED:20250924T194849Z
UID:10002008-1878316200-1878321600@uuspokane.org
SUMMARY:Meditation Group
DESCRIPTION:Buddhist Meditation – Sravasti Abbey
URL:https://uuspokane.org/event/meditation-group/2029-07-09/
LOCATION:Private Zoom
CATEGORIES:Meditation
END:VEVENT
BEGIN:VEVENT
DTSTART;TZID=America/Los_Angeles:20290716T183000
DTEND;TZID=America/Los_Angeles:20290716T200000
DTSTAMP:20260424T155228
CREATED:20250924T194849Z
LAST-MODIFIED:20250924T194849Z
UID:10002009-1878921000-1878926400@uuspokane.org
SUMMARY:Meditation Group
DESCRIPTION:Buddhist Meditation – Sravasti Abbey
URL:https://uuspokane.org/event/meditation-group/2029-07-16/
LOCATION:Private Zoom
CATEGORIES:Meditation
END:VEVENT
BEGIN:VEVENT
DTSTART;TZID=America/Los_Angeles:20290721T100000
DTEND;TZID=America/Los_Angeles:20290721T120000
DTSTAMP:20260424T155228
CREATED:20260217T231342Z
LAST-MODIFIED:20260217T231342Z
UID:10002733-1879322400-1879329600@uuspokane.org
SUMMARY:NAUA Monthly Service - ZOOM Only
DESCRIPTION:
URL:https://uuspokane.org/event/naua-monthly-service-zoom-only-2/2029-07-21/
LOCATION:Private Zoom
CATEGORIES:Worship Service
ORGANIZER;CN="Roy Dickerson":MAILTO:info@naunitarians.org
END:VEVENT
BEGIN:VEVENT
DTSTART;TZID=America/Los_Angeles:20290723T183000
DTEND;TZID=America/Los_Angeles:20290723T200000
DTSTAMP:20260424T155228
CREATED:20250924T194849Z
LAST-MODIFIED:20250924T194849Z
UID:10002010-1879525800-1879531200@uuspokane.org
SUMMARY:Meditation Group
DESCRIPTION:Buddhist Meditation – Sravasti Abbey
URL:https://uuspokane.org/event/meditation-group/2029-07-23/
LOCATION:Private Zoom
CATEGORIES:Meditation
END:VEVENT
BEGIN:VEVENT
DTSTART;TZID=America/Los_Angeles:20290730T183000
DTEND;TZID=America/Los_Angeles:20290730T200000
DTSTAMP:20260424T155228
CREATED:20250924T194849Z
LAST-MODIFIED:20250924T194849Z
UID:10002011-1880130600-1880136000@uuspokane.org
SUMMARY:Meditation Group
DESCRIPTION:Buddhist Meditation – Sravasti Abbey
URL:https://uuspokane.org/event/meditation-group/2029-07-30/
LOCATION:Private Zoom
CATEGORIES:Meditation
END:VEVENT
END:VCALENDAR