BEGIN:VCALENDAR
VERSION:2.0
PRODID:-//Unitarian Universalist Church of Spokane - ECPv6.15.20//NONSGML v1.0//EN
CALSCALE:GREGORIAN
METHOD:PUBLISH
X-ORIGINAL-URL:https://uuspokane.org
X-WR-CALDESC:Events for Unitarian Universalist Church of Spokane
REFRESH-INTERVAL;VALUE=DURATION:PT1H
X-Robots-Tag:noindex
X-PUBLISHED-TTL:PT1H
BEGIN:VTIMEZONE
TZID:America/Los_Angeles
BEGIN:DAYLIGHT
TZOFFSETFROM:-0800
TZOFFSETTO:-0700
TZNAME:PDT
DTSTART:20260308T100000
END:DAYLIGHT
BEGIN:STANDARD
TZOFFSETFROM:-0700
TZOFFSETTO:-0800
TZNAME:PST
DTSTART:20261101T090000
END:STANDARD
BEGIN:DAYLIGHT
TZOFFSETFROM:-0800
TZOFFSETTO:-0700
TZNAME:PDT
DTSTART:20270314T100000
END:DAYLIGHT
BEGIN:STANDARD
TZOFFSETFROM:-0700
TZOFFSETTO:-0800
TZNAME:PST
DTSTART:20271107T090000
END:STANDARD
BEGIN:DAYLIGHT
TZOFFSETFROM:-0800
TZOFFSETTO:-0700
TZNAME:PDT
DTSTART:20280312T100000
END:DAYLIGHT
BEGIN:STANDARD
TZOFFSETFROM:-0700
TZOFFSETTO:-0800
TZNAME:PST
DTSTART:20281105T090000
END:STANDARD
BEGIN:DAYLIGHT
TZOFFSETFROM:-0800
TZOFFSETTO:-0700
TZNAME:PDT
DTSTART:20290311T100000
END:DAYLIGHT
BEGIN:STANDARD
TZOFFSETFROM:-0700
TZOFFSETTO:-0800
TZNAME:PST
DTSTART:20291104T090000
END:STANDARD
END:VTIMEZONE
BEGIN:VEVENT
DTSTART;TZID=America/Los_Angeles:20271222T160000
DTEND;TZID=America/Los_Angeles:20271222T173000
DTSTAMP:20260424T043438
CREATED:20251204T221746Z
LAST-MODIFIED:20251204T221844Z
UID:10003809-1829491200-1829496600@uuspokane.org
SUMMARY:Board of Trustees Meeting
DESCRIPTION:
URL:https://uuspokane.org/event/board-of-trustees-meeting-2/2027-12-22/
LOCATION:RE Zoom Account
CATEGORIES:Meeting
END:VEVENT
BEGIN:VEVENT
DTSTART;TZID=America/Los_Angeles:20271230T160000
DTEND;TZID=America/Los_Angeles:20271230T180000
DTSTAMP:20260424T043438
CREATED:20250924T193145Z
LAST-MODIFIED:20250924T193145Z
UID:10000472-1830182400-1830189600@uuspokane.org
SUMMARY:LGBTQ+ Seniors Steering Committee Meeting
DESCRIPTION:ZOOM
URL:https://uuspokane.org/event/lgbtq-seniors-steering-committee-meeting/2027-12-30/
LOCATION:RE Zoom Account
CATEGORIES:Meeting
END:VEVENT
BEGIN:VEVENT
DTSTART;TZID=America/Los_Angeles:20280111T110000
DTEND;TZID=America/Los_Angeles:20280111T130000
DTSTAMP:20260424T043438
CREATED:20250925T173256Z
LAST-MODIFIED:20250925T173256Z
UID:10002595-1831201200-1831208400@uuspokane.org
SUMMARY:Ops Team Meeting
DESCRIPTION:
URL:https://uuspokane.org/event/ops-team-meeting/2028-01-11/
LOCATION:RE Zoom Account
CATEGORIES:Meeting
END:VEVENT
BEGIN:VEVENT
DTSTART;TZID=America/Los_Angeles:20280117T183000
DTEND;TZID=America/Los_Angeles:20280117T200000
DTSTAMP:20260424T043438
CREATED:20250925T180231Z
LAST-MODIFIED:20250925T231548Z
UID:10003207-1831746600-1831752000@uuspokane.org
SUMMARY:Social Justice Coordinating Council
DESCRIPTION:
URL:https://uuspokane.org/event/social-justice-coordinating-council/2028-01-17/
LOCATION:RE Zoom Account
CATEGORIES:Meeting
END:VEVENT
BEGIN:VEVENT
DTSTART;TZID=America/Los_Angeles:20280119T160000
DTEND;TZID=America/Los_Angeles:20280119T170000
DTSTAMP:20260424T043438
CREATED:20250925T173505Z
LAST-MODIFIED:20250925T173505Z
UID:10002655-1831910400-1831914000@uuspokane.org
SUMMARY:Board Agenda Meeting
DESCRIPTION:
URL:https://uuspokane.org/event/board-agenda-meeting/2028-01-19/
LOCATION:RE Zoom Account
CATEGORIES:Meeting
END:VEVENT
BEGIN:VEVENT
DTSTART;TZID=America/Los_Angeles:20280126T160000
DTEND;TZID=America/Los_Angeles:20280126T173000
DTSTAMP:20260424T043438
CREATED:20251204T221746Z
LAST-MODIFIED:20251204T221844Z
UID:10003810-1832515200-1832520600@uuspokane.org
SUMMARY:Board of Trustees Meeting
DESCRIPTION:
URL:https://uuspokane.org/event/board-of-trustees-meeting-2/2028-01-26/
LOCATION:RE Zoom Account
CATEGORIES:Meeting
END:VEVENT
BEGIN:VEVENT
DTSTART;TZID=America/Los_Angeles:20280127T160000
DTEND;TZID=America/Los_Angeles:20280127T180000
DTSTAMP:20260424T043438
CREATED:20250924T193145Z
LAST-MODIFIED:20250924T193145Z
UID:10000473-1832601600-1832608800@uuspokane.org
SUMMARY:LGBTQ+ Seniors Steering Committee Meeting
DESCRIPTION:ZOOM
URL:https://uuspokane.org/event/lgbtq-seniors-steering-committee-meeting/2028-01-27/
LOCATION:RE Zoom Account
CATEGORIES:Meeting
END:VEVENT
BEGIN:VEVENT
DTSTART;TZID=America/Los_Angeles:20280208T110000
DTEND;TZID=America/Los_Angeles:20280208T130000
DTSTAMP:20260424T043438
CREATED:20250925T173256Z
LAST-MODIFIED:20250925T173256Z
UID:10002596-1833620400-1833627600@uuspokane.org
SUMMARY:Ops Team Meeting
DESCRIPTION:
URL:https://uuspokane.org/event/ops-team-meeting/2028-02-08/
LOCATION:RE Zoom Account
CATEGORIES:Meeting
END:VEVENT
BEGIN:VEVENT
DTSTART;TZID=America/Los_Angeles:20280216T160000
DTEND;TZID=America/Los_Angeles:20280216T170000
DTSTAMP:20260424T043438
CREATED:20250925T173505Z
LAST-MODIFIED:20250925T173505Z
UID:10002656-1834329600-1834333200@uuspokane.org
SUMMARY:Board Agenda Meeting
DESCRIPTION:
URL:https://uuspokane.org/event/board-agenda-meeting/2028-02-16/
LOCATION:RE Zoom Account
CATEGORIES:Meeting
END:VEVENT
BEGIN:VEVENT
DTSTART;TZID=America/Los_Angeles:20280221T183000
DTEND;TZID=America/Los_Angeles:20280221T200000
DTSTAMP:20260424T043438
CREATED:20250925T180231Z
LAST-MODIFIED:20250925T231548Z
UID:10003208-1834770600-1834776000@uuspokane.org
SUMMARY:Social Justice Coordinating Council
DESCRIPTION:
URL:https://uuspokane.org/event/social-justice-coordinating-council/2028-02-21/
LOCATION:RE Zoom Account
CATEGORIES:Meeting
END:VEVENT
BEGIN:VEVENT
DTSTART;TZID=America/Los_Angeles:20280223T160000
DTEND;TZID=America/Los_Angeles:20280223T173000
DTSTAMP:20260424T043438
CREATED:20251204T221746Z
LAST-MODIFIED:20251204T221844Z
UID:10003811-1834934400-1834939800@uuspokane.org
SUMMARY:Board of Trustees Meeting
DESCRIPTION:
URL:https://uuspokane.org/event/board-of-trustees-meeting-2/2028-02-23/
LOCATION:RE Zoom Account
CATEGORIES:Meeting
END:VEVENT
BEGIN:VEVENT
DTSTART;TZID=America/Los_Angeles:20280224T160000
DTEND;TZID=America/Los_Angeles:20280224T180000
DTSTAMP:20260424T043438
CREATED:20250924T193145Z
LAST-MODIFIED:20250924T193145Z
UID:10000474-1835020800-1835028000@uuspokane.org
SUMMARY:LGBTQ+ Seniors Steering Committee Meeting
DESCRIPTION:ZOOM
URL:https://uuspokane.org/event/lgbtq-seniors-steering-committee-meeting/2028-02-24/
LOCATION:RE Zoom Account
CATEGORIES:Meeting
END:VEVENT
BEGIN:VEVENT
DTSTART;TZID=America/Los_Angeles:20280314T110000
DTEND;TZID=America/Los_Angeles:20280314T130000
DTSTAMP:20260424T043438
CREATED:20250925T173256Z
LAST-MODIFIED:20250925T173256Z
UID:10002597-1836644400-1836651600@uuspokane.org
SUMMARY:Ops Team Meeting
DESCRIPTION:
URL:https://uuspokane.org/event/ops-team-meeting/2028-03-14/
LOCATION:RE Zoom Account
CATEGORIES:Meeting
END:VEVENT
BEGIN:VEVENT
DTSTART;TZID=America/Los_Angeles:20280315T160000
DTEND;TZID=America/Los_Angeles:20280315T170000
DTSTAMP:20260424T043438
CREATED:20250925T173505Z
LAST-MODIFIED:20250925T173505Z
UID:10002657-1836748800-1836752400@uuspokane.org
SUMMARY:Board Agenda Meeting
DESCRIPTION:
URL:https://uuspokane.org/event/board-agenda-meeting/2028-03-15/
LOCATION:RE Zoom Account
CATEGORIES:Meeting
END:VEVENT
BEGIN:VEVENT
DTSTART;TZID=America/Los_Angeles:20280320T183000
DTEND;TZID=America/Los_Angeles:20280320T200000
DTSTAMP:20260424T043438
CREATED:20250925T180231Z
LAST-MODIFIED:20250925T231548Z
UID:10003209-1837189800-1837195200@uuspokane.org
SUMMARY:Social Justice Coordinating Council
DESCRIPTION:
URL:https://uuspokane.org/event/social-justice-coordinating-council/2028-03-20/
LOCATION:RE Zoom Account
CATEGORIES:Meeting
END:VEVENT
BEGIN:VEVENT
DTSTART;TZID=America/Los_Angeles:20280322T160000
DTEND;TZID=America/Los_Angeles:20280322T173000
DTSTAMP:20260424T043438
CREATED:20251204T221746Z
LAST-MODIFIED:20251204T221844Z
UID:10003812-1837353600-1837359000@uuspokane.org
SUMMARY:Board of Trustees Meeting
DESCRIPTION:
URL:https://uuspokane.org/event/board-of-trustees-meeting-2/2028-03-22/
LOCATION:RE Zoom Account
CATEGORIES:Meeting
END:VEVENT
BEGIN:VEVENT
DTSTART;TZID=America/Los_Angeles:20280330T160000
DTEND;TZID=America/Los_Angeles:20280330T180000
DTSTAMP:20260424T043438
CREATED:20250924T193145Z
LAST-MODIFIED:20250924T193145Z
UID:10000475-1838044800-1838052000@uuspokane.org
SUMMARY:LGBTQ+ Seniors Steering Committee Meeting
DESCRIPTION:ZOOM
URL:https://uuspokane.org/event/lgbtq-seniors-steering-committee-meeting/2028-03-30/
LOCATION:RE Zoom Account
CATEGORIES:Meeting
END:VEVENT
BEGIN:VEVENT
DTSTART;TZID=America/Los_Angeles:20280411T110000
DTEND;TZID=America/Los_Angeles:20280411T130000
DTSTAMP:20260424T043438
CREATED:20250925T173256Z
LAST-MODIFIED:20250925T173256Z
UID:10002598-1839063600-1839070800@uuspokane.org
SUMMARY:Ops Team Meeting
DESCRIPTION:
URL:https://uuspokane.org/event/ops-team-meeting/2028-04-11/
LOCATION:RE Zoom Account
CATEGORIES:Meeting
END:VEVENT
BEGIN:VEVENT
DTSTART;TZID=America/Los_Angeles:20280417T183000
DTEND;TZID=America/Los_Angeles:20280417T200000
DTSTAMP:20260424T043438
CREATED:20250925T180231Z
LAST-MODIFIED:20250925T231548Z
UID:10003210-1839609000-1839614400@uuspokane.org
SUMMARY:Social Justice Coordinating Council
DESCRIPTION:
URL:https://uuspokane.org/event/social-justice-coordinating-council/2028-04-17/
LOCATION:RE Zoom Account
CATEGORIES:Meeting
END:VEVENT
BEGIN:VEVENT
DTSTART;TZID=America/Los_Angeles:20280419T160000
DTEND;TZID=America/Los_Angeles:20280419T170000
DTSTAMP:20260424T043438
CREATED:20250925T173505Z
LAST-MODIFIED:20250925T173505Z
UID:10002658-1839772800-1839776400@uuspokane.org
SUMMARY:Board Agenda Meeting
DESCRIPTION:
URL:https://uuspokane.org/event/board-agenda-meeting/2028-04-19/
LOCATION:RE Zoom Account
CATEGORIES:Meeting
END:VEVENT
BEGIN:VEVENT
DTSTART;TZID=America/Los_Angeles:20280426T160000
DTEND;TZID=America/Los_Angeles:20280426T173000
DTSTAMP:20260424T043438
CREATED:20251204T221746Z
LAST-MODIFIED:20251204T221844Z
UID:10003813-1840377600-1840383000@uuspokane.org
SUMMARY:Board of Trustees Meeting
DESCRIPTION:
URL:https://uuspokane.org/event/board-of-trustees-meeting-2/2028-04-26/
LOCATION:RE Zoom Account
CATEGORIES:Meeting
END:VEVENT
BEGIN:VEVENT
DTSTART;TZID=America/Los_Angeles:20280427T160000
DTEND;TZID=America/Los_Angeles:20280427T180000
DTSTAMP:20260424T043438
CREATED:20250924T193145Z
LAST-MODIFIED:20250924T193145Z
UID:10000476-1840464000-1840471200@uuspokane.org
SUMMARY:LGBTQ+ Seniors Steering Committee Meeting
DESCRIPTION:ZOOM
URL:https://uuspokane.org/event/lgbtq-seniors-steering-committee-meeting/2028-04-27/
LOCATION:RE Zoom Account
CATEGORIES:Meeting
END:VEVENT
BEGIN:VEVENT
DTSTART;TZID=America/Los_Angeles:20280509T110000
DTEND;TZID=America/Los_Angeles:20280509T130000
DTSTAMP:20260424T043438
CREATED:20250925T173256Z
LAST-MODIFIED:20250925T173256Z
UID:10002599-1841482800-1841490000@uuspokane.org
SUMMARY:Ops Team Meeting
DESCRIPTION:
URL:https://uuspokane.org/event/ops-team-meeting/2028-05-09/
LOCATION:RE Zoom Account
CATEGORIES:Meeting
END:VEVENT
BEGIN:VEVENT
DTSTART;TZID=America/Los_Angeles:20280515T183000
DTEND;TZID=America/Los_Angeles:20280515T200000
DTSTAMP:20260424T043438
CREATED:20250925T180231Z
LAST-MODIFIED:20250925T231548Z
UID:10003211-1842028200-1842033600@uuspokane.org
SUMMARY:Social Justice Coordinating Council
DESCRIPTION:
URL:https://uuspokane.org/event/social-justice-coordinating-council/2028-05-15/
LOCATION:RE Zoom Account
CATEGORIES:Meeting
END:VEVENT
BEGIN:VEVENT
DTSTART;TZID=America/Los_Angeles:20280517T160000
DTEND;TZID=America/Los_Angeles:20280517T170000
DTSTAMP:20260424T043438
CREATED:20250925T173505Z
LAST-MODIFIED:20250925T173505Z
UID:10002659-1842192000-1842195600@uuspokane.org
SUMMARY:Board Agenda Meeting
DESCRIPTION:
URL:https://uuspokane.org/event/board-agenda-meeting/2028-05-17/
LOCATION:RE Zoom Account
CATEGORIES:Meeting
END:VEVENT
BEGIN:VEVENT
DTSTART;TZID=America/Los_Angeles:20280524T160000
DTEND;TZID=America/Los_Angeles:20280524T173000
DTSTAMP:20260424T043438
CREATED:20251204T221746Z
LAST-MODIFIED:20251204T221844Z
UID:10003814-1842796800-1842802200@uuspokane.org
SUMMARY:Board of Trustees Meeting
DESCRIPTION:
URL:https://uuspokane.org/event/board-of-trustees-meeting-2/2028-05-24/
LOCATION:RE Zoom Account
CATEGORIES:Meeting
END:VEVENT
BEGIN:VEVENT
DTSTART;TZID=America/Los_Angeles:20280525T160000
DTEND;TZID=America/Los_Angeles:20280525T180000
DTSTAMP:20260424T043438
CREATED:20250924T193145Z
LAST-MODIFIED:20250924T193145Z
UID:10000477-1842883200-1842890400@uuspokane.org
SUMMARY:LGBTQ+ Seniors Steering Committee Meeting
DESCRIPTION:ZOOM
URL:https://uuspokane.org/event/lgbtq-seniors-steering-committee-meeting/2028-05-25/
LOCATION:RE Zoom Account
CATEGORIES:Meeting
END:VEVENT
BEGIN:VEVENT
DTSTART;TZID=America/Los_Angeles:20280613T110000
DTEND;TZID=America/Los_Angeles:20280613T130000
DTSTAMP:20260424T043438
CREATED:20250925T173256Z
LAST-MODIFIED:20250925T173256Z
UID:10002600-1844506800-1844514000@uuspokane.org
SUMMARY:Ops Team Meeting
DESCRIPTION:
URL:https://uuspokane.org/event/ops-team-meeting/2028-06-13/
LOCATION:RE Zoom Account
CATEGORIES:Meeting
END:VEVENT
BEGIN:VEVENT
DTSTART;TZID=America/Los_Angeles:20280619T183000
DTEND;TZID=America/Los_Angeles:20280619T200000
DTSTAMP:20260424T043438
CREATED:20250925T180231Z
LAST-MODIFIED:20250925T231548Z
UID:10003212-1845052200-1845057600@uuspokane.org
SUMMARY:Social Justice Coordinating Council
DESCRIPTION:
URL:https://uuspokane.org/event/social-justice-coordinating-council/2028-06-19/
LOCATION:RE Zoom Account
CATEGORIES:Meeting
END:VEVENT
BEGIN:VEVENT
DTSTART;TZID=America/Los_Angeles:20280621T160000
DTEND;TZID=America/Los_Angeles:20280621T170000
DTSTAMP:20260424T043438
CREATED:20250925T173505Z
LAST-MODIFIED:20250925T173505Z
UID:10002660-1845216000-1845219600@uuspokane.org
SUMMARY:Board Agenda Meeting
DESCRIPTION:
URL:https://uuspokane.org/event/board-agenda-meeting/2028-06-21/
LOCATION:RE Zoom Account
CATEGORIES:Meeting
END:VEVENT
END:VCALENDAR