BEGIN:VCALENDAR
VERSION:2.0
PRODID:-//Unitarian Universalist Church of Spokane - ECPv6.15.20//NONSGML v1.0//EN
CALSCALE:GREGORIAN
METHOD:PUBLISH
X-ORIGINAL-URL:https://uuspokane.org
X-WR-CALDESC:Events for Unitarian Universalist Church of Spokane
REFRESH-INTERVAL;VALUE=DURATION:PT1H
X-Robots-Tag:noindex
X-PUBLISHED-TTL:PT1H
BEGIN:VTIMEZONE
TZID:America/Los_Angeles
BEGIN:DAYLIGHT
TZOFFSETFROM:-0800
TZOFFSETTO:-0700
TZNAME:PDT
DTSTART:20270314T100000
END:DAYLIGHT
BEGIN:STANDARD
TZOFFSETFROM:-0700
TZOFFSETTO:-0800
TZNAME:PST
DTSTART:20271107T090000
END:STANDARD
BEGIN:DAYLIGHT
TZOFFSETFROM:-0800
TZOFFSETTO:-0700
TZNAME:PDT
DTSTART:20280312T100000
END:DAYLIGHT
BEGIN:STANDARD
TZOFFSETFROM:-0700
TZOFFSETTO:-0800
TZNAME:PST
DTSTART:20281105T090000
END:STANDARD
BEGIN:DAYLIGHT
TZOFFSETFROM:-0800
TZOFFSETTO:-0700
TZNAME:PDT
DTSTART:20290311T100000
END:DAYLIGHT
BEGIN:STANDARD
TZOFFSETFROM:-0700
TZOFFSETTO:-0800
TZNAME:PST
DTSTART:20291104T090000
END:STANDARD
END:VTIMEZONE
BEGIN:VEVENT
DTSTART;TZID=America/Los_Angeles:20280628T160000
DTEND;TZID=America/Los_Angeles:20280628T173000
DTSTAMP:20260424T094650
CREATED:20251204T221746Z
LAST-MODIFIED:20251204T221844Z
UID:10003815-1845820800-1845826200@uuspokane.org
SUMMARY:Board of Trustees Meeting
DESCRIPTION:
URL:https://uuspokane.org/event/board-of-trustees-meeting-2/2028-06-28/
LOCATION:RE Zoom Account
CATEGORIES:Meeting
END:VEVENT
BEGIN:VEVENT
DTSTART;TZID=America/Los_Angeles:20280629T160000
DTEND;TZID=America/Los_Angeles:20280629T180000
DTSTAMP:20260424T094650
CREATED:20250924T193145Z
LAST-MODIFIED:20250924T193145Z
UID:10000478-1845907200-1845914400@uuspokane.org
SUMMARY:LGBTQ+ Seniors Steering Committee Meeting
DESCRIPTION:ZOOM
URL:https://uuspokane.org/event/lgbtq-seniors-steering-committee-meeting/2028-06-29/
LOCATION:RE Zoom Account
CATEGORIES:Meeting
END:VEVENT
BEGIN:VEVENT
DTSTART;TZID=America/Los_Angeles:20280711T110000
DTEND;TZID=America/Los_Angeles:20280711T130000
DTSTAMP:20260424T094650
CREATED:20250925T173256Z
LAST-MODIFIED:20250925T173256Z
UID:10002601-1846926000-1846933200@uuspokane.org
SUMMARY:Ops Team Meeting
DESCRIPTION:
URL:https://uuspokane.org/event/ops-team-meeting/2028-07-11/
LOCATION:RE Zoom Account
CATEGORIES:Meeting
END:VEVENT
BEGIN:VEVENT
DTSTART;TZID=America/Los_Angeles:20280717T183000
DTEND;TZID=America/Los_Angeles:20280717T200000
DTSTAMP:20260424T094650
CREATED:20250925T180231Z
LAST-MODIFIED:20250925T231548Z
UID:10003213-1847471400-1847476800@uuspokane.org
SUMMARY:Social Justice Coordinating Council
DESCRIPTION:
URL:https://uuspokane.org/event/social-justice-coordinating-council/2028-07-17/
LOCATION:RE Zoom Account
CATEGORIES:Meeting
END:VEVENT
BEGIN:VEVENT
DTSTART;TZID=America/Los_Angeles:20280719T160000
DTEND;TZID=America/Los_Angeles:20280719T170000
DTSTAMP:20260424T094650
CREATED:20250925T173505Z
LAST-MODIFIED:20250925T173505Z
UID:10002661-1847635200-1847638800@uuspokane.org
SUMMARY:Board Agenda Meeting
DESCRIPTION:
URL:https://uuspokane.org/event/board-agenda-meeting/2028-07-19/
LOCATION:RE Zoom Account
CATEGORIES:Meeting
END:VEVENT
BEGIN:VEVENT
DTSTART;TZID=America/Los_Angeles:20280726T160000
DTEND;TZID=America/Los_Angeles:20280726T173000
DTSTAMP:20260424T094650
CREATED:20251204T221746Z
LAST-MODIFIED:20251204T221844Z
UID:10003816-1848240000-1848245400@uuspokane.org
SUMMARY:Board of Trustees Meeting
DESCRIPTION:
URL:https://uuspokane.org/event/board-of-trustees-meeting-2/2028-07-26/
LOCATION:RE Zoom Account
CATEGORIES:Meeting
END:VEVENT
BEGIN:VEVENT
DTSTART;TZID=America/Los_Angeles:20280727T160000
DTEND;TZID=America/Los_Angeles:20280727T180000
DTSTAMP:20260424T094650
CREATED:20250924T193145Z
LAST-MODIFIED:20250924T193145Z
UID:10000479-1848326400-1848333600@uuspokane.org
SUMMARY:LGBTQ+ Seniors Steering Committee Meeting
DESCRIPTION:ZOOM
URL:https://uuspokane.org/event/lgbtq-seniors-steering-committee-meeting/2028-07-27/
LOCATION:RE Zoom Account
CATEGORIES:Meeting
END:VEVENT
BEGIN:VEVENT
DTSTART;TZID=America/Los_Angeles:20280808T110000
DTEND;TZID=America/Los_Angeles:20280808T130000
DTSTAMP:20260424T094650
CREATED:20250925T173256Z
LAST-MODIFIED:20250925T173256Z
UID:10002602-1849345200-1849352400@uuspokane.org
SUMMARY:Ops Team Meeting
DESCRIPTION:
URL:https://uuspokane.org/event/ops-team-meeting/2028-08-08/
LOCATION:RE Zoom Account
CATEGORIES:Meeting
END:VEVENT
BEGIN:VEVENT
DTSTART;TZID=America/Los_Angeles:20280816T160000
DTEND;TZID=America/Los_Angeles:20280816T170000
DTSTAMP:20260424T094650
CREATED:20250925T173505Z
LAST-MODIFIED:20250925T173505Z
UID:10002662-1850054400-1850058000@uuspokane.org
SUMMARY:Board Agenda Meeting
DESCRIPTION:
URL:https://uuspokane.org/event/board-agenda-meeting/2028-08-16/
LOCATION:RE Zoom Account
CATEGORIES:Meeting
END:VEVENT
BEGIN:VEVENT
DTSTART;TZID=America/Los_Angeles:20280821T183000
DTEND;TZID=America/Los_Angeles:20280821T200000
DTSTAMP:20260424T094650
CREATED:20250925T180231Z
LAST-MODIFIED:20250925T231548Z
UID:10003214-1850495400-1850500800@uuspokane.org
SUMMARY:Social Justice Coordinating Council
DESCRIPTION:
URL:https://uuspokane.org/event/social-justice-coordinating-council/2028-08-21/
LOCATION:RE Zoom Account
CATEGORIES:Meeting
END:VEVENT
BEGIN:VEVENT
DTSTART;TZID=America/Los_Angeles:20280823T160000
DTEND;TZID=America/Los_Angeles:20280823T173000
DTSTAMP:20260424T094650
CREATED:20251204T221746Z
LAST-MODIFIED:20251204T221844Z
UID:10003817-1850659200-1850664600@uuspokane.org
SUMMARY:Board of Trustees Meeting
DESCRIPTION:
URL:https://uuspokane.org/event/board-of-trustees-meeting-2/2028-08-23/
LOCATION:RE Zoom Account
CATEGORIES:Meeting
END:VEVENT
BEGIN:VEVENT
DTSTART;TZID=America/Los_Angeles:20280831T160000
DTEND;TZID=America/Los_Angeles:20280831T180000
DTSTAMP:20260424T094650
CREATED:20250924T193145Z
LAST-MODIFIED:20250924T193145Z
UID:10000480-1851350400-1851357600@uuspokane.org
SUMMARY:LGBTQ+ Seniors Steering Committee Meeting
DESCRIPTION:ZOOM
URL:https://uuspokane.org/event/lgbtq-seniors-steering-committee-meeting/2028-08-31/
LOCATION:RE Zoom Account
CATEGORIES:Meeting
END:VEVENT
BEGIN:VEVENT
DTSTART;TZID=America/Los_Angeles:20280912T110000
DTEND;TZID=America/Los_Angeles:20280912T130000
DTSTAMP:20260424T094650
CREATED:20250925T173256Z
LAST-MODIFIED:20250925T173256Z
UID:10002603-1852369200-1852376400@uuspokane.org
SUMMARY:Ops Team Meeting
DESCRIPTION:
URL:https://uuspokane.org/event/ops-team-meeting/2028-09-12/
LOCATION:RE Zoom Account
CATEGORIES:Meeting
END:VEVENT
BEGIN:VEVENT
DTSTART;TZID=America/Los_Angeles:20280918T183000
DTEND;TZID=America/Los_Angeles:20280918T200000
DTSTAMP:20260424T094650
CREATED:20250925T180231Z
LAST-MODIFIED:20250925T231548Z
UID:10003215-1852914600-1852920000@uuspokane.org
SUMMARY:Social Justice Coordinating Council
DESCRIPTION:
URL:https://uuspokane.org/event/social-justice-coordinating-council/2028-09-18/
LOCATION:RE Zoom Account
CATEGORIES:Meeting
END:VEVENT
BEGIN:VEVENT
DTSTART;TZID=America/Los_Angeles:20280920T160000
DTEND;TZID=America/Los_Angeles:20280920T170000
DTSTAMP:20260424T094650
CREATED:20250925T173505Z
LAST-MODIFIED:20250925T173505Z
UID:10002663-1853078400-1853082000@uuspokane.org
SUMMARY:Board Agenda Meeting
DESCRIPTION:
URL:https://uuspokane.org/event/board-agenda-meeting/2028-09-20/
LOCATION:RE Zoom Account
CATEGORIES:Meeting
END:VEVENT
BEGIN:VEVENT
DTSTART;TZID=America/Los_Angeles:20280927T160000
DTEND;TZID=America/Los_Angeles:20280927T173000
DTSTAMP:20260424T094650
CREATED:20251204T221746Z
LAST-MODIFIED:20251204T221844Z
UID:10003818-1853683200-1853688600@uuspokane.org
SUMMARY:Board of Trustees Meeting
DESCRIPTION:
URL:https://uuspokane.org/event/board-of-trustees-meeting-2/2028-09-27/
LOCATION:RE Zoom Account
CATEGORIES:Meeting
END:VEVENT
BEGIN:VEVENT
DTSTART;TZID=America/Los_Angeles:20280928T160000
DTEND;TZID=America/Los_Angeles:20280928T180000
DTSTAMP:20260424T094650
CREATED:20250924T193145Z
LAST-MODIFIED:20250924T193145Z
UID:10000481-1853769600-1853776800@uuspokane.org
SUMMARY:LGBTQ+ Seniors Steering Committee Meeting
DESCRIPTION:ZOOM
URL:https://uuspokane.org/event/lgbtq-seniors-steering-committee-meeting/2028-09-28/
LOCATION:RE Zoom Account
CATEGORIES:Meeting
END:VEVENT
BEGIN:VEVENT
DTSTART;TZID=America/Los_Angeles:20281010T110000
DTEND;TZID=America/Los_Angeles:20281010T130000
DTSTAMP:20260424T094650
CREATED:20250925T173256Z
LAST-MODIFIED:20250925T173256Z
UID:10002604-1854788400-1854795600@uuspokane.org
SUMMARY:Ops Team Meeting
DESCRIPTION:
URL:https://uuspokane.org/event/ops-team-meeting/2028-10-10/
LOCATION:RE Zoom Account
CATEGORIES:Meeting
END:VEVENT
BEGIN:VEVENT
DTSTART;TZID=America/Los_Angeles:20281016T183000
DTEND;TZID=America/Los_Angeles:20281016T200000
DTSTAMP:20260424T094650
CREATED:20250925T180231Z
LAST-MODIFIED:20250925T231548Z
UID:10003216-1855333800-1855339200@uuspokane.org
SUMMARY:Social Justice Coordinating Council
DESCRIPTION:
URL:https://uuspokane.org/event/social-justice-coordinating-council/2028-10-16/
LOCATION:RE Zoom Account
CATEGORIES:Meeting
END:VEVENT
BEGIN:VEVENT
DTSTART;TZID=America/Los_Angeles:20281018T160000
DTEND;TZID=America/Los_Angeles:20281018T170000
DTSTAMP:20260424T094650
CREATED:20250925T173505Z
LAST-MODIFIED:20250925T173505Z
UID:10002664-1855497600-1855501200@uuspokane.org
SUMMARY:Board Agenda Meeting
DESCRIPTION:
URL:https://uuspokane.org/event/board-agenda-meeting/2028-10-18/
LOCATION:RE Zoom Account
CATEGORIES:Meeting
END:VEVENT
BEGIN:VEVENT
DTSTART;TZID=America/Los_Angeles:20281025T160000
DTEND;TZID=America/Los_Angeles:20281025T173000
DTSTAMP:20260424T094650
CREATED:20251204T221746Z
LAST-MODIFIED:20251204T221844Z
UID:10003819-1856102400-1856107800@uuspokane.org
SUMMARY:Board of Trustees Meeting
DESCRIPTION:
URL:https://uuspokane.org/event/board-of-trustees-meeting-2/2028-10-25/
LOCATION:RE Zoom Account
CATEGORIES:Meeting
END:VEVENT
BEGIN:VEVENT
DTSTART;TZID=America/Los_Angeles:20281026T160000
DTEND;TZID=America/Los_Angeles:20281026T180000
DTSTAMP:20260424T094650
CREATED:20250924T193145Z
LAST-MODIFIED:20250924T193145Z
UID:10000482-1856188800-1856196000@uuspokane.org
SUMMARY:LGBTQ+ Seniors Steering Committee Meeting
DESCRIPTION:ZOOM
URL:https://uuspokane.org/event/lgbtq-seniors-steering-committee-meeting/2028-10-26/
LOCATION:RE Zoom Account
CATEGORIES:Meeting
END:VEVENT
BEGIN:VEVENT
DTSTART;TZID=America/Los_Angeles:20281114T110000
DTEND;TZID=America/Los_Angeles:20281114T130000
DTSTAMP:20260424T094650
CREATED:20250925T173256Z
LAST-MODIFIED:20250925T173256Z
UID:10002605-1857812400-1857819600@uuspokane.org
SUMMARY:Ops Team Meeting
DESCRIPTION:
URL:https://uuspokane.org/event/ops-team-meeting/2028-11-14/
LOCATION:RE Zoom Account
CATEGORIES:Meeting
END:VEVENT
BEGIN:VEVENT
DTSTART;TZID=America/Los_Angeles:20281115T160000
DTEND;TZID=America/Los_Angeles:20281115T170000
DTSTAMP:20260424T094650
CREATED:20250925T173505Z
LAST-MODIFIED:20250925T173505Z
UID:10002665-1857916800-1857920400@uuspokane.org
SUMMARY:Board Agenda Meeting
DESCRIPTION:
URL:https://uuspokane.org/event/board-agenda-meeting/2028-11-15/
LOCATION:RE Zoom Account
CATEGORIES:Meeting
END:VEVENT
BEGIN:VEVENT
DTSTART;TZID=America/Los_Angeles:20281120T183000
DTEND;TZID=America/Los_Angeles:20281120T200000
DTSTAMP:20260424T094650
CREATED:20250925T180231Z
LAST-MODIFIED:20250925T231548Z
UID:10003217-1858357800-1858363200@uuspokane.org
SUMMARY:Social Justice Coordinating Council
DESCRIPTION:
URL:https://uuspokane.org/event/social-justice-coordinating-council/2028-11-20/
LOCATION:RE Zoom Account
CATEGORIES:Meeting
END:VEVENT
BEGIN:VEVENT
DTSTART;TZID=America/Los_Angeles:20281122T160000
DTEND;TZID=America/Los_Angeles:20281122T173000
DTSTAMP:20260424T094650
CREATED:20251204T221746Z
LAST-MODIFIED:20251204T221844Z
UID:10003820-1858521600-1858527000@uuspokane.org
SUMMARY:Board of Trustees Meeting
DESCRIPTION:
URL:https://uuspokane.org/event/board-of-trustees-meeting-2/2028-11-22/
LOCATION:RE Zoom Account
CATEGORIES:Meeting
END:VEVENT
BEGIN:VEVENT
DTSTART;TZID=America/Los_Angeles:20281130T160000
DTEND;TZID=America/Los_Angeles:20281130T180000
DTSTAMP:20260424T094650
CREATED:20250924T193145Z
LAST-MODIFIED:20250924T193145Z
UID:10000483-1859212800-1859220000@uuspokane.org
SUMMARY:LGBTQ+ Seniors Steering Committee Meeting
DESCRIPTION:ZOOM
URL:https://uuspokane.org/event/lgbtq-seniors-steering-committee-meeting/2028-11-30/
LOCATION:RE Zoom Account
CATEGORIES:Meeting
END:VEVENT
BEGIN:VEVENT
DTSTART;TZID=America/Los_Angeles:20281212T110000
DTEND;TZID=America/Los_Angeles:20281212T130000
DTSTAMP:20260424T094650
CREATED:20250925T173256Z
LAST-MODIFIED:20250925T173256Z
UID:10002606-1860231600-1860238800@uuspokane.org
SUMMARY:Ops Team Meeting
DESCRIPTION:
URL:https://uuspokane.org/event/ops-team-meeting/2028-12-12/
LOCATION:RE Zoom Account
CATEGORIES:Meeting
END:VEVENT
BEGIN:VEVENT
DTSTART;TZID=America/Los_Angeles:20281218T183000
DTEND;TZID=America/Los_Angeles:20281218T200000
DTSTAMP:20260424T094650
CREATED:20250925T180231Z
LAST-MODIFIED:20250925T231548Z
UID:10003218-1860777000-1860782400@uuspokane.org
SUMMARY:Social Justice Coordinating Council
DESCRIPTION:
URL:https://uuspokane.org/event/social-justice-coordinating-council/2028-12-18/
LOCATION:RE Zoom Account
CATEGORIES:Meeting
END:VEVENT
BEGIN:VEVENT
DTSTART;TZID=America/Los_Angeles:20281220T160000
DTEND;TZID=America/Los_Angeles:20281220T170000
DTSTAMP:20260424T094650
CREATED:20250925T173505Z
LAST-MODIFIED:20250925T173505Z
UID:10002666-1860940800-1860944400@uuspokane.org
SUMMARY:Board Agenda Meeting
DESCRIPTION:
URL:https://uuspokane.org/event/board-agenda-meeting/2028-12-20/
LOCATION:RE Zoom Account
CATEGORIES:Meeting
END:VEVENT
END:VCALENDAR