BEGIN:VCALENDAR
VERSION:2.0
PRODID:-//Unitarian Universalist Church of Spokane - ECPv6.15.20//NONSGML v1.0//EN
CALSCALE:GREGORIAN
METHOD:PUBLISH
X-ORIGINAL-URL:https://uuspokane.org
X-WR-CALDESC:Events for Unitarian Universalist Church of Spokane
REFRESH-INTERVAL;VALUE=DURATION:PT1H
X-Robots-Tag:noindex
X-PUBLISHED-TTL:PT1H
BEGIN:VTIMEZONE
TZID:America/Los_Angeles
BEGIN:DAYLIGHT
TZOFFSETFROM:-0800
TZOFFSETTO:-0700
TZNAME:PDT
DTSTART:20280312T100000
END:DAYLIGHT
BEGIN:STANDARD
TZOFFSETFROM:-0700
TZOFFSETTO:-0800
TZNAME:PST
DTSTART:20281105T090000
END:STANDARD
BEGIN:DAYLIGHT
TZOFFSETFROM:-0800
TZOFFSETTO:-0700
TZNAME:PDT
DTSTART:20290311T100000
END:DAYLIGHT
BEGIN:STANDARD
TZOFFSETFROM:-0700
TZOFFSETTO:-0800
TZNAME:PST
DTSTART:20291104T090000
END:STANDARD
BEGIN:DAYLIGHT
TZOFFSETFROM:-0800
TZOFFSETTO:-0700
TZNAME:PDT
DTSTART:20300310T100000
END:DAYLIGHT
BEGIN:STANDARD
TZOFFSETFROM:-0700
TZOFFSETTO:-0800
TZNAME:PST
DTSTART:20301103T090000
END:STANDARD
BEGIN:DAYLIGHT
TZOFFSETFROM:-0800
TZOFFSETTO:-0700
TZNAME:PDT
DTSTART:20310309T100000
END:DAYLIGHT
BEGIN:STANDARD
TZOFFSETFROM:-0700
TZOFFSETTO:-0800
TZNAME:PST
DTSTART:20311102T090000
END:STANDARD
END:VTIMEZONE
BEGIN:VEVENT
DTSTART;TZID=America/Los_Angeles:20290822T160000
DTEND;TZID=America/Los_Angeles:20290822T173000
DTSTAMP:20260424T205335
CREATED:20251204T221746Z
LAST-MODIFIED:20251204T221844Z
UID:10003829-1882108800-1882114200@uuspokane.org
SUMMARY:Board of Trustees Meeting
DESCRIPTION:
URL:https://uuspokane.org/event/board-of-trustees-meeting-2/2029-08-22/
LOCATION:RE Zoom Account
CATEGORIES:Meeting
END:VEVENT
BEGIN:VEVENT
DTSTART;TZID=America/Los_Angeles:20290830T160000
DTEND;TZID=America/Los_Angeles:20290830T180000
DTSTAMP:20260424T205335
CREATED:20250924T193145Z
LAST-MODIFIED:20250924T193145Z
UID:10000492-1882800000-1882807200@uuspokane.org
SUMMARY:LGBTQ+ Seniors Steering Committee Meeting
DESCRIPTION:ZOOM
URL:https://uuspokane.org/event/lgbtq-seniors-steering-committee-meeting/2029-08-30/
LOCATION:RE Zoom Account
CATEGORIES:Meeting
END:VEVENT
BEGIN:VEVENT
DTSTART;TZID=America/Los_Angeles:20290911T110000
DTEND;TZID=America/Los_Angeles:20290911T130000
DTSTAMP:20260424T205335
CREATED:20250925T173256Z
LAST-MODIFIED:20250925T173256Z
UID:10002615-1883818800-1883826000@uuspokane.org
SUMMARY:Ops Team Meeting
DESCRIPTION:
URL:https://uuspokane.org/event/ops-team-meeting/2029-09-11/
LOCATION:RE Zoom Account
CATEGORIES:Meeting
END:VEVENT
BEGIN:VEVENT
DTSTART;TZID=America/Los_Angeles:20290917T183000
DTEND;TZID=America/Los_Angeles:20290917T200000
DTSTAMP:20260424T205335
CREATED:20250925T180231Z
LAST-MODIFIED:20250925T231548Z
UID:10003227-1884364200-1884369600@uuspokane.org
SUMMARY:Social Justice Coordinating Council
DESCRIPTION:
URL:https://uuspokane.org/event/social-justice-coordinating-council/2029-09-17/
LOCATION:RE Zoom Account
CATEGORIES:Meeting
END:VEVENT
BEGIN:VEVENT
DTSTART;TZID=America/Los_Angeles:20290919T160000
DTEND;TZID=America/Los_Angeles:20290919T170000
DTSTAMP:20260424T205335
CREATED:20250925T173505Z
LAST-MODIFIED:20250925T173505Z
UID:10002675-1884528000-1884531600@uuspokane.org
SUMMARY:Board Agenda Meeting
DESCRIPTION:
URL:https://uuspokane.org/event/board-agenda-meeting/2029-09-19/
LOCATION:RE Zoom Account
CATEGORIES:Meeting
END:VEVENT
BEGIN:VEVENT
DTSTART;TZID=America/Los_Angeles:20290926T160000
DTEND;TZID=America/Los_Angeles:20290926T173000
DTSTAMP:20260424T205335
CREATED:20251204T221746Z
LAST-MODIFIED:20251204T221844Z
UID:10003830-1885132800-1885138200@uuspokane.org
SUMMARY:Board of Trustees Meeting
DESCRIPTION:
URL:https://uuspokane.org/event/board-of-trustees-meeting-2/2029-09-26/
LOCATION:RE Zoom Account
CATEGORIES:Meeting
END:VEVENT
BEGIN:VEVENT
DTSTART;TZID=America/Los_Angeles:20290927T160000
DTEND;TZID=America/Los_Angeles:20290927T180000
DTSTAMP:20260424T205335
CREATED:20250924T193145Z
LAST-MODIFIED:20250924T193145Z
UID:10000493-1885219200-1885226400@uuspokane.org
SUMMARY:LGBTQ+ Seniors Steering Committee Meeting
DESCRIPTION:ZOOM
URL:https://uuspokane.org/event/lgbtq-seniors-steering-committee-meeting/2029-09-27/
LOCATION:RE Zoom Account
CATEGORIES:Meeting
END:VEVENT
BEGIN:VEVENT
DTSTART;TZID=America/Los_Angeles:20291009T110000
DTEND;TZID=America/Los_Angeles:20291009T130000
DTSTAMP:20260424T205335
CREATED:20250925T173256Z
LAST-MODIFIED:20250925T173256Z
UID:10002616-1886238000-1886245200@uuspokane.org
SUMMARY:Ops Team Meeting
DESCRIPTION:
URL:https://uuspokane.org/event/ops-team-meeting/2029-10-09/
LOCATION:RE Zoom Account
CATEGORIES:Meeting
END:VEVENT
BEGIN:VEVENT
DTSTART;TZID=America/Los_Angeles:20291015T183000
DTEND;TZID=America/Los_Angeles:20291015T200000
DTSTAMP:20260424T205335
CREATED:20250925T180231Z
LAST-MODIFIED:20250925T231548Z
UID:10003228-1886783400-1886788800@uuspokane.org
SUMMARY:Social Justice Coordinating Council
DESCRIPTION:
URL:https://uuspokane.org/event/social-justice-coordinating-council/2029-10-15/
LOCATION:RE Zoom Account
CATEGORIES:Meeting
END:VEVENT
BEGIN:VEVENT
DTSTART;TZID=America/Los_Angeles:20291017T160000
DTEND;TZID=America/Los_Angeles:20291017T170000
DTSTAMP:20260424T205335
CREATED:20250925T173505Z
LAST-MODIFIED:20250925T173505Z
UID:10002676-1886947200-1886950800@uuspokane.org
SUMMARY:Board Agenda Meeting
DESCRIPTION:
URL:https://uuspokane.org/event/board-agenda-meeting/2029-10-17/
LOCATION:RE Zoom Account
CATEGORIES:Meeting
END:VEVENT
BEGIN:VEVENT
DTSTART;TZID=America/Los_Angeles:20291024T160000
DTEND;TZID=America/Los_Angeles:20291024T173000
DTSTAMP:20260424T205335
CREATED:20251204T221746Z
LAST-MODIFIED:20251204T221844Z
UID:10003831-1887552000-1887557400@uuspokane.org
SUMMARY:Board of Trustees Meeting
DESCRIPTION:
URL:https://uuspokane.org/event/board-of-trustees-meeting-2/2029-10-24/
LOCATION:RE Zoom Account
CATEGORIES:Meeting
END:VEVENT
BEGIN:VEVENT
DTSTART;TZID=America/Los_Angeles:20291025T160000
DTEND;TZID=America/Los_Angeles:20291025T180000
DTSTAMP:20260424T205335
CREATED:20250924T193145Z
LAST-MODIFIED:20250924T193145Z
UID:10000494-1887638400-1887645600@uuspokane.org
SUMMARY:LGBTQ+ Seniors Steering Committee Meeting
DESCRIPTION:ZOOM
URL:https://uuspokane.org/event/lgbtq-seniors-steering-committee-meeting/2029-10-25/
LOCATION:RE Zoom Account
CATEGORIES:Meeting
END:VEVENT
BEGIN:VEVENT
DTSTART;TZID=America/Los_Angeles:20291113T110000
DTEND;TZID=America/Los_Angeles:20291113T130000
DTSTAMP:20260424T205335
CREATED:20250925T173256Z
LAST-MODIFIED:20250925T173256Z
UID:10002617-1889262000-1889269200@uuspokane.org
SUMMARY:Ops Team Meeting
DESCRIPTION:
URL:https://uuspokane.org/event/ops-team-meeting/2029-11-13/
LOCATION:RE Zoom Account
CATEGORIES:Meeting
END:VEVENT
BEGIN:VEVENT
DTSTART;TZID=America/Los_Angeles:20291119T183000
DTEND;TZID=America/Los_Angeles:20291119T200000
DTSTAMP:20260424T205335
CREATED:20250925T180231Z
LAST-MODIFIED:20250925T231548Z
UID:10003229-1889807400-1889812800@uuspokane.org
SUMMARY:Social Justice Coordinating Council
DESCRIPTION:
URL:https://uuspokane.org/event/social-justice-coordinating-council/2029-11-19/
LOCATION:RE Zoom Account
CATEGORIES:Meeting
END:VEVENT
BEGIN:VEVENT
DTSTART;TZID=America/Los_Angeles:20291121T160000
DTEND;TZID=America/Los_Angeles:20291121T170000
DTSTAMP:20260424T205335
CREATED:20250925T173505Z
LAST-MODIFIED:20250925T173505Z
UID:10002677-1889971200-1889974800@uuspokane.org
SUMMARY:Board Agenda Meeting
DESCRIPTION:
URL:https://uuspokane.org/event/board-agenda-meeting/2029-11-21/
LOCATION:RE Zoom Account
CATEGORIES:Meeting
END:VEVENT
BEGIN:VEVENT
DTSTART;TZID=America/Los_Angeles:20291128T160000
DTEND;TZID=America/Los_Angeles:20291128T173000
DTSTAMP:20260424T205335
CREATED:20251204T221746Z
LAST-MODIFIED:20251204T221844Z
UID:10003832-1890576000-1890581400@uuspokane.org
SUMMARY:Board of Trustees Meeting
DESCRIPTION:
URL:https://uuspokane.org/event/board-of-trustees-meeting-2/2029-11-28/
LOCATION:RE Zoom Account
CATEGORIES:Meeting
END:VEVENT
BEGIN:VEVENT
DTSTART;TZID=America/Los_Angeles:20291129T160000
DTEND;TZID=America/Los_Angeles:20291129T180000
DTSTAMP:20260424T205335
CREATED:20250924T193145Z
LAST-MODIFIED:20250924T193145Z
UID:10000495-1890662400-1890669600@uuspokane.org
SUMMARY:LGBTQ+ Seniors Steering Committee Meeting
DESCRIPTION:ZOOM
URL:https://uuspokane.org/event/lgbtq-seniors-steering-committee-meeting/2029-11-29/
LOCATION:RE Zoom Account
CATEGORIES:Meeting
END:VEVENT
BEGIN:VEVENT
DTSTART;TZID=America/Los_Angeles:20291211T110000
DTEND;TZID=America/Los_Angeles:20291211T130000
DTSTAMP:20260424T205335
CREATED:20250925T173256Z
LAST-MODIFIED:20250925T173256Z
UID:10002618-1891681200-1891688400@uuspokane.org
SUMMARY:Ops Team Meeting
DESCRIPTION:
URL:https://uuspokane.org/event/ops-team-meeting/2029-12-11/
LOCATION:RE Zoom Account
CATEGORIES:Meeting
END:VEVENT
BEGIN:VEVENT
DTSTART;TZID=America/Los_Angeles:20291217T183000
DTEND;TZID=America/Los_Angeles:20291217T200000
DTSTAMP:20260424T205335
CREATED:20250925T180231Z
LAST-MODIFIED:20250925T231548Z
UID:10003230-1892226600-1892232000@uuspokane.org
SUMMARY:Social Justice Coordinating Council
DESCRIPTION:
URL:https://uuspokane.org/event/social-justice-coordinating-council/2029-12-17/
LOCATION:RE Zoom Account
CATEGORIES:Meeting
END:VEVENT
BEGIN:VEVENT
DTSTART;TZID=America/Los_Angeles:20291219T160000
DTEND;TZID=America/Los_Angeles:20291219T170000
DTSTAMP:20260424T205335
CREATED:20250925T173505Z
LAST-MODIFIED:20250925T173505Z
UID:10002678-1892390400-1892394000@uuspokane.org
SUMMARY:Board Agenda Meeting
DESCRIPTION:
URL:https://uuspokane.org/event/board-agenda-meeting/2029-12-19/
LOCATION:RE Zoom Account
CATEGORIES:Meeting
END:VEVENT
BEGIN:VEVENT
DTSTART;TZID=America/Los_Angeles:20291226T160000
DTEND;TZID=America/Los_Angeles:20291226T173000
DTSTAMP:20260424T205335
CREATED:20251204T221746Z
LAST-MODIFIED:20251204T221844Z
UID:10003833-1892995200-1893000600@uuspokane.org
SUMMARY:Board of Trustees Meeting
DESCRIPTION:
URL:https://uuspokane.org/event/board-of-trustees-meeting-2/2029-12-26/
LOCATION:RE Zoom Account
CATEGORIES:Meeting
END:VEVENT
BEGIN:VEVENT
DTSTART;TZID=America/Los_Angeles:20291227T160000
DTEND;TZID=America/Los_Angeles:20291227T180000
DTSTAMP:20260424T205335
CREATED:20250924T193145Z
LAST-MODIFIED:20250924T193145Z
UID:10000496-1893081600-1893088800@uuspokane.org
SUMMARY:LGBTQ+ Seniors Steering Committee Meeting
DESCRIPTION:ZOOM
URL:https://uuspokane.org/event/lgbtq-seniors-steering-committee-meeting/2029-12-27/
LOCATION:RE Zoom Account
CATEGORIES:Meeting
END:VEVENT
BEGIN:VEVENT
DTSTART;TZID=America/Los_Angeles:20300108T110000
DTEND;TZID=America/Los_Angeles:20300108T130000
DTSTAMP:20260424T205335
CREATED:20250925T173256Z
LAST-MODIFIED:20250925T173256Z
UID:10002619-1894100400-1894107600@uuspokane.org
SUMMARY:Ops Team Meeting
DESCRIPTION:
URL:https://uuspokane.org/event/ops-team-meeting/2030-01-08/
LOCATION:RE Zoom Account
CATEGORIES:Meeting
END:VEVENT
BEGIN:VEVENT
DTSTART;TZID=America/Los_Angeles:20300116T160000
DTEND;TZID=America/Los_Angeles:20300116T170000
DTSTAMP:20260424T205335
CREATED:20250925T173505Z
LAST-MODIFIED:20250925T173505Z
UID:10002679-1894809600-1894813200@uuspokane.org
SUMMARY:Board Agenda Meeting
DESCRIPTION:
URL:https://uuspokane.org/event/board-agenda-meeting/2030-01-16/
LOCATION:RE Zoom Account
CATEGORIES:Meeting
END:VEVENT
BEGIN:VEVENT
DTSTART;TZID=America/Los_Angeles:20300121T183000
DTEND;TZID=America/Los_Angeles:20300121T200000
DTSTAMP:20260424T205335
CREATED:20250925T180231Z
LAST-MODIFIED:20250925T231548Z
UID:10003231-1895250600-1895256000@uuspokane.org
SUMMARY:Social Justice Coordinating Council
DESCRIPTION:
URL:https://uuspokane.org/event/social-justice-coordinating-council/2030-01-21/
LOCATION:RE Zoom Account
CATEGORIES:Meeting
END:VEVENT
BEGIN:VEVENT
DTSTART;TZID=America/Los_Angeles:20300123T160000
DTEND;TZID=America/Los_Angeles:20300123T173000
DTSTAMP:20260424T205335
CREATED:20251204T221746Z
LAST-MODIFIED:20251204T221844Z
UID:10003834-1895414400-1895419800@uuspokane.org
SUMMARY:Board of Trustees Meeting
DESCRIPTION:
URL:https://uuspokane.org/event/board-of-trustees-meeting-2/2030-01-23/
LOCATION:RE Zoom Account
CATEGORIES:Meeting
END:VEVENT
BEGIN:VEVENT
DTSTART;TZID=America/Los_Angeles:20300131T160000
DTEND;TZID=America/Los_Angeles:20300131T180000
DTSTAMP:20260424T205335
CREATED:20250924T193145Z
LAST-MODIFIED:20250924T193145Z
UID:10000497-1896105600-1896112800@uuspokane.org
SUMMARY:LGBTQ+ Seniors Steering Committee Meeting
DESCRIPTION:ZOOM
URL:https://uuspokane.org/event/lgbtq-seniors-steering-committee-meeting/2030-01-31/
LOCATION:RE Zoom Account
CATEGORIES:Meeting
END:VEVENT
BEGIN:VEVENT
DTSTART;TZID=America/Los_Angeles:20300212T110000
DTEND;TZID=America/Los_Angeles:20300212T130000
DTSTAMP:20260424T205335
CREATED:20250925T173256Z
LAST-MODIFIED:20250925T173256Z
UID:10002620-1897124400-1897131600@uuspokane.org
SUMMARY:Ops Team Meeting
DESCRIPTION:
URL:https://uuspokane.org/event/ops-team-meeting/2030-02-12/
LOCATION:RE Zoom Account
CATEGORIES:Meeting
END:VEVENT
BEGIN:VEVENT
DTSTART;TZID=America/Los_Angeles:20300218T183000
DTEND;TZID=America/Los_Angeles:20300218T200000
DTSTAMP:20260424T205335
CREATED:20250925T180231Z
LAST-MODIFIED:20250925T231548Z
UID:10003232-1897669800-1897675200@uuspokane.org
SUMMARY:Social Justice Coordinating Council
DESCRIPTION:
URL:https://uuspokane.org/event/social-justice-coordinating-council/2030-02-18/
LOCATION:RE Zoom Account
CATEGORIES:Meeting
END:VEVENT
BEGIN:VEVENT
DTSTART;TZID=America/Los_Angeles:20300220T160000
DTEND;TZID=America/Los_Angeles:20300220T170000
DTSTAMP:20260424T205336
CREATED:20250925T173505Z
LAST-MODIFIED:20250925T173505Z
UID:10002680-1897833600-1897837200@uuspokane.org
SUMMARY:Board Agenda Meeting
DESCRIPTION:
URL:https://uuspokane.org/event/board-agenda-meeting/2030-02-20/
LOCATION:RE Zoom Account
CATEGORIES:Meeting
END:VEVENT
END:VCALENDAR