BEGIN:VCALENDAR
VERSION:2.0
PRODID:-//Unitarian Universalist Church of Spokane - ECPv6.15.20//NONSGML v1.0//EN
CALSCALE:GREGORIAN
METHOD:PUBLISH
X-ORIGINAL-URL:https://uuspokane.org
X-WR-CALDESC:Events for Unitarian Universalist Church of Spokane
REFRESH-INTERVAL;VALUE=DURATION:PT1H
X-Robots-Tag:noindex
X-PUBLISHED-TTL:PT1H
BEGIN:VTIMEZONE
TZID:America/Los_Angeles
BEGIN:DAYLIGHT
TZOFFSETFROM:-0800
TZOFFSETTO:-0700
TZNAME:PDT
DTSTART:20260308T100000
END:DAYLIGHT
BEGIN:STANDARD
TZOFFSETFROM:-0700
TZOFFSETTO:-0800
TZNAME:PST
DTSTART:20261101T090000
END:STANDARD
BEGIN:DAYLIGHT
TZOFFSETFROM:-0800
TZOFFSETTO:-0700
TZNAME:PDT
DTSTART:20270314T100000
END:DAYLIGHT
BEGIN:STANDARD
TZOFFSETFROM:-0700
TZOFFSETTO:-0800
TZNAME:PST
DTSTART:20271107T090000
END:STANDARD
BEGIN:DAYLIGHT
TZOFFSETFROM:-0800
TZOFFSETTO:-0700
TZNAME:PDT
DTSTART:20280312T100000
END:DAYLIGHT
BEGIN:STANDARD
TZOFFSETFROM:-0700
TZOFFSETTO:-0800
TZNAME:PST
DTSTART:20281105T090000
END:STANDARD
END:VTIMEZONE
BEGIN:VEVENT
DTSTART;TZID=America/Los_Angeles:20270428T160000
DTEND;TZID=America/Los_Angeles:20270428T173000
DTSTAMP:20260423T221057
CREATED:20251204T221746Z
LAST-MODIFIED:20251204T221844Z
UID:10003801-1808928000-1808933400@uuspokane.org
SUMMARY:Board of Trustees Meeting
DESCRIPTION:
URL:https://uuspokane.org/event/board-of-trustees-meeting-2/2027-04-28/
LOCATION:RE Zoom Account
CATEGORIES:Meeting
END:VEVENT
BEGIN:VEVENT
DTSTART;TZID=America/Los_Angeles:20270429T160000
DTEND;TZID=America/Los_Angeles:20270429T180000
DTSTAMP:20260423T221057
CREATED:20250924T193145Z
LAST-MODIFIED:20250924T193145Z
UID:10000464-1809014400-1809021600@uuspokane.org
SUMMARY:LGBTQ+ Seniors Steering Committee Meeting
DESCRIPTION:ZOOM
URL:https://uuspokane.org/event/lgbtq-seniors-steering-committee-meeting/2027-04-29/
LOCATION:RE Zoom Account
CATEGORIES:Meeting
END:VEVENT
BEGIN:VEVENT
DTSTART;TZID=America/Los_Angeles:20270511T110000
DTEND;TZID=America/Los_Angeles:20270511T130000
DTSTAMP:20260423T221057
CREATED:20250925T173256Z
LAST-MODIFIED:20250925T173256Z
UID:10002587-1810033200-1810040400@uuspokane.org
SUMMARY:Ops Team Meeting
DESCRIPTION:
URL:https://uuspokane.org/event/ops-team-meeting/2027-05-11/
LOCATION:RE Zoom Account
CATEGORIES:Meeting
END:VEVENT
BEGIN:VEVENT
DTSTART;TZID=America/Los_Angeles:20270517T183000
DTEND;TZID=America/Los_Angeles:20270517T200000
DTSTAMP:20260423T221057
CREATED:20250925T180231Z
LAST-MODIFIED:20250925T231548Z
UID:10003199-1810578600-1810584000@uuspokane.org
SUMMARY:Social Justice Coordinating Council
DESCRIPTION:
URL:https://uuspokane.org/event/social-justice-coordinating-council/2027-05-17/
LOCATION:RE Zoom Account
CATEGORIES:Meeting
END:VEVENT
BEGIN:VEVENT
DTSTART;TZID=America/Los_Angeles:20270519T160000
DTEND;TZID=America/Los_Angeles:20270519T170000
DTSTAMP:20260423T221057
CREATED:20250925T173505Z
LAST-MODIFIED:20250925T173505Z
UID:10002647-1810742400-1810746000@uuspokane.org
SUMMARY:Board Agenda Meeting
DESCRIPTION:
URL:https://uuspokane.org/event/board-agenda-meeting/2027-05-19/
LOCATION:RE Zoom Account
CATEGORIES:Meeting
END:VEVENT
BEGIN:VEVENT
DTSTART;TZID=America/Los_Angeles:20270526T160000
DTEND;TZID=America/Los_Angeles:20270526T173000
DTSTAMP:20260423T221057
CREATED:20251204T221746Z
LAST-MODIFIED:20251204T221844Z
UID:10003802-1811347200-1811352600@uuspokane.org
SUMMARY:Board of Trustees Meeting
DESCRIPTION:
URL:https://uuspokane.org/event/board-of-trustees-meeting-2/2027-05-26/
LOCATION:RE Zoom Account
CATEGORIES:Meeting
END:VEVENT
BEGIN:VEVENT
DTSTART;TZID=America/Los_Angeles:20270527T160000
DTEND;TZID=America/Los_Angeles:20270527T180000
DTSTAMP:20260423T221057
CREATED:20250924T193145Z
LAST-MODIFIED:20250924T193145Z
UID:10000465-1811433600-1811440800@uuspokane.org
SUMMARY:LGBTQ+ Seniors Steering Committee Meeting
DESCRIPTION:ZOOM
URL:https://uuspokane.org/event/lgbtq-seniors-steering-committee-meeting/2027-05-27/
LOCATION:RE Zoom Account
CATEGORIES:Meeting
END:VEVENT
BEGIN:VEVENT
DTSTART;TZID=America/Los_Angeles:20270608T110000
DTEND;TZID=America/Los_Angeles:20270608T130000
DTSTAMP:20260423T221057
CREATED:20250925T173256Z
LAST-MODIFIED:20250925T173256Z
UID:10002588-1812452400-1812459600@uuspokane.org
SUMMARY:Ops Team Meeting
DESCRIPTION:
URL:https://uuspokane.org/event/ops-team-meeting/2027-06-08/
LOCATION:RE Zoom Account
CATEGORIES:Meeting
END:VEVENT
BEGIN:VEVENT
DTSTART;TZID=America/Los_Angeles:20270616T160000
DTEND;TZID=America/Los_Angeles:20270616T170000
DTSTAMP:20260423T221057
CREATED:20250925T173505Z
LAST-MODIFIED:20250925T173505Z
UID:10002648-1813161600-1813165200@uuspokane.org
SUMMARY:Board Agenda Meeting
DESCRIPTION:
URL:https://uuspokane.org/event/board-agenda-meeting/2027-06-16/
LOCATION:RE Zoom Account
CATEGORIES:Meeting
END:VEVENT
BEGIN:VEVENT
DTSTART;TZID=America/Los_Angeles:20270621T183000
DTEND;TZID=America/Los_Angeles:20270621T200000
DTSTAMP:20260423T221057
CREATED:20250925T180231Z
LAST-MODIFIED:20250925T231548Z
UID:10003200-1813602600-1813608000@uuspokane.org
SUMMARY:Social Justice Coordinating Council
DESCRIPTION:
URL:https://uuspokane.org/event/social-justice-coordinating-council/2027-06-21/
LOCATION:RE Zoom Account
CATEGORIES:Meeting
END:VEVENT
BEGIN:VEVENT
DTSTART;TZID=America/Los_Angeles:20270623T160000
DTEND;TZID=America/Los_Angeles:20270623T173000
DTSTAMP:20260423T221057
CREATED:20251204T221746Z
LAST-MODIFIED:20251204T221844Z
UID:10003803-1813766400-1813771800@uuspokane.org
SUMMARY:Board of Trustees Meeting
DESCRIPTION:
URL:https://uuspokane.org/event/board-of-trustees-meeting-2/2027-06-23/
LOCATION:RE Zoom Account
CATEGORIES:Meeting
END:VEVENT
BEGIN:VEVENT
DTSTART;TZID=America/Los_Angeles:20270624T160000
DTEND;TZID=America/Los_Angeles:20270624T180000
DTSTAMP:20260423T221057
CREATED:20250924T193145Z
LAST-MODIFIED:20250924T193145Z
UID:10000466-1813852800-1813860000@uuspokane.org
SUMMARY:LGBTQ+ Seniors Steering Committee Meeting
DESCRIPTION:ZOOM
URL:https://uuspokane.org/event/lgbtq-seniors-steering-committee-meeting/2027-06-24/
LOCATION:RE Zoom Account
CATEGORIES:Meeting
END:VEVENT
BEGIN:VEVENT
DTSTART;TZID=America/Los_Angeles:20270713T110000
DTEND;TZID=America/Los_Angeles:20270713T130000
DTSTAMP:20260423T221057
CREATED:20250925T173256Z
LAST-MODIFIED:20250925T173256Z
UID:10002589-1815476400-1815483600@uuspokane.org
SUMMARY:Ops Team Meeting
DESCRIPTION:
URL:https://uuspokane.org/event/ops-team-meeting/2027-07-13/
LOCATION:RE Zoom Account
CATEGORIES:Meeting
END:VEVENT
BEGIN:VEVENT
DTSTART;TZID=America/Los_Angeles:20270719T183000
DTEND;TZID=America/Los_Angeles:20270719T200000
DTSTAMP:20260423T221057
CREATED:20250925T180231Z
LAST-MODIFIED:20250925T231548Z
UID:10003201-1816021800-1816027200@uuspokane.org
SUMMARY:Social Justice Coordinating Council
DESCRIPTION:
URL:https://uuspokane.org/event/social-justice-coordinating-council/2027-07-19/
LOCATION:RE Zoom Account
CATEGORIES:Meeting
END:VEVENT
BEGIN:VEVENT
DTSTART;TZID=America/Los_Angeles:20270721T160000
DTEND;TZID=America/Los_Angeles:20270721T170000
DTSTAMP:20260423T221057
CREATED:20250925T173505Z
LAST-MODIFIED:20250925T173505Z
UID:10002649-1816185600-1816189200@uuspokane.org
SUMMARY:Board Agenda Meeting
DESCRIPTION:
URL:https://uuspokane.org/event/board-agenda-meeting/2027-07-21/
LOCATION:RE Zoom Account
CATEGORIES:Meeting
END:VEVENT
BEGIN:VEVENT
DTSTART;TZID=America/Los_Angeles:20270728T160000
DTEND;TZID=America/Los_Angeles:20270728T173000
DTSTAMP:20260423T221057
CREATED:20251204T221746Z
LAST-MODIFIED:20251204T221844Z
UID:10003804-1816790400-1816795800@uuspokane.org
SUMMARY:Board of Trustees Meeting
DESCRIPTION:
URL:https://uuspokane.org/event/board-of-trustees-meeting-2/2027-07-28/
LOCATION:RE Zoom Account
CATEGORIES:Meeting
END:VEVENT
BEGIN:VEVENT
DTSTART;TZID=America/Los_Angeles:20270729T160000
DTEND;TZID=America/Los_Angeles:20270729T180000
DTSTAMP:20260423T221057
CREATED:20250924T193145Z
LAST-MODIFIED:20250924T193145Z
UID:10000467-1816876800-1816884000@uuspokane.org
SUMMARY:LGBTQ+ Seniors Steering Committee Meeting
DESCRIPTION:ZOOM
URL:https://uuspokane.org/event/lgbtq-seniors-steering-committee-meeting/2027-07-29/
LOCATION:RE Zoom Account
CATEGORIES:Meeting
END:VEVENT
BEGIN:VEVENT
DTSTART;TZID=America/Los_Angeles:20270810T110000
DTEND;TZID=America/Los_Angeles:20270810T130000
DTSTAMP:20260423T221057
CREATED:20250925T173256Z
LAST-MODIFIED:20250925T173256Z
UID:10002590-1817895600-1817902800@uuspokane.org
SUMMARY:Ops Team Meeting
DESCRIPTION:
URL:https://uuspokane.org/event/ops-team-meeting/2027-08-10/
LOCATION:RE Zoom Account
CATEGORIES:Meeting
END:VEVENT
BEGIN:VEVENT
DTSTART;TZID=America/Los_Angeles:20270816T183000
DTEND;TZID=America/Los_Angeles:20270816T200000
DTSTAMP:20260423T221057
CREATED:20250925T180231Z
LAST-MODIFIED:20250925T231548Z
UID:10003202-1818441000-1818446400@uuspokane.org
SUMMARY:Social Justice Coordinating Council
DESCRIPTION:
URL:https://uuspokane.org/event/social-justice-coordinating-council/2027-08-16/
LOCATION:RE Zoom Account
CATEGORIES:Meeting
END:VEVENT
BEGIN:VEVENT
DTSTART;TZID=America/Los_Angeles:20270818T160000
DTEND;TZID=America/Los_Angeles:20270818T170000
DTSTAMP:20260423T221057
CREATED:20250925T173505Z
LAST-MODIFIED:20250925T173505Z
UID:10002650-1818604800-1818608400@uuspokane.org
SUMMARY:Board Agenda Meeting
DESCRIPTION:
URL:https://uuspokane.org/event/board-agenda-meeting/2027-08-18/
LOCATION:RE Zoom Account
CATEGORIES:Meeting
END:VEVENT
BEGIN:VEVENT
DTSTART;TZID=America/Los_Angeles:20270825T160000
DTEND;TZID=America/Los_Angeles:20270825T173000
DTSTAMP:20260423T221057
CREATED:20251204T221746Z
LAST-MODIFIED:20251204T221844Z
UID:10003805-1819209600-1819215000@uuspokane.org
SUMMARY:Board of Trustees Meeting
DESCRIPTION:
URL:https://uuspokane.org/event/board-of-trustees-meeting-2/2027-08-25/
LOCATION:RE Zoom Account
CATEGORIES:Meeting
END:VEVENT
BEGIN:VEVENT
DTSTART;TZID=America/Los_Angeles:20270826T160000
DTEND;TZID=America/Los_Angeles:20270826T180000
DTSTAMP:20260423T221057
CREATED:20250924T193145Z
LAST-MODIFIED:20250924T193145Z
UID:10000468-1819296000-1819303200@uuspokane.org
SUMMARY:LGBTQ+ Seniors Steering Committee Meeting
DESCRIPTION:ZOOM
URL:https://uuspokane.org/event/lgbtq-seniors-steering-committee-meeting/2027-08-26/
LOCATION:RE Zoom Account
CATEGORIES:Meeting
END:VEVENT
BEGIN:VEVENT
DTSTART;TZID=America/Los_Angeles:20270914T110000
DTEND;TZID=America/Los_Angeles:20270914T130000
DTSTAMP:20260423T221057
CREATED:20250925T173256Z
LAST-MODIFIED:20250925T173256Z
UID:10002591-1820919600-1820926800@uuspokane.org
SUMMARY:Ops Team Meeting
DESCRIPTION:
URL:https://uuspokane.org/event/ops-team-meeting/2027-09-14/
LOCATION:RE Zoom Account
CATEGORIES:Meeting
END:VEVENT
BEGIN:VEVENT
DTSTART;TZID=America/Los_Angeles:20270915T160000
DTEND;TZID=America/Los_Angeles:20270915T170000
DTSTAMP:20260423T221057
CREATED:20250925T173505Z
LAST-MODIFIED:20250925T173505Z
UID:10002651-1821024000-1821027600@uuspokane.org
SUMMARY:Board Agenda Meeting
DESCRIPTION:
URL:https://uuspokane.org/event/board-agenda-meeting/2027-09-15/
LOCATION:RE Zoom Account
CATEGORIES:Meeting
END:VEVENT
BEGIN:VEVENT
DTSTART;TZID=America/Los_Angeles:20270920T183000
DTEND;TZID=America/Los_Angeles:20270920T200000
DTSTAMP:20260423T221057
CREATED:20250925T180231Z
LAST-MODIFIED:20250925T231548Z
UID:10003203-1821465000-1821470400@uuspokane.org
SUMMARY:Social Justice Coordinating Council
DESCRIPTION:
URL:https://uuspokane.org/event/social-justice-coordinating-council/2027-09-20/
LOCATION:RE Zoom Account
CATEGORIES:Meeting
END:VEVENT
BEGIN:VEVENT
DTSTART;TZID=America/Los_Angeles:20270922T160000
DTEND;TZID=America/Los_Angeles:20270922T173000
DTSTAMP:20260423T221057
CREATED:20251204T221746Z
LAST-MODIFIED:20251204T221844Z
UID:10003806-1821628800-1821634200@uuspokane.org
SUMMARY:Board of Trustees Meeting
DESCRIPTION:
URL:https://uuspokane.org/event/board-of-trustees-meeting-2/2027-09-22/
LOCATION:RE Zoom Account
CATEGORIES:Meeting
END:VEVENT
BEGIN:VEVENT
DTSTART;TZID=America/Los_Angeles:20270930T160000
DTEND;TZID=America/Los_Angeles:20270930T180000
DTSTAMP:20260423T221057
CREATED:20250924T193145Z
LAST-MODIFIED:20250924T193145Z
UID:10000469-1822320000-1822327200@uuspokane.org
SUMMARY:LGBTQ+ Seniors Steering Committee Meeting
DESCRIPTION:ZOOM
URL:https://uuspokane.org/event/lgbtq-seniors-steering-committee-meeting/2027-09-30/
LOCATION:RE Zoom Account
CATEGORIES:Meeting
END:VEVENT
BEGIN:VEVENT
DTSTART;TZID=America/Los_Angeles:20271012T110000
DTEND;TZID=America/Los_Angeles:20271012T130000
DTSTAMP:20260423T221057
CREATED:20250925T173256Z
LAST-MODIFIED:20250925T173256Z
UID:10002592-1823338800-1823346000@uuspokane.org
SUMMARY:Ops Team Meeting
DESCRIPTION:
URL:https://uuspokane.org/event/ops-team-meeting/2027-10-12/
LOCATION:RE Zoom Account
CATEGORIES:Meeting
END:VEVENT
BEGIN:VEVENT
DTSTART;TZID=America/Los_Angeles:20271018T183000
DTEND;TZID=America/Los_Angeles:20271018T200000
DTSTAMP:20260423T221057
CREATED:20250925T180231Z
LAST-MODIFIED:20250925T231548Z
UID:10003204-1823884200-1823889600@uuspokane.org
SUMMARY:Social Justice Coordinating Council
DESCRIPTION:
URL:https://uuspokane.org/event/social-justice-coordinating-council/2027-10-18/
LOCATION:RE Zoom Account
CATEGORIES:Meeting
END:VEVENT
BEGIN:VEVENT
DTSTART;TZID=America/Los_Angeles:20271020T160000
DTEND;TZID=America/Los_Angeles:20271020T170000
DTSTAMP:20260423T221057
CREATED:20250925T173505Z
LAST-MODIFIED:20250925T173505Z
UID:10002652-1824048000-1824051600@uuspokane.org
SUMMARY:Board Agenda Meeting
DESCRIPTION:
URL:https://uuspokane.org/event/board-agenda-meeting/2027-10-20/
LOCATION:RE Zoom Account
CATEGORIES:Meeting
END:VEVENT
END:VCALENDAR