BEGIN:VCALENDAR
VERSION:2.0
PRODID:-//Unitarian Universalist Church of Spokane - ECPv6.15.20//NONSGML v1.0//EN
CALSCALE:GREGORIAN
METHOD:PUBLISH
X-ORIGINAL-URL:https://uuspokane.org
X-WR-CALDESC:Events for Unitarian Universalist Church of Spokane
REFRESH-INTERVAL;VALUE=DURATION:PT1H
X-Robots-Tag:noindex
X-PUBLISHED-TTL:PT1H
BEGIN:VTIMEZONE
TZID:America/Los_Angeles
BEGIN:DAYLIGHT
TZOFFSETFROM:-0800
TZOFFSETTO:-0700
TZNAME:PDT
DTSTART:20240310T100000
END:DAYLIGHT
BEGIN:STANDARD
TZOFFSETFROM:-0700
TZOFFSETTO:-0800
TZNAME:PST
DTSTART:20241103T090000
END:STANDARD
BEGIN:DAYLIGHT
TZOFFSETFROM:-0800
TZOFFSETTO:-0700
TZNAME:PDT
DTSTART:20250309T100000
END:DAYLIGHT
BEGIN:STANDARD
TZOFFSETFROM:-0700
TZOFFSETTO:-0800
TZNAME:PST
DTSTART:20251102T090000
END:STANDARD
BEGIN:DAYLIGHT
TZOFFSETFROM:-0800
TZOFFSETTO:-0700
TZNAME:PDT
DTSTART:20260308T100000
END:DAYLIGHT
BEGIN:STANDARD
TZOFFSETFROM:-0700
TZOFFSETTO:-0800
TZNAME:PST
DTSTART:20261101T090000
END:STANDARD
END:VTIMEZONE
BEGIN:VEVENT
DTSTART;TZID=America/Los_Angeles:20251021T180000
DTEND;TZID=America/Los_Angeles:20251021T193000
DTSTAMP:20260424T035211
CREATED:20250925T192251Z
LAST-MODIFIED:20250925T192251Z
UID:10002934-1761069600-1761075000@uuspokane.org
SUMMARY:Choir Rehearsal
DESCRIPTION:
URL:https://uuspokane.org/event/choir-rehearsal-3/2025-10-21/
LOCATION:Sanctuary
CATEGORIES:Choir Rehearsal
END:VEVENT
BEGIN:VEVENT
DTSTART;TZID=America/Los_Angeles:20251019T110000
DTEND;TZID=America/Los_Angeles:20251019T120000
DTSTAMP:20260424T035211
CREATED:20250924T193853Z
LAST-MODIFIED:20250925T235352Z
UID:10001031-1760871600-1760875200@uuspokane.org
SUMMARY:Sunday Worship
DESCRIPTION:Live Stream Available
URL:https://uuspokane.org/event/sunday-worship-2/2025-10-19/
LOCATION:Sanctuary
CATEGORIES:Worship Service
END:VEVENT
BEGIN:VEVENT
DTSTART;TZID=America/Los_Angeles:20251019T091500
DTEND;TZID=America/Los_Angeles:20251019T101500
DTSTAMP:20260424T035211
CREATED:20250924T193716Z
LAST-MODIFIED:20250925T235209Z
UID:10000770-1760865300-1760868900@uuspokane.org
SUMMARY:Sunday Worship
DESCRIPTION:Live Stream Available
URL:https://uuspokane.org/event/sunday-worship/2025-10-19/
LOCATION:Sanctuary
CATEGORIES:Worship Service
END:VEVENT
BEGIN:VEVENT
DTSTART;TZID=America/Los_Angeles:20251012T110000
DTEND;TZID=America/Los_Angeles:20251012T120000
DTSTAMP:20260424T035211
CREATED:20250924T193853Z
LAST-MODIFIED:20250925T235352Z
UID:10001030-1760266800-1760270400@uuspokane.org
SUMMARY:Sunday Worship
DESCRIPTION:Live Stream Available
URL:https://uuspokane.org/event/sunday-worship-2/2025-10-12/
LOCATION:Sanctuary
CATEGORIES:Worship Service
END:VEVENT
BEGIN:VEVENT
DTSTART;TZID=America/Los_Angeles:20251012T091500
DTEND;TZID=America/Los_Angeles:20251012T101500
DTSTAMP:20260424T035211
CREATED:20250924T193716Z
LAST-MODIFIED:20250925T235209Z
UID:10000769-1760260500-1760264100@uuspokane.org
SUMMARY:Sunday Worship
DESCRIPTION:Live Stream Available
URL:https://uuspokane.org/event/sunday-worship/2025-10-12/
LOCATION:Sanctuary
CATEGORIES:Worship Service
END:VEVENT
BEGIN:VEVENT
DTSTART;TZID=America/Los_Angeles:20251007T180000
DTEND;TZID=America/Los_Angeles:20251007T193000
DTSTAMP:20260424T035211
CREATED:20250925T192129Z
LAST-MODIFIED:20250925T192129Z
UID:10002931-1759860000-1759865400@uuspokane.org
SUMMARY:Choir Rehearsal
DESCRIPTION:
URL:https://uuspokane.org/event/choir-rehearsal-2/2025-10-07/
LOCATION:Sanctuary
CATEGORIES:Choir Rehearsal
END:VEVENT
BEGIN:VEVENT
DTSTART;TZID=America/Los_Angeles:20251005T090000
DTEND;TZID=America/Los_Angeles:20251005T110000
DTSTAMP:20260424T035211
CREATED:20250925T235651Z
LAST-MODIFIED:20250925T235651Z
UID:10003371-1759654800-1759662000@uuspokane.org
SUMMARY:Sunday Service - Special Service with NAUA
DESCRIPTION:
URL:https://uuspokane.org/event/sunday-service-special-service-with-naua/
LOCATION:Sanctuary
CATEGORIES:Worship Service
END:VEVENT
BEGIN:VEVENT
DTSTART;TZID=America/Los_Angeles:20251004T160000
DTEND;TZID=America/Los_Angeles:20251004T213000
DTSTAMP:20260424T035211
CREATED:20250925T165921Z
LAST-MODIFIED:20250925T165921Z
UID:10002318-1759593600-1759613400@uuspokane.org
SUMMARY:INWBMA Meeting
DESCRIPTION:
URL:https://uuspokane.org/event/inwbma-meeting/2025-10-04/
LOCATION:Sanctuary
CATEGORIES:Meeting
END:VEVENT
BEGIN:VEVENT
DTSTART;TZID=America/Los_Angeles:20250930T180000
DTEND;TZID=America/Los_Angeles:20250930T193000
DTSTAMP:20260424T035211
CREATED:20250925T192009Z
LAST-MODIFIED:20250925T192009Z
UID:10002930-1759255200-1759260600@uuspokane.org
SUMMARY:Choir Rehearsal
DESCRIPTION:
URL:https://uuspokane.org/event/choir-rehearsal/
LOCATION:Sanctuary
CATEGORIES:Choir Rehearsal
END:VEVENT
BEGIN:VEVENT
DTSTART;TZID=America/Los_Angeles:20250928T110000
DTEND;TZID=America/Los_Angeles:20250928T120000
DTSTAMP:20260424T035211
CREATED:20250924T193853Z
LAST-MODIFIED:20250925T235352Z
UID:10001028-1759057200-1759060800@uuspokane.org
SUMMARY:Sunday Worship
DESCRIPTION:Live Stream Available
URL:https://uuspokane.org/event/sunday-worship-2/2025-09-28/
LOCATION:Sanctuary
CATEGORIES:Worship Service
END:VEVENT
BEGIN:VEVENT
DTSTART;TZID=America/Los_Angeles:20250928T091500
DTEND;TZID=America/Los_Angeles:20250928T101500
DTSTAMP:20260424T035211
CREATED:20250924T193716Z
LAST-MODIFIED:20250925T235209Z
UID:10000767-1759050900-1759054500@uuspokane.org
SUMMARY:Sunday Worship
DESCRIPTION:Live Stream Available
URL:https://uuspokane.org/event/sunday-worship/2025-09-28/
LOCATION:Sanctuary
CATEGORIES:Worship Service
END:VEVENT
BEGIN:VEVENT
DTSTART;TZID=America/Los_Angeles:20250924T150000
DTEND;TZID=America/Los_Angeles:20250924T170000
DTSTAMP:20260424T035211
CREATED:20250924T191808Z
LAST-MODIFIED:20250924T191808Z
UID:10000324-1758726000-1758733200@uuspokane.org
SUMMARY:Social Housing PDA Meeting
DESCRIPTION:Sanctuary\nFriendship Hall
URL:https://uuspokane.org/event/social-housing-pda-meeting/
LOCATION:Sanctuary
CATEGORIES:Meeting
END:VEVENT
END:VCALENDAR