BEGIN:VCALENDAR
VERSION:2.0
PRODID:-//Unitarian Universalist Church of Spokane - ECPv6.15.20//NONSGML v1.0//EN
CALSCALE:GREGORIAN
METHOD:PUBLISH
X-ORIGINAL-URL:https://uuspokane.org
X-WR-CALDESC:Events for Unitarian Universalist Church of Spokane
REFRESH-INTERVAL;VALUE=DURATION:PT1H
X-Robots-Tag:noindex
X-PUBLISHED-TTL:PT1H
BEGIN:VTIMEZONE
TZID:America/Los_Angeles
BEGIN:DAYLIGHT
TZOFFSETFROM:-0800
TZOFFSETTO:-0700
TZNAME:PDT
DTSTART:20270314T100000
END:DAYLIGHT
BEGIN:STANDARD
TZOFFSETFROM:-0700
TZOFFSETTO:-0800
TZNAME:PST
DTSTART:20271107T090000
END:STANDARD
BEGIN:DAYLIGHT
TZOFFSETFROM:-0800
TZOFFSETTO:-0700
TZNAME:PDT
DTSTART:20280312T100000
END:DAYLIGHT
BEGIN:STANDARD
TZOFFSETFROM:-0700
TZOFFSETTO:-0800
TZNAME:PST
DTSTART:20281105T090000
END:STANDARD
BEGIN:DAYLIGHT
TZOFFSETFROM:-0800
TZOFFSETTO:-0700
TZNAME:PDT
DTSTART:20290311T100000
END:DAYLIGHT
BEGIN:STANDARD
TZOFFSETFROM:-0700
TZOFFSETTO:-0800
TZNAME:PST
DTSTART:20291104T090000
END:STANDARD
BEGIN:DAYLIGHT
TZOFFSETFROM:-0800
TZOFFSETTO:-0700
TZNAME:PDT
DTSTART:20300310T100000
END:DAYLIGHT
BEGIN:STANDARD
TZOFFSETFROM:-0700
TZOFFSETTO:-0800
TZNAME:PST
DTSTART:20301103T090000
END:STANDARD
END:VTIMEZONE
BEGIN:VEVENT
DTSTART;TZID=America/Los_Angeles:20281022T110000
DTEND;TZID=America/Los_Angeles:20281022T120000
DTSTAMP:20260425T064548
CREATED:20250924T193853Z
LAST-MODIFIED:20250925T235352Z
UID:10001188-1855825200-1855828800@uuspokane.org
SUMMARY:Sunday Worship
DESCRIPTION:Live Stream Available
URL:https://uuspokane.org/event/sunday-worship-2/2028-10-22/
LOCATION:Sanctuary
CATEGORIES:Worship Service
END:VEVENT
BEGIN:VEVENT
DTSTART;TZID=America/Los_Angeles:20281029T091500
DTEND;TZID=America/Los_Angeles:20281029T101500
DTSTAMP:20260425T064548
CREATED:20250924T193716Z
LAST-MODIFIED:20250925T235209Z
UID:10000928-1856423700-1856427300@uuspokane.org
SUMMARY:Sunday Worship
DESCRIPTION:Live Stream Available
URL:https://uuspokane.org/event/sunday-worship/2028-10-29/
LOCATION:Sanctuary
CATEGORIES:Worship Service
END:VEVENT
BEGIN:VEVENT
DTSTART;TZID=America/Los_Angeles:20281029T110000
DTEND;TZID=America/Los_Angeles:20281029T120000
DTSTAMP:20260425T064548
CREATED:20250924T193853Z
LAST-MODIFIED:20250925T235352Z
UID:10001189-1856430000-1856433600@uuspokane.org
SUMMARY:Sunday Worship
DESCRIPTION:Live Stream Available
URL:https://uuspokane.org/event/sunday-worship-2/2028-10-29/
LOCATION:Sanctuary
CATEGORIES:Worship Service
END:VEVENT
BEGIN:VEVENT
DTSTART;TZID=America/Los_Angeles:20281105T091500
DTEND;TZID=America/Los_Angeles:20281105T101500
DTSTAMP:20260425T064548
CREATED:20250924T193716Z
LAST-MODIFIED:20250925T235209Z
UID:10000929-1857028500-1857032100@uuspokane.org
SUMMARY:Sunday Worship
DESCRIPTION:Live Stream Available
URL:https://uuspokane.org/event/sunday-worship/2028-11-05/
LOCATION:Sanctuary
CATEGORIES:Worship Service
END:VEVENT
BEGIN:VEVENT
DTSTART;TZID=America/Los_Angeles:20281105T110000
DTEND;TZID=America/Los_Angeles:20281105T120000
DTSTAMP:20260425T064548
CREATED:20250924T193853Z
LAST-MODIFIED:20250925T235352Z
UID:10001190-1857034800-1857038400@uuspokane.org
SUMMARY:Sunday Worship
DESCRIPTION:Live Stream Available
URL:https://uuspokane.org/event/sunday-worship-2/2028-11-05/
LOCATION:Sanctuary
CATEGORIES:Worship Service
END:VEVENT
BEGIN:VEVENT
DTSTART;TZID=America/Los_Angeles:20281112T091500
DTEND;TZID=America/Los_Angeles:20281112T101500
DTSTAMP:20260425T064548
CREATED:20250924T193716Z
LAST-MODIFIED:20250925T235209Z
UID:10000930-1857633300-1857636900@uuspokane.org
SUMMARY:Sunday Worship
DESCRIPTION:Live Stream Available
URL:https://uuspokane.org/event/sunday-worship/2028-11-12/
LOCATION:Sanctuary
CATEGORIES:Worship Service
END:VEVENT
BEGIN:VEVENT
DTSTART;TZID=America/Los_Angeles:20281112T110000
DTEND;TZID=America/Los_Angeles:20281112T120000
DTSTAMP:20260425T064548
CREATED:20250924T193853Z
LAST-MODIFIED:20250925T235352Z
UID:10001191-1857639600-1857643200@uuspokane.org
SUMMARY:Sunday Worship
DESCRIPTION:Live Stream Available
URL:https://uuspokane.org/event/sunday-worship-2/2028-11-12/
LOCATION:Sanctuary
CATEGORIES:Worship Service
END:VEVENT
BEGIN:VEVENT
DTSTART;TZID=America/Los_Angeles:20281119T091500
DTEND;TZID=America/Los_Angeles:20281119T101500
DTSTAMP:20260425T064548
CREATED:20250924T193716Z
LAST-MODIFIED:20250925T235209Z
UID:10000931-1858238100-1858241700@uuspokane.org
SUMMARY:Sunday Worship
DESCRIPTION:Live Stream Available
URL:https://uuspokane.org/event/sunday-worship/2028-11-19/
LOCATION:Sanctuary
CATEGORIES:Worship Service
END:VEVENT
BEGIN:VEVENT
DTSTART;TZID=America/Los_Angeles:20281119T110000
DTEND;TZID=America/Los_Angeles:20281119T120000
DTSTAMP:20260425T064548
CREATED:20250924T193853Z
LAST-MODIFIED:20250925T235352Z
UID:10001192-1858244400-1858248000@uuspokane.org
SUMMARY:Sunday Worship
DESCRIPTION:Live Stream Available
URL:https://uuspokane.org/event/sunday-worship-2/2028-11-19/
LOCATION:Sanctuary
CATEGORIES:Worship Service
END:VEVENT
BEGIN:VEVENT
DTSTART;TZID=America/Los_Angeles:20281126T091500
DTEND;TZID=America/Los_Angeles:20281126T101500
DTSTAMP:20260425T064548
CREATED:20250924T193716Z
LAST-MODIFIED:20250925T235209Z
UID:10000932-1858842900-1858846500@uuspokane.org
SUMMARY:Sunday Worship
DESCRIPTION:Live Stream Available
URL:https://uuspokane.org/event/sunday-worship/2028-11-26/
LOCATION:Sanctuary
CATEGORIES:Worship Service
END:VEVENT
BEGIN:VEVENT
DTSTART;TZID=America/Los_Angeles:20281126T110000
DTEND;TZID=America/Los_Angeles:20281126T120000
DTSTAMP:20260425T064548
CREATED:20250924T193853Z
LAST-MODIFIED:20250925T235352Z
UID:10001193-1858849200-1858852800@uuspokane.org
SUMMARY:Sunday Worship
DESCRIPTION:Live Stream Available
URL:https://uuspokane.org/event/sunday-worship-2/2028-11-26/
LOCATION:Sanctuary
CATEGORIES:Worship Service
END:VEVENT
BEGIN:VEVENT
DTSTART;TZID=America/Los_Angeles:20281203T091500
DTEND;TZID=America/Los_Angeles:20281203T101500
DTSTAMP:20260425T064548
CREATED:20250924T193716Z
LAST-MODIFIED:20250925T235209Z
UID:10000933-1859447700-1859451300@uuspokane.org
SUMMARY:Sunday Worship
DESCRIPTION:Live Stream Available
URL:https://uuspokane.org/event/sunday-worship/2028-12-03/
LOCATION:Sanctuary
CATEGORIES:Worship Service
END:VEVENT
BEGIN:VEVENT
DTSTART;TZID=America/Los_Angeles:20281203T110000
DTEND;TZID=America/Los_Angeles:20281203T120000
DTSTAMP:20260425T064548
CREATED:20250924T193853Z
LAST-MODIFIED:20250925T235352Z
UID:10001194-1859454000-1859457600@uuspokane.org
SUMMARY:Sunday Worship
DESCRIPTION:Live Stream Available
URL:https://uuspokane.org/event/sunday-worship-2/2028-12-03/
LOCATION:Sanctuary
CATEGORIES:Worship Service
END:VEVENT
BEGIN:VEVENT
DTSTART;TZID=America/Los_Angeles:20281210T091500
DTEND;TZID=America/Los_Angeles:20281210T101500
DTSTAMP:20260425T064548
CREATED:20250924T193716Z
LAST-MODIFIED:20250925T235209Z
UID:10000934-1860052500-1860056100@uuspokane.org
SUMMARY:Sunday Worship
DESCRIPTION:Live Stream Available
URL:https://uuspokane.org/event/sunday-worship/2028-12-10/
LOCATION:Sanctuary
CATEGORIES:Worship Service
END:VEVENT
BEGIN:VEVENT
DTSTART;TZID=America/Los_Angeles:20281210T110000
DTEND;TZID=America/Los_Angeles:20281210T120000
DTSTAMP:20260425T064548
CREATED:20250924T193853Z
LAST-MODIFIED:20250925T235352Z
UID:10001195-1860058800-1860062400@uuspokane.org
SUMMARY:Sunday Worship
DESCRIPTION:Live Stream Available
URL:https://uuspokane.org/event/sunday-worship-2/2028-12-10/
LOCATION:Sanctuary
CATEGORIES:Worship Service
END:VEVENT
BEGIN:VEVENT
DTSTART;TZID=America/Los_Angeles:20281217T091500
DTEND;TZID=America/Los_Angeles:20281217T101500
DTSTAMP:20260425T064548
CREATED:20250924T193716Z
LAST-MODIFIED:20250925T235209Z
UID:10000935-1860657300-1860660900@uuspokane.org
SUMMARY:Sunday Worship
DESCRIPTION:Live Stream Available
URL:https://uuspokane.org/event/sunday-worship/2028-12-17/
LOCATION:Sanctuary
CATEGORIES:Worship Service
END:VEVENT
BEGIN:VEVENT
DTSTART;TZID=America/Los_Angeles:20281217T110000
DTEND;TZID=America/Los_Angeles:20281217T120000
DTSTAMP:20260425T064548
CREATED:20250924T193853Z
LAST-MODIFIED:20250925T235352Z
UID:10001196-1860663600-1860667200@uuspokane.org
SUMMARY:Sunday Worship
DESCRIPTION:Live Stream Available
URL:https://uuspokane.org/event/sunday-worship-2/2028-12-17/
LOCATION:Sanctuary
CATEGORIES:Worship Service
END:VEVENT
BEGIN:VEVENT
DTSTART;TZID=America/Los_Angeles:20281224T091500
DTEND;TZID=America/Los_Angeles:20281224T101500
DTSTAMP:20260425T064548
CREATED:20250924T193716Z
LAST-MODIFIED:20250925T235209Z
UID:10000936-1861262100-1861265700@uuspokane.org
SUMMARY:Sunday Worship
DESCRIPTION:Live Stream Available
URL:https://uuspokane.org/event/sunday-worship/2028-12-24/
LOCATION:Sanctuary
CATEGORIES:Worship Service
END:VEVENT
BEGIN:VEVENT
DTSTART;TZID=America/Los_Angeles:20281224T110000
DTEND;TZID=America/Los_Angeles:20281224T120000
DTSTAMP:20260425T064548
CREATED:20250924T193853Z
LAST-MODIFIED:20250925T235352Z
UID:10001197-1861268400-1861272000@uuspokane.org
SUMMARY:Sunday Worship
DESCRIPTION:Live Stream Available
URL:https://uuspokane.org/event/sunday-worship-2/2028-12-24/
LOCATION:Sanctuary
CATEGORIES:Worship Service
END:VEVENT
BEGIN:VEVENT
DTSTART;TZID=America/Los_Angeles:20281231T091500
DTEND;TZID=America/Los_Angeles:20281231T101500
DTSTAMP:20260425T064548
CREATED:20250924T193716Z
LAST-MODIFIED:20250925T235209Z
UID:10000937-1861866900-1861870500@uuspokane.org
SUMMARY:Sunday Worship
DESCRIPTION:Live Stream Available
URL:https://uuspokane.org/event/sunday-worship/2028-12-31/
LOCATION:Sanctuary
CATEGORIES:Worship Service
END:VEVENT
BEGIN:VEVENT
DTSTART;TZID=America/Los_Angeles:20281231T110000
DTEND;TZID=America/Los_Angeles:20281231T120000
DTSTAMP:20260425T064548
CREATED:20250924T193853Z
LAST-MODIFIED:20250925T235352Z
UID:10001198-1861873200-1861876800@uuspokane.org
SUMMARY:Sunday Worship
DESCRIPTION:Live Stream Available
URL:https://uuspokane.org/event/sunday-worship-2/2028-12-31/
LOCATION:Sanctuary
CATEGORIES:Worship Service
END:VEVENT
BEGIN:VEVENT
DTSTART;TZID=America/Los_Angeles:20290107T091500
DTEND;TZID=America/Los_Angeles:20290107T101500
DTSTAMP:20260425T064548
CREATED:20250924T193716Z
LAST-MODIFIED:20250925T235209Z
UID:10000938-1862471700-1862475300@uuspokane.org
SUMMARY:Sunday Worship
DESCRIPTION:Live Stream Available
URL:https://uuspokane.org/event/sunday-worship/2029-01-07/
LOCATION:Sanctuary
CATEGORIES:Worship Service
END:VEVENT
BEGIN:VEVENT
DTSTART;TZID=America/Los_Angeles:20290107T110000
DTEND;TZID=America/Los_Angeles:20290107T120000
DTSTAMP:20260425T064548
CREATED:20250924T193853Z
LAST-MODIFIED:20250925T235352Z
UID:10001199-1862478000-1862481600@uuspokane.org
SUMMARY:Sunday Worship
DESCRIPTION:Live Stream Available
URL:https://uuspokane.org/event/sunday-worship-2/2029-01-07/
LOCATION:Sanctuary
CATEGORIES:Worship Service
END:VEVENT
BEGIN:VEVENT
DTSTART;TZID=America/Los_Angeles:20290114T091500
DTEND;TZID=America/Los_Angeles:20290114T101500
DTSTAMP:20260425T064548
CREATED:20250924T193716Z
LAST-MODIFIED:20250925T235209Z
UID:10000939-1863076500-1863080100@uuspokane.org
SUMMARY:Sunday Worship
DESCRIPTION:Live Stream Available
URL:https://uuspokane.org/event/sunday-worship/2029-01-14/
LOCATION:Sanctuary
CATEGORIES:Worship Service
END:VEVENT
BEGIN:VEVENT
DTSTART;TZID=America/Los_Angeles:20290114T110000
DTEND;TZID=America/Los_Angeles:20290114T120000
DTSTAMP:20260425T064548
CREATED:20250924T193853Z
LAST-MODIFIED:20250925T235352Z
UID:10001200-1863082800-1863086400@uuspokane.org
SUMMARY:Sunday Worship
DESCRIPTION:Live Stream Available
URL:https://uuspokane.org/event/sunday-worship-2/2029-01-14/
LOCATION:Sanctuary
CATEGORIES:Worship Service
END:VEVENT
BEGIN:VEVENT
DTSTART;TZID=America/Los_Angeles:20290121T091500
DTEND;TZID=America/Los_Angeles:20290121T101500
DTSTAMP:20260425T064548
CREATED:20250924T193716Z
LAST-MODIFIED:20250925T235209Z
UID:10000940-1863681300-1863684900@uuspokane.org
SUMMARY:Sunday Worship
DESCRIPTION:Live Stream Available
URL:https://uuspokane.org/event/sunday-worship/2029-01-21/
LOCATION:Sanctuary
CATEGORIES:Worship Service
END:VEVENT
BEGIN:VEVENT
DTSTART;TZID=America/Los_Angeles:20290121T110000
DTEND;TZID=America/Los_Angeles:20290121T120000
DTSTAMP:20260425T064548
CREATED:20250924T193853Z
LAST-MODIFIED:20250925T235352Z
UID:10001201-1863687600-1863691200@uuspokane.org
SUMMARY:Sunday Worship
DESCRIPTION:Live Stream Available
URL:https://uuspokane.org/event/sunday-worship-2/2029-01-21/
LOCATION:Sanctuary
CATEGORIES:Worship Service
END:VEVENT
BEGIN:VEVENT
DTSTART;TZID=America/Los_Angeles:20290128T091500
DTEND;TZID=America/Los_Angeles:20290128T101500
DTSTAMP:20260425T064548
CREATED:20250924T193716Z
LAST-MODIFIED:20250925T235209Z
UID:10000941-1864286100-1864289700@uuspokane.org
SUMMARY:Sunday Worship
DESCRIPTION:Live Stream Available
URL:https://uuspokane.org/event/sunday-worship/2029-01-28/
LOCATION:Sanctuary
CATEGORIES:Worship Service
END:VEVENT
BEGIN:VEVENT
DTSTART;TZID=America/Los_Angeles:20290128T110000
DTEND;TZID=America/Los_Angeles:20290128T120000
DTSTAMP:20260425T064548
CREATED:20250924T193853Z
LAST-MODIFIED:20250925T235352Z
UID:10001202-1864292400-1864296000@uuspokane.org
SUMMARY:Sunday Worship
DESCRIPTION:Live Stream Available
URL:https://uuspokane.org/event/sunday-worship-2/2029-01-28/
LOCATION:Sanctuary
CATEGORIES:Worship Service
END:VEVENT
BEGIN:VEVENT
DTSTART;TZID=America/Los_Angeles:20290204T091500
DTEND;TZID=America/Los_Angeles:20290204T101500
DTSTAMP:20260425T064548
CREATED:20250924T193716Z
LAST-MODIFIED:20250925T235209Z
UID:10000942-1864890900-1864894500@uuspokane.org
SUMMARY:Sunday Worship
DESCRIPTION:Live Stream Available
URL:https://uuspokane.org/event/sunday-worship/2029-02-04/
LOCATION:Sanctuary
CATEGORIES:Worship Service
END:VEVENT
END:VCALENDAR