BEGIN:VCALENDAR
VERSION:2.0
PRODID:-//Unitarian Universalist Church of Spokane - ECPv6.15.20//NONSGML v1.0//EN
CALSCALE:GREGORIAN
METHOD:PUBLISH
X-ORIGINAL-URL:https://uuspokane.org
X-WR-CALDESC:Events for Unitarian Universalist Church of Spokane
REFRESH-INTERVAL;VALUE=DURATION:PT1H
X-Robots-Tag:noindex
X-PUBLISHED-TTL:PT1H
BEGIN:VTIMEZONE
TZID:America/Los_Angeles
BEGIN:DAYLIGHT
TZOFFSETFROM:-0800
TZOFFSETTO:-0700
TZNAME:PDT
DTSTART:20280312T100000
END:DAYLIGHT
BEGIN:STANDARD
TZOFFSETFROM:-0700
TZOFFSETTO:-0800
TZNAME:PST
DTSTART:20281105T090000
END:STANDARD
BEGIN:DAYLIGHT
TZOFFSETFROM:-0800
TZOFFSETTO:-0700
TZNAME:PDT
DTSTART:20290311T100000
END:DAYLIGHT
BEGIN:STANDARD
TZOFFSETFROM:-0700
TZOFFSETTO:-0800
TZNAME:PST
DTSTART:20291104T090000
END:STANDARD
BEGIN:DAYLIGHT
TZOFFSETFROM:-0800
TZOFFSETTO:-0700
TZNAME:PDT
DTSTART:20300310T100000
END:DAYLIGHT
BEGIN:STANDARD
TZOFFSETFROM:-0700
TZOFFSETTO:-0800
TZNAME:PST
DTSTART:20301103T090000
END:STANDARD
END:VTIMEZONE
BEGIN:VEVENT
DTSTART;TZID=America/Los_Angeles:20290311T110000
DTEND;TZID=America/Los_Angeles:20290311T120000
DTSTAMP:20260425T161700
CREATED:20250924T193853Z
LAST-MODIFIED:20250925T235352Z
UID:10001208-1867921200-1867924800@uuspokane.org
SUMMARY:Sunday Worship
DESCRIPTION:Live Stream Available
URL:https://uuspokane.org/event/sunday-worship-2/2029-03-11/
LOCATION:Sanctuary
CATEGORIES:Worship Service
END:VEVENT
BEGIN:VEVENT
DTSTART;TZID=America/Los_Angeles:20290318T091500
DTEND;TZID=America/Los_Angeles:20290318T101500
DTSTAMP:20260425T161700
CREATED:20250924T193716Z
LAST-MODIFIED:20250925T235209Z
UID:10000948-1868519700-1868523300@uuspokane.org
SUMMARY:Sunday Worship
DESCRIPTION:Live Stream Available
URL:https://uuspokane.org/event/sunday-worship/2029-03-18/
LOCATION:Sanctuary
CATEGORIES:Worship Service
END:VEVENT
BEGIN:VEVENT
DTSTART;TZID=America/Los_Angeles:20290318T110000
DTEND;TZID=America/Los_Angeles:20290318T120000
DTSTAMP:20260425T161700
CREATED:20250924T193853Z
LAST-MODIFIED:20250925T235352Z
UID:10001209-1868526000-1868529600@uuspokane.org
SUMMARY:Sunday Worship
DESCRIPTION:Live Stream Available
URL:https://uuspokane.org/event/sunday-worship-2/2029-03-18/
LOCATION:Sanctuary
CATEGORIES:Worship Service
END:VEVENT
BEGIN:VEVENT
DTSTART;TZID=America/Los_Angeles:20290325T091500
DTEND;TZID=America/Los_Angeles:20290325T101500
DTSTAMP:20260425T161700
CREATED:20250924T193716Z
LAST-MODIFIED:20250925T235209Z
UID:10000949-1869124500-1869128100@uuspokane.org
SUMMARY:Sunday Worship
DESCRIPTION:Live Stream Available
URL:https://uuspokane.org/event/sunday-worship/2029-03-25/
LOCATION:Sanctuary
CATEGORIES:Worship Service
END:VEVENT
BEGIN:VEVENT
DTSTART;TZID=America/Los_Angeles:20290325T110000
DTEND;TZID=America/Los_Angeles:20290325T120000
DTSTAMP:20260425T161700
CREATED:20250924T193853Z
LAST-MODIFIED:20250925T235352Z
UID:10001210-1869130800-1869134400@uuspokane.org
SUMMARY:Sunday Worship
DESCRIPTION:Live Stream Available
URL:https://uuspokane.org/event/sunday-worship-2/2029-03-25/
LOCATION:Sanctuary
CATEGORIES:Worship Service
END:VEVENT
BEGIN:VEVENT
DTSTART;TZID=America/Los_Angeles:20290401T091500
DTEND;TZID=America/Los_Angeles:20290401T101500
DTSTAMP:20260425T161700
CREATED:20250924T193716Z
LAST-MODIFIED:20250925T235209Z
UID:10000950-1869729300-1869732900@uuspokane.org
SUMMARY:Sunday Worship
DESCRIPTION:Live Stream Available
URL:https://uuspokane.org/event/sunday-worship/2029-04-01/
LOCATION:Sanctuary
CATEGORIES:Worship Service
END:VEVENT
BEGIN:VEVENT
DTSTART;TZID=America/Los_Angeles:20290401T110000
DTEND;TZID=America/Los_Angeles:20290401T120000
DTSTAMP:20260425T161700
CREATED:20250924T193853Z
LAST-MODIFIED:20250925T235352Z
UID:10001211-1869735600-1869739200@uuspokane.org
SUMMARY:Sunday Worship
DESCRIPTION:Live Stream Available
URL:https://uuspokane.org/event/sunday-worship-2/2029-04-01/
LOCATION:Sanctuary
CATEGORIES:Worship Service
END:VEVENT
BEGIN:VEVENT
DTSTART;TZID=America/Los_Angeles:20290408T091500
DTEND;TZID=America/Los_Angeles:20290408T101500
DTSTAMP:20260425T161700
CREATED:20250924T193716Z
LAST-MODIFIED:20250925T235209Z
UID:10000951-1870334100-1870337700@uuspokane.org
SUMMARY:Sunday Worship
DESCRIPTION:Live Stream Available
URL:https://uuspokane.org/event/sunday-worship/2029-04-08/
LOCATION:Sanctuary
CATEGORIES:Worship Service
END:VEVENT
BEGIN:VEVENT
DTSTART;TZID=America/Los_Angeles:20290408T110000
DTEND;TZID=America/Los_Angeles:20290408T120000
DTSTAMP:20260425T161700
CREATED:20250924T193853Z
LAST-MODIFIED:20250925T235352Z
UID:10001212-1870340400-1870344000@uuspokane.org
SUMMARY:Sunday Worship
DESCRIPTION:Live Stream Available
URL:https://uuspokane.org/event/sunday-worship-2/2029-04-08/
LOCATION:Sanctuary
CATEGORIES:Worship Service
END:VEVENT
BEGIN:VEVENT
DTSTART;TZID=America/Los_Angeles:20290415T091500
DTEND;TZID=America/Los_Angeles:20290415T101500
DTSTAMP:20260425T161700
CREATED:20250924T193716Z
LAST-MODIFIED:20250925T235209Z
UID:10000952-1870938900-1870942500@uuspokane.org
SUMMARY:Sunday Worship
DESCRIPTION:Live Stream Available
URL:https://uuspokane.org/event/sunday-worship/2029-04-15/
LOCATION:Sanctuary
CATEGORIES:Worship Service
END:VEVENT
BEGIN:VEVENT
DTSTART;TZID=America/Los_Angeles:20290415T110000
DTEND;TZID=America/Los_Angeles:20290415T120000
DTSTAMP:20260425T161700
CREATED:20250924T193853Z
LAST-MODIFIED:20250925T235352Z
UID:10001213-1870945200-1870948800@uuspokane.org
SUMMARY:Sunday Worship
DESCRIPTION:Live Stream Available
URL:https://uuspokane.org/event/sunday-worship-2/2029-04-15/
LOCATION:Sanctuary
CATEGORIES:Worship Service
END:VEVENT
BEGIN:VEVENT
DTSTART;TZID=America/Los_Angeles:20290422T091500
DTEND;TZID=America/Los_Angeles:20290422T101500
DTSTAMP:20260425T161700
CREATED:20250924T193716Z
LAST-MODIFIED:20250925T235209Z
UID:10000953-1871543700-1871547300@uuspokane.org
SUMMARY:Sunday Worship
DESCRIPTION:Live Stream Available
URL:https://uuspokane.org/event/sunday-worship/2029-04-22/
LOCATION:Sanctuary
CATEGORIES:Worship Service
END:VEVENT
BEGIN:VEVENT
DTSTART;TZID=America/Los_Angeles:20290422T110000
DTEND;TZID=America/Los_Angeles:20290422T120000
DTSTAMP:20260425T161700
CREATED:20250924T193853Z
LAST-MODIFIED:20250925T235352Z
UID:10001214-1871550000-1871553600@uuspokane.org
SUMMARY:Sunday Worship
DESCRIPTION:Live Stream Available
URL:https://uuspokane.org/event/sunday-worship-2/2029-04-22/
LOCATION:Sanctuary
CATEGORIES:Worship Service
END:VEVENT
BEGIN:VEVENT
DTSTART;TZID=America/Los_Angeles:20290429T091500
DTEND;TZID=America/Los_Angeles:20290429T101500
DTSTAMP:20260425T161700
CREATED:20250924T193716Z
LAST-MODIFIED:20250925T235209Z
UID:10000954-1872148500-1872152100@uuspokane.org
SUMMARY:Sunday Worship
DESCRIPTION:Live Stream Available
URL:https://uuspokane.org/event/sunday-worship/2029-04-29/
LOCATION:Sanctuary
CATEGORIES:Worship Service
END:VEVENT
BEGIN:VEVENT
DTSTART;TZID=America/Los_Angeles:20290429T110000
DTEND;TZID=America/Los_Angeles:20290429T120000
DTSTAMP:20260425T161700
CREATED:20250924T193853Z
LAST-MODIFIED:20250925T235352Z
UID:10001215-1872154800-1872158400@uuspokane.org
SUMMARY:Sunday Worship
DESCRIPTION:Live Stream Available
URL:https://uuspokane.org/event/sunday-worship-2/2029-04-29/
LOCATION:Sanctuary
CATEGORIES:Worship Service
END:VEVENT
BEGIN:VEVENT
DTSTART;TZID=America/Los_Angeles:20290506T091500
DTEND;TZID=America/Los_Angeles:20290506T101500
DTSTAMP:20260425T161700
CREATED:20250924T193716Z
LAST-MODIFIED:20250925T235209Z
UID:10000955-1872753300-1872756900@uuspokane.org
SUMMARY:Sunday Worship
DESCRIPTION:Live Stream Available
URL:https://uuspokane.org/event/sunday-worship/2029-05-06/
LOCATION:Sanctuary
CATEGORIES:Worship Service
END:VEVENT
BEGIN:VEVENT
DTSTART;TZID=America/Los_Angeles:20290506T110000
DTEND;TZID=America/Los_Angeles:20290506T120000
DTSTAMP:20260425T161700
CREATED:20250924T193853Z
LAST-MODIFIED:20250925T235352Z
UID:10001216-1872759600-1872763200@uuspokane.org
SUMMARY:Sunday Worship
DESCRIPTION:Live Stream Available
URL:https://uuspokane.org/event/sunday-worship-2/2029-05-06/
LOCATION:Sanctuary
CATEGORIES:Worship Service
END:VEVENT
BEGIN:VEVENT
DTSTART;TZID=America/Los_Angeles:20290513T091500
DTEND;TZID=America/Los_Angeles:20290513T101500
DTSTAMP:20260425T161700
CREATED:20250924T193716Z
LAST-MODIFIED:20250925T235209Z
UID:10000956-1873358100-1873361700@uuspokane.org
SUMMARY:Sunday Worship
DESCRIPTION:Live Stream Available
URL:https://uuspokane.org/event/sunday-worship/2029-05-13/
LOCATION:Sanctuary
CATEGORIES:Worship Service
END:VEVENT
BEGIN:VEVENT
DTSTART;TZID=America/Los_Angeles:20290513T110000
DTEND;TZID=America/Los_Angeles:20290513T120000
DTSTAMP:20260425T161700
CREATED:20250924T193853Z
LAST-MODIFIED:20250925T235352Z
UID:10001217-1873364400-1873368000@uuspokane.org
SUMMARY:Sunday Worship
DESCRIPTION:Live Stream Available
URL:https://uuspokane.org/event/sunday-worship-2/2029-05-13/
LOCATION:Sanctuary
CATEGORIES:Worship Service
END:VEVENT
BEGIN:VEVENT
DTSTART;TZID=America/Los_Angeles:20290520T091500
DTEND;TZID=America/Los_Angeles:20290520T101500
DTSTAMP:20260425T161700
CREATED:20250924T193716Z
LAST-MODIFIED:20250925T235209Z
UID:10000957-1873962900-1873966500@uuspokane.org
SUMMARY:Sunday Worship
DESCRIPTION:Live Stream Available
URL:https://uuspokane.org/event/sunday-worship/2029-05-20/
LOCATION:Sanctuary
CATEGORIES:Worship Service
END:VEVENT
BEGIN:VEVENT
DTSTART;TZID=America/Los_Angeles:20290520T110000
DTEND;TZID=America/Los_Angeles:20290520T120000
DTSTAMP:20260425T161700
CREATED:20250924T193853Z
LAST-MODIFIED:20250925T235352Z
UID:10001218-1873969200-1873972800@uuspokane.org
SUMMARY:Sunday Worship
DESCRIPTION:Live Stream Available
URL:https://uuspokane.org/event/sunday-worship-2/2029-05-20/
LOCATION:Sanctuary
CATEGORIES:Worship Service
END:VEVENT
BEGIN:VEVENT
DTSTART;TZID=America/Los_Angeles:20290527T091500
DTEND;TZID=America/Los_Angeles:20290527T101500
DTSTAMP:20260425T161700
CREATED:20250924T193716Z
LAST-MODIFIED:20250925T235209Z
UID:10000958-1874567700-1874571300@uuspokane.org
SUMMARY:Sunday Worship
DESCRIPTION:Live Stream Available
URL:https://uuspokane.org/event/sunday-worship/2029-05-27/
LOCATION:Sanctuary
CATEGORIES:Worship Service
END:VEVENT
BEGIN:VEVENT
DTSTART;TZID=America/Los_Angeles:20290527T110000
DTEND;TZID=America/Los_Angeles:20290527T120000
DTSTAMP:20260425T161700
CREATED:20250924T193853Z
LAST-MODIFIED:20250925T235352Z
UID:10001219-1874574000-1874577600@uuspokane.org
SUMMARY:Sunday Worship
DESCRIPTION:Live Stream Available
URL:https://uuspokane.org/event/sunday-worship-2/2029-05-27/
LOCATION:Sanctuary
CATEGORIES:Worship Service
END:VEVENT
BEGIN:VEVENT
DTSTART;TZID=America/Los_Angeles:20290603T091500
DTEND;TZID=America/Los_Angeles:20290603T101500
DTSTAMP:20260425T161700
CREATED:20250924T193716Z
LAST-MODIFIED:20250925T235209Z
UID:10000959-1875172500-1875176100@uuspokane.org
SUMMARY:Sunday Worship
DESCRIPTION:Live Stream Available
URL:https://uuspokane.org/event/sunday-worship/2029-06-03/
LOCATION:Sanctuary
CATEGORIES:Worship Service
END:VEVENT
BEGIN:VEVENT
DTSTART;TZID=America/Los_Angeles:20290603T110000
DTEND;TZID=America/Los_Angeles:20290603T120000
DTSTAMP:20260425T161700
CREATED:20250924T193853Z
LAST-MODIFIED:20250925T235352Z
UID:10001220-1875178800-1875182400@uuspokane.org
SUMMARY:Sunday Worship
DESCRIPTION:Live Stream Available
URL:https://uuspokane.org/event/sunday-worship-2/2029-06-03/
LOCATION:Sanctuary
CATEGORIES:Worship Service
END:VEVENT
BEGIN:VEVENT
DTSTART;TZID=America/Los_Angeles:20290610T091500
DTEND;TZID=America/Los_Angeles:20290610T101500
DTSTAMP:20260425T161700
CREATED:20250924T193716Z
LAST-MODIFIED:20250925T235209Z
UID:10000960-1875777300-1875780900@uuspokane.org
SUMMARY:Sunday Worship
DESCRIPTION:Live Stream Available
URL:https://uuspokane.org/event/sunday-worship/2029-06-10/
LOCATION:Sanctuary
CATEGORIES:Worship Service
END:VEVENT
BEGIN:VEVENT
DTSTART;TZID=America/Los_Angeles:20290610T110000
DTEND;TZID=America/Los_Angeles:20290610T120000
DTSTAMP:20260425T161700
CREATED:20250924T193853Z
LAST-MODIFIED:20250925T235352Z
UID:10001221-1875783600-1875787200@uuspokane.org
SUMMARY:Sunday Worship
DESCRIPTION:Live Stream Available
URL:https://uuspokane.org/event/sunday-worship-2/2029-06-10/
LOCATION:Sanctuary
CATEGORIES:Worship Service
END:VEVENT
BEGIN:VEVENT
DTSTART;TZID=America/Los_Angeles:20290617T091500
DTEND;TZID=America/Los_Angeles:20290617T101500
DTSTAMP:20260425T161700
CREATED:20250924T193716Z
LAST-MODIFIED:20250925T235209Z
UID:10000961-1876382100-1876385700@uuspokane.org
SUMMARY:Sunday Worship
DESCRIPTION:Live Stream Available
URL:https://uuspokane.org/event/sunday-worship/2029-06-17/
LOCATION:Sanctuary
CATEGORIES:Worship Service
END:VEVENT
BEGIN:VEVENT
DTSTART;TZID=America/Los_Angeles:20290617T110000
DTEND;TZID=America/Los_Angeles:20290617T120000
DTSTAMP:20260425T161700
CREATED:20250924T193853Z
LAST-MODIFIED:20250925T235352Z
UID:10001222-1876388400-1876392000@uuspokane.org
SUMMARY:Sunday Worship
DESCRIPTION:Live Stream Available
URL:https://uuspokane.org/event/sunday-worship-2/2029-06-17/
LOCATION:Sanctuary
CATEGORIES:Worship Service
END:VEVENT
BEGIN:VEVENT
DTSTART;TZID=America/Los_Angeles:20290624T091500
DTEND;TZID=America/Los_Angeles:20290624T101500
DTSTAMP:20260425T161700
CREATED:20250924T193716Z
LAST-MODIFIED:20250925T235209Z
UID:10000962-1876986900-1876990500@uuspokane.org
SUMMARY:Sunday Worship
DESCRIPTION:Live Stream Available
URL:https://uuspokane.org/event/sunday-worship/2029-06-24/
LOCATION:Sanctuary
CATEGORIES:Worship Service
END:VEVENT
END:VCALENDAR