BEGIN:VCALENDAR
VERSION:2.0
PRODID:-//Unitarian Universalist Church of Spokane - ECPv6.15.20//NONSGML v1.0//EN
CALSCALE:GREGORIAN
METHOD:PUBLISH
X-ORIGINAL-URL:https://uuspokane.org
X-WR-CALDESC:Events for Unitarian Universalist Church of Spokane
REFRESH-INTERVAL;VALUE=DURATION:PT1H
X-Robots-Tag:noindex
X-PUBLISHED-TTL:PT1H
BEGIN:VTIMEZONE
TZID:America/Los_Angeles
BEGIN:DAYLIGHT
TZOFFSETFROM:-0800
TZOFFSETTO:-0700
TZNAME:PDT
DTSTART:20260308T100000
END:DAYLIGHT
BEGIN:STANDARD
TZOFFSETFROM:-0700
TZOFFSETTO:-0800
TZNAME:PST
DTSTART:20261101T090000
END:STANDARD
BEGIN:DAYLIGHT
TZOFFSETFROM:-0800
TZOFFSETTO:-0700
TZNAME:PDT
DTSTART:20270314T100000
END:DAYLIGHT
BEGIN:STANDARD
TZOFFSETFROM:-0700
TZOFFSETTO:-0800
TZNAME:PST
DTSTART:20271107T090000
END:STANDARD
BEGIN:DAYLIGHT
TZOFFSETFROM:-0800
TZOFFSETTO:-0700
TZNAME:PDT
DTSTART:20280312T100000
END:DAYLIGHT
BEGIN:STANDARD
TZOFFSETFROM:-0700
TZOFFSETTO:-0800
TZNAME:PST
DTSTART:20281105T090000
END:STANDARD
BEGIN:DAYLIGHT
TZOFFSETFROM:-0800
TZOFFSETTO:-0700
TZNAME:PDT
DTSTART:20290311T100000
END:DAYLIGHT
BEGIN:STANDARD
TZOFFSETFROM:-0700
TZOFFSETTO:-0800
TZNAME:PST
DTSTART:20291104T090000
END:STANDARD
END:VTIMEZONE
BEGIN:VEVENT
DTSTART;TZID=America/Los_Angeles:20270902T140000
DTEND;TZID=America/Los_Angeles:20270902T160000
DTSTAMP:20260424T055200
CREATED:20260122T180054Z
LAST-MODIFIED:20260122T180054Z
UID:10003924-1819893600-1819900800@uuspokane.org
SUMMARY:Retirement Group (closed meeting)
DESCRIPTION:
URL:https://uuspokane.org/event/retirement-group-closed-meeting-2/2027-09-02/
LOCATION:ZOOM
CATEGORIES:Meeting
END:VEVENT
BEGIN:VEVENT
DTSTART;TZID=America/Los_Angeles:20270903T160000
DTEND;TZID=America/Los_Angeles:20270903T173000
DTSTAMP:20260424T055200
CREATED:20260414T155358Z
LAST-MODIFIED:20260414T155358Z
UID:10000606-1819987200-1819992600@uuspokane.org
SUMMARY:LGBTQ+ Senior Group
DESCRIPTION:ZOOM
URL:https://uuspokane.org/event/lgbtq-senior-group-2-2/2027-09-03/
LOCATION:ZOOM
CATEGORIES:Meeting
ORGANIZER;CN="Nancy Avery":MAILTO:NancyTavery@comcast.net
END:VEVENT
BEGIN:VEVENT
DTSTART;TZID=America/Los_Angeles:20270910T160000
DTEND;TZID=America/Los_Angeles:20270910T173000
DTSTAMP:20260424T055200
CREATED:20260414T155358Z
LAST-MODIFIED:20260414T155358Z
UID:10000607-1820592000-1820597400@uuspokane.org
SUMMARY:LGBTQ+ Senior Group
DESCRIPTION:ZOOM
URL:https://uuspokane.org/event/lgbtq-senior-group-2-2/2027-09-10/
LOCATION:ZOOM
CATEGORIES:Meeting
ORGANIZER;CN="Nancy Avery":MAILTO:NancyTavery@comcast.net
END:VEVENT
BEGIN:VEVENT
DTSTART;TZID=America/Los_Angeles:20270917T160000
DTEND;TZID=America/Los_Angeles:20270917T173000
DTSTAMP:20260424T055200
CREATED:20260414T155358Z
LAST-MODIFIED:20260414T155358Z
UID:10000608-1821196800-1821202200@uuspokane.org
SUMMARY:LGBTQ+ Senior Group
DESCRIPTION:ZOOM
URL:https://uuspokane.org/event/lgbtq-senior-group-2-2/2027-09-17/
LOCATION:ZOOM
CATEGORIES:Meeting
ORGANIZER;CN="Nancy Avery":MAILTO:NancyTavery@comcast.net
END:VEVENT
BEGIN:VEVENT
DTSTART;TZID=America/Los_Angeles:20270923T160000
DTEND;TZID=America/Los_Angeles:20270923T170000
DTSTAMP:20260424T055200
CREATED:20250924T192847Z
LAST-MODIFIED:20250924T192920Z
UID:10000409-1821715200-1821718800@uuspokane.org
SUMMARY:Endowment Team Meeting
DESCRIPTION:Zoom
URL:https://uuspokane.org/event/endowment-team-meeting/2027-09-23/
LOCATION:ZOOM
CATEGORIES:Meeting
END:VEVENT
BEGIN:VEVENT
DTSTART;TZID=America/Los_Angeles:20270924T160000
DTEND;TZID=America/Los_Angeles:20270924T173000
DTSTAMP:20260424T055200
CREATED:20260414T155358Z
LAST-MODIFIED:20260414T155358Z
UID:10000609-1821801600-1821807000@uuspokane.org
SUMMARY:LGBTQ+ Senior Group
DESCRIPTION:ZOOM
URL:https://uuspokane.org/event/lgbtq-senior-group-2-2/2027-09-24/
LOCATION:ZOOM
CATEGORIES:Meeting
ORGANIZER;CN="Nancy Avery":MAILTO:NancyTavery@comcast.net
END:VEVENT
BEGIN:VEVENT
DTSTART;TZID=America/Los_Angeles:20271001T160000
DTEND;TZID=America/Los_Angeles:20271001T173000
DTSTAMP:20260424T055200
CREATED:20260414T155358Z
LAST-MODIFIED:20260414T155358Z
UID:10000610-1822406400-1822411800@uuspokane.org
SUMMARY:LGBTQ+ Senior Group
DESCRIPTION:ZOOM
URL:https://uuspokane.org/event/lgbtq-senior-group-2-2/2027-10-01/
LOCATION:ZOOM
CATEGORIES:Meeting
ORGANIZER;CN="Nancy Avery":MAILTO:NancyTavery@comcast.net
END:VEVENT
BEGIN:VEVENT
DTSTART;TZID=America/Los_Angeles:20271006T140000
DTEND;TZID=America/Los_Angeles:20271006T160000
DTSTAMP:20260424T055200
CREATED:20250925T232509Z
LAST-MODIFIED:20250925T232509Z
UID:10003326-1822831200-1822838400@uuspokane.org
SUMMARY:Pastoral Care Team Planning Meeting
DESCRIPTION:
URL:https://uuspokane.org/event/pastoral-care-team-planning-meeting/2027-10-06/
LOCATION:ZOOM
CATEGORIES:Meeting
END:VEVENT
BEGIN:VEVENT
DTSTART;TZID=America/Los_Angeles:20271007T140000
DTEND;TZID=America/Los_Angeles:20271007T160000
DTSTAMP:20260424T055200
CREATED:20260122T180054Z
LAST-MODIFIED:20260122T180054Z
UID:10003925-1822917600-1822924800@uuspokane.org
SUMMARY:Retirement Group (closed meeting)
DESCRIPTION:
URL:https://uuspokane.org/event/retirement-group-closed-meeting-2/2027-10-07/
LOCATION:ZOOM
CATEGORIES:Meeting
END:VEVENT
BEGIN:VEVENT
DTSTART;TZID=America/Los_Angeles:20271008T160000
DTEND;TZID=America/Los_Angeles:20271008T173000
DTSTAMP:20260424T055200
CREATED:20260414T155358Z
LAST-MODIFIED:20260414T155358Z
UID:10000611-1823011200-1823016600@uuspokane.org
SUMMARY:LGBTQ+ Senior Group
DESCRIPTION:ZOOM
URL:https://uuspokane.org/event/lgbtq-senior-group-2-2/2027-10-08/
LOCATION:ZOOM
CATEGORIES:Meeting
ORGANIZER;CN="Nancy Avery":MAILTO:NancyTavery@comcast.net
END:VEVENT
BEGIN:VEVENT
DTSTART;TZID=America/Los_Angeles:20271015T160000
DTEND;TZID=America/Los_Angeles:20271015T173000
DTSTAMP:20260424T055200
CREATED:20260414T155358Z
LAST-MODIFIED:20260414T155358Z
UID:10000612-1823616000-1823621400@uuspokane.org
SUMMARY:LGBTQ+ Senior Group
DESCRIPTION:ZOOM
URL:https://uuspokane.org/event/lgbtq-senior-group-2-2/2027-10-15/
LOCATION:ZOOM
CATEGORIES:Meeting
ORGANIZER;CN="Nancy Avery":MAILTO:NancyTavery@comcast.net
END:VEVENT
BEGIN:VEVENT
DTSTART;TZID=America/Los_Angeles:20271022T160000
DTEND;TZID=America/Los_Angeles:20271022T173000
DTSTAMP:20260424T055200
CREATED:20260414T155358Z
LAST-MODIFIED:20260414T155358Z
UID:10000613-1824220800-1824226200@uuspokane.org
SUMMARY:LGBTQ+ Senior Group
DESCRIPTION:ZOOM
URL:https://uuspokane.org/event/lgbtq-senior-group-2-2/2027-10-22/
LOCATION:ZOOM
CATEGORIES:Meeting
ORGANIZER;CN="Nancy Avery":MAILTO:NancyTavery@comcast.net
END:VEVENT
BEGIN:VEVENT
DTSTART;TZID=America/Los_Angeles:20271028T160000
DTEND;TZID=America/Los_Angeles:20271028T170000
DTSTAMP:20260424T055200
CREATED:20250924T192847Z
LAST-MODIFIED:20250924T192920Z
UID:10000410-1824739200-1824742800@uuspokane.org
SUMMARY:Endowment Team Meeting
DESCRIPTION:Zoom
URL:https://uuspokane.org/event/endowment-team-meeting/2027-10-28/
LOCATION:ZOOM
CATEGORIES:Meeting
END:VEVENT
BEGIN:VEVENT
DTSTART;TZID=America/Los_Angeles:20271029T160000
DTEND;TZID=America/Los_Angeles:20271029T173000
DTSTAMP:20260424T055200
CREATED:20260414T155358Z
LAST-MODIFIED:20260414T155358Z
UID:10000614-1824825600-1824831000@uuspokane.org
SUMMARY:LGBTQ+ Senior Group
DESCRIPTION:ZOOM
URL:https://uuspokane.org/event/lgbtq-senior-group-2-2/2027-10-29/
LOCATION:ZOOM
CATEGORIES:Meeting
ORGANIZER;CN="Nancy Avery":MAILTO:NancyTavery@comcast.net
END:VEVENT
BEGIN:VEVENT
DTSTART;TZID=America/Los_Angeles:20271103T140000
DTEND;TZID=America/Los_Angeles:20271103T160000
DTSTAMP:20260424T055200
CREATED:20250925T232509Z
LAST-MODIFIED:20250925T232509Z
UID:10003327-1825250400-1825257600@uuspokane.org
SUMMARY:Pastoral Care Team Planning Meeting
DESCRIPTION:
URL:https://uuspokane.org/event/pastoral-care-team-planning-meeting/2027-11-03/
LOCATION:ZOOM
CATEGORIES:Meeting
END:VEVENT
BEGIN:VEVENT
DTSTART;TZID=America/Los_Angeles:20271104T140000
DTEND;TZID=America/Los_Angeles:20271104T160000
DTSTAMP:20260424T055200
CREATED:20260122T180054Z
LAST-MODIFIED:20260122T180054Z
UID:10003926-1825336800-1825344000@uuspokane.org
SUMMARY:Retirement Group (closed meeting)
DESCRIPTION:
URL:https://uuspokane.org/event/retirement-group-closed-meeting-2/2027-11-04/
LOCATION:ZOOM
CATEGORIES:Meeting
END:VEVENT
BEGIN:VEVENT
DTSTART;TZID=America/Los_Angeles:20271105T160000
DTEND;TZID=America/Los_Angeles:20271105T173000
DTSTAMP:20260424T055200
CREATED:20260414T155358Z
LAST-MODIFIED:20260414T155358Z
UID:10000615-1825430400-1825435800@uuspokane.org
SUMMARY:LGBTQ+ Senior Group
DESCRIPTION:ZOOM
URL:https://uuspokane.org/event/lgbtq-senior-group-2-2/2027-11-05/
LOCATION:ZOOM
CATEGORIES:Meeting
ORGANIZER;CN="Nancy Avery":MAILTO:NancyTavery@comcast.net
END:VEVENT
BEGIN:VEVENT
DTSTART;TZID=America/Los_Angeles:20271112T160000
DTEND;TZID=America/Los_Angeles:20271112T173000
DTSTAMP:20260424T055200
CREATED:20260414T155358Z
LAST-MODIFIED:20260414T155358Z
UID:10000616-1826035200-1826040600@uuspokane.org
SUMMARY:LGBTQ+ Senior Group
DESCRIPTION:ZOOM
URL:https://uuspokane.org/event/lgbtq-senior-group-2-2/2027-11-12/
LOCATION:ZOOM
CATEGORIES:Meeting
ORGANIZER;CN="Nancy Avery":MAILTO:NancyTavery@comcast.net
END:VEVENT
BEGIN:VEVENT
DTSTART;TZID=America/Los_Angeles:20271119T160000
DTEND;TZID=America/Los_Angeles:20271119T173000
DTSTAMP:20260424T055200
CREATED:20260414T155358Z
LAST-MODIFIED:20260414T155358Z
UID:10000617-1826640000-1826645400@uuspokane.org
SUMMARY:LGBTQ+ Senior Group
DESCRIPTION:ZOOM
URL:https://uuspokane.org/event/lgbtq-senior-group-2-2/2027-11-19/
LOCATION:ZOOM
CATEGORIES:Meeting
ORGANIZER;CN="Nancy Avery":MAILTO:NancyTavery@comcast.net
END:VEVENT
BEGIN:VEVENT
DTSTART;TZID=America/Los_Angeles:20271125T160000
DTEND;TZID=America/Los_Angeles:20271125T170000
DTSTAMP:20260424T055200
CREATED:20250924T192847Z
LAST-MODIFIED:20250924T192920Z
UID:10000411-1827158400-1827162000@uuspokane.org
SUMMARY:Endowment Team Meeting
DESCRIPTION:Zoom
URL:https://uuspokane.org/event/endowment-team-meeting/2027-11-25/
LOCATION:ZOOM
CATEGORIES:Meeting
END:VEVENT
BEGIN:VEVENT
DTSTART;TZID=America/Los_Angeles:20271126T160000
DTEND;TZID=America/Los_Angeles:20271126T173000
DTSTAMP:20260424T055200
CREATED:20260414T155358Z
LAST-MODIFIED:20260414T155358Z
UID:10000618-1827244800-1827250200@uuspokane.org
SUMMARY:LGBTQ+ Senior Group
DESCRIPTION:ZOOM
URL:https://uuspokane.org/event/lgbtq-senior-group-2-2/2027-11-26/
LOCATION:ZOOM
CATEGORIES:Meeting
ORGANIZER;CN="Nancy Avery":MAILTO:NancyTavery@comcast.net
END:VEVENT
BEGIN:VEVENT
DTSTART;TZID=America/Los_Angeles:20271201T140000
DTEND;TZID=America/Los_Angeles:20271201T160000
DTSTAMP:20260424T055200
CREATED:20250925T232509Z
LAST-MODIFIED:20250925T232509Z
UID:10003328-1827669600-1827676800@uuspokane.org
SUMMARY:Pastoral Care Team Planning Meeting
DESCRIPTION:
URL:https://uuspokane.org/event/pastoral-care-team-planning-meeting/2027-12-01/
LOCATION:ZOOM
CATEGORIES:Meeting
END:VEVENT
BEGIN:VEVENT
DTSTART;TZID=America/Los_Angeles:20271202T140000
DTEND;TZID=America/Los_Angeles:20271202T160000
DTSTAMP:20260424T055200
CREATED:20260122T180054Z
LAST-MODIFIED:20260122T180054Z
UID:10003927-1827756000-1827763200@uuspokane.org
SUMMARY:Retirement Group (closed meeting)
DESCRIPTION:
URL:https://uuspokane.org/event/retirement-group-closed-meeting-2/2027-12-02/
LOCATION:ZOOM
CATEGORIES:Meeting
END:VEVENT
BEGIN:VEVENT
DTSTART;TZID=America/Los_Angeles:20271203T160000
DTEND;TZID=America/Los_Angeles:20271203T173000
DTSTAMP:20260424T055200
CREATED:20260414T155358Z
LAST-MODIFIED:20260414T155358Z
UID:10000619-1827849600-1827855000@uuspokane.org
SUMMARY:LGBTQ+ Senior Group
DESCRIPTION:ZOOM
URL:https://uuspokane.org/event/lgbtq-senior-group-2-2/2027-12-03/
LOCATION:ZOOM
CATEGORIES:Meeting
ORGANIZER;CN="Nancy Avery":MAILTO:NancyTavery@comcast.net
END:VEVENT
BEGIN:VEVENT
DTSTART;TZID=America/Los_Angeles:20271210T160000
DTEND;TZID=America/Los_Angeles:20271210T173000
DTSTAMP:20260424T055200
CREATED:20260414T155358Z
LAST-MODIFIED:20260414T155358Z
UID:10000620-1828454400-1828459800@uuspokane.org
SUMMARY:LGBTQ+ Senior Group
DESCRIPTION:ZOOM
URL:https://uuspokane.org/event/lgbtq-senior-group-2-2/2027-12-10/
LOCATION:ZOOM
CATEGORIES:Meeting
ORGANIZER;CN="Nancy Avery":MAILTO:NancyTavery@comcast.net
END:VEVENT
BEGIN:VEVENT
DTSTART;TZID=America/Los_Angeles:20271217T160000
DTEND;TZID=America/Los_Angeles:20271217T173000
DTSTAMP:20260424T055200
CREATED:20260414T155358Z
LAST-MODIFIED:20260414T155358Z
UID:10000621-1829059200-1829064600@uuspokane.org
SUMMARY:LGBTQ+ Senior Group
DESCRIPTION:ZOOM
URL:https://uuspokane.org/event/lgbtq-senior-group-2-2/2027-12-17/
LOCATION:ZOOM
CATEGORIES:Meeting
ORGANIZER;CN="Nancy Avery":MAILTO:NancyTavery@comcast.net
END:VEVENT
BEGIN:VEVENT
DTSTART;TZID=America/Los_Angeles:20271223T160000
DTEND;TZID=America/Los_Angeles:20271223T170000
DTSTAMP:20260424T055200
CREATED:20250924T192847Z
LAST-MODIFIED:20250924T192920Z
UID:10000412-1829577600-1829581200@uuspokane.org
SUMMARY:Endowment Team Meeting
DESCRIPTION:Zoom
URL:https://uuspokane.org/event/endowment-team-meeting/2027-12-23/
LOCATION:ZOOM
CATEGORIES:Meeting
END:VEVENT
BEGIN:VEVENT
DTSTART;TZID=America/Los_Angeles:20271224T160000
DTEND;TZID=America/Los_Angeles:20271224T173000
DTSTAMP:20260424T055200
CREATED:20260414T155358Z
LAST-MODIFIED:20260414T155358Z
UID:10000622-1829664000-1829669400@uuspokane.org
SUMMARY:LGBTQ+ Senior Group
DESCRIPTION:ZOOM
URL:https://uuspokane.org/event/lgbtq-senior-group-2-2/2027-12-24/
LOCATION:ZOOM
CATEGORIES:Meeting
ORGANIZER;CN="Nancy Avery":MAILTO:NancyTavery@comcast.net
END:VEVENT
BEGIN:VEVENT
DTSTART;TZID=America/Los_Angeles:20271231T160000
DTEND;TZID=America/Los_Angeles:20271231T173000
DTSTAMP:20260424T055200
CREATED:20260414T155358Z
LAST-MODIFIED:20260414T155358Z
UID:10000623-1830268800-1830274200@uuspokane.org
SUMMARY:LGBTQ+ Senior Group
DESCRIPTION:ZOOM
URL:https://uuspokane.org/event/lgbtq-senior-group-2-2/2027-12-31/
LOCATION:ZOOM
CATEGORIES:Meeting
ORGANIZER;CN="Nancy Avery":MAILTO:NancyTavery@comcast.net
END:VEVENT
BEGIN:VEVENT
DTSTART;TZID=America/Los_Angeles:20280105T140000
DTEND;TZID=America/Los_Angeles:20280105T160000
DTSTAMP:20260424T055200
CREATED:20250925T232509Z
LAST-MODIFIED:20250925T232509Z
UID:10003329-1830693600-1830700800@uuspokane.org
SUMMARY:Pastoral Care Team Planning Meeting
DESCRIPTION:
URL:https://uuspokane.org/event/pastoral-care-team-planning-meeting/2028-01-05/
LOCATION:ZOOM
CATEGORIES:Meeting
END:VEVENT
END:VCALENDAR