BEGIN:VCALENDAR
VERSION:2.0
PRODID:-//Unitarian Universalist Church of Spokane - ECPv6.15.20//NONSGML v1.0//EN
CALSCALE:GREGORIAN
METHOD:PUBLISH
X-ORIGINAL-URL:https://uuspokane.org
X-WR-CALDESC:Events for Unitarian Universalist Church of Spokane
REFRESH-INTERVAL;VALUE=DURATION:PT1H
X-Robots-Tag:noindex
X-PUBLISHED-TTL:PT1H
BEGIN:VTIMEZONE
TZID:America/Los_Angeles
BEGIN:DAYLIGHT
TZOFFSETFROM:-0800
TZOFFSETTO:-0700
TZNAME:PDT
DTSTART:20270314T100000
END:DAYLIGHT
BEGIN:STANDARD
TZOFFSETFROM:-0700
TZOFFSETTO:-0800
TZNAME:PST
DTSTART:20271107T090000
END:STANDARD
BEGIN:DAYLIGHT
TZOFFSETFROM:-0800
TZOFFSETTO:-0700
TZNAME:PDT
DTSTART:20280312T100000
END:DAYLIGHT
BEGIN:STANDARD
TZOFFSETFROM:-0700
TZOFFSETTO:-0800
TZNAME:PST
DTSTART:20281105T090000
END:STANDARD
BEGIN:DAYLIGHT
TZOFFSETFROM:-0800
TZOFFSETTO:-0700
TZNAME:PDT
DTSTART:20290311T100000
END:DAYLIGHT
BEGIN:STANDARD
TZOFFSETFROM:-0700
TZOFFSETTO:-0800
TZNAME:PST
DTSTART:20291104T090000
END:STANDARD
END:VTIMEZONE
BEGIN:VEVENT
DTSTART;TZID=America/Los_Angeles:20280505T160000
DTEND;TZID=America/Los_Angeles:20280505T173000
DTSTAMP:20260424T155930
CREATED:20260414T155358Z
LAST-MODIFIED:20260414T155358Z
UID:10000641-1841155200-1841160600@uuspokane.org
SUMMARY:LGBTQ+ Senior Group
DESCRIPTION:ZOOM
URL:https://uuspokane.org/event/lgbtq-senior-group-2-2/2028-05-05/
LOCATION:ZOOM
CATEGORIES:Meeting
ORGANIZER;CN="Nancy Avery":MAILTO:NancyTavery@comcast.net
END:VEVENT
BEGIN:VEVENT
DTSTART;TZID=America/Los_Angeles:20280512T160000
DTEND;TZID=America/Los_Angeles:20280512T173000
DTSTAMP:20260424T155930
CREATED:20260414T155358Z
LAST-MODIFIED:20260414T155358Z
UID:10000642-1841760000-1841765400@uuspokane.org
SUMMARY:LGBTQ+ Senior Group
DESCRIPTION:ZOOM
URL:https://uuspokane.org/event/lgbtq-senior-group-2-2/2028-05-12/
LOCATION:ZOOM
CATEGORIES:Meeting
ORGANIZER;CN="Nancy Avery":MAILTO:NancyTavery@comcast.net
END:VEVENT
BEGIN:VEVENT
DTSTART;TZID=America/Los_Angeles:20280519T160000
DTEND;TZID=America/Los_Angeles:20280519T173000
DTSTAMP:20260424T155930
CREATED:20260414T155358Z
LAST-MODIFIED:20260414T155358Z
UID:10000643-1842364800-1842370200@uuspokane.org
SUMMARY:LGBTQ+ Senior Group
DESCRIPTION:ZOOM
URL:https://uuspokane.org/event/lgbtq-senior-group-2-2/2028-05-19/
LOCATION:ZOOM
CATEGORIES:Meeting
ORGANIZER;CN="Nancy Avery":MAILTO:NancyTavery@comcast.net
END:VEVENT
BEGIN:VEVENT
DTSTART;TZID=America/Los_Angeles:20280525T160000
DTEND;TZID=America/Los_Angeles:20280525T170000
DTSTAMP:20260424T155930
CREATED:20250924T192847Z
LAST-MODIFIED:20250924T192920Z
UID:10000417-1842883200-1842886800@uuspokane.org
SUMMARY:Endowment Team Meeting
DESCRIPTION:Zoom
URL:https://uuspokane.org/event/endowment-team-meeting/2028-05-25/
LOCATION:ZOOM
CATEGORIES:Meeting
END:VEVENT
BEGIN:VEVENT
DTSTART;TZID=America/Los_Angeles:20280526T160000
DTEND;TZID=America/Los_Angeles:20280526T173000
DTSTAMP:20260424T155930
CREATED:20260414T155358Z
LAST-MODIFIED:20260414T155358Z
UID:10000644-1842969600-1842975000@uuspokane.org
SUMMARY:LGBTQ+ Senior Group
DESCRIPTION:ZOOM
URL:https://uuspokane.org/event/lgbtq-senior-group-2-2/2028-05-26/
LOCATION:ZOOM
CATEGORIES:Meeting
ORGANIZER;CN="Nancy Avery":MAILTO:NancyTavery@comcast.net
END:VEVENT
BEGIN:VEVENT
DTSTART;TZID=America/Los_Angeles:20280601T140000
DTEND;TZID=America/Los_Angeles:20280601T160000
DTSTAMP:20260424T155930
CREATED:20260122T180054Z
LAST-MODIFIED:20260122T180054Z
UID:10003933-1843480800-1843488000@uuspokane.org
SUMMARY:Retirement Group (closed meeting)
DESCRIPTION:
URL:https://uuspokane.org/event/retirement-group-closed-meeting-2/2028-06-01/
LOCATION:ZOOM
CATEGORIES:Meeting
END:VEVENT
BEGIN:VEVENT
DTSTART;TZID=America/Los_Angeles:20280602T160000
DTEND;TZID=America/Los_Angeles:20280602T173000
DTSTAMP:20260424T155930
CREATED:20260414T155358Z
LAST-MODIFIED:20260414T155358Z
UID:10000645-1843574400-1843579800@uuspokane.org
SUMMARY:LGBTQ+ Senior Group
DESCRIPTION:ZOOM
URL:https://uuspokane.org/event/lgbtq-senior-group-2-2/2028-06-02/
LOCATION:ZOOM
CATEGORIES:Meeting
ORGANIZER;CN="Nancy Avery":MAILTO:NancyTavery@comcast.net
END:VEVENT
BEGIN:VEVENT
DTSTART;TZID=America/Los_Angeles:20280607T140000
DTEND;TZID=America/Los_Angeles:20280607T160000
DTSTAMP:20260424T155930
CREATED:20250925T232509Z
LAST-MODIFIED:20250925T232509Z
UID:10003334-1843999200-1844006400@uuspokane.org
SUMMARY:Pastoral Care Team Planning Meeting
DESCRIPTION:
URL:https://uuspokane.org/event/pastoral-care-team-planning-meeting/2028-06-07/
LOCATION:ZOOM
CATEGORIES:Meeting
END:VEVENT
BEGIN:VEVENT
DTSTART;TZID=America/Los_Angeles:20280609T160000
DTEND;TZID=America/Los_Angeles:20280609T173000
DTSTAMP:20260424T155930
CREATED:20260414T155358Z
LAST-MODIFIED:20260414T155358Z
UID:10000646-1844179200-1844184600@uuspokane.org
SUMMARY:LGBTQ+ Senior Group
DESCRIPTION:ZOOM
URL:https://uuspokane.org/event/lgbtq-senior-group-2-2/2028-06-09/
LOCATION:ZOOM
CATEGORIES:Meeting
ORGANIZER;CN="Nancy Avery":MAILTO:NancyTavery@comcast.net
END:VEVENT
BEGIN:VEVENT
DTSTART;TZID=America/Los_Angeles:20280616T160000
DTEND;TZID=America/Los_Angeles:20280616T173000
DTSTAMP:20260424T155930
CREATED:20260414T155358Z
LAST-MODIFIED:20260414T155358Z
UID:10000647-1844784000-1844789400@uuspokane.org
SUMMARY:LGBTQ+ Senior Group
DESCRIPTION:ZOOM
URL:https://uuspokane.org/event/lgbtq-senior-group-2-2/2028-06-16/
LOCATION:ZOOM
CATEGORIES:Meeting
ORGANIZER;CN="Nancy Avery":MAILTO:NancyTavery@comcast.net
END:VEVENT
BEGIN:VEVENT
DTSTART;TZID=America/Los_Angeles:20280622T160000
DTEND;TZID=America/Los_Angeles:20280622T170000
DTSTAMP:20260424T155930
CREATED:20250924T192847Z
LAST-MODIFIED:20250924T192920Z
UID:10000418-1845302400-1845306000@uuspokane.org
SUMMARY:Endowment Team Meeting
DESCRIPTION:Zoom
URL:https://uuspokane.org/event/endowment-team-meeting/2028-06-22/
LOCATION:ZOOM
CATEGORIES:Meeting
END:VEVENT
BEGIN:VEVENT
DTSTART;TZID=America/Los_Angeles:20280623T160000
DTEND;TZID=America/Los_Angeles:20280623T173000
DTSTAMP:20260424T155930
CREATED:20260414T155358Z
LAST-MODIFIED:20260414T155358Z
UID:10000648-1845388800-1845394200@uuspokane.org
SUMMARY:LGBTQ+ Senior Group
DESCRIPTION:ZOOM
URL:https://uuspokane.org/event/lgbtq-senior-group-2-2/2028-06-23/
LOCATION:ZOOM
CATEGORIES:Meeting
ORGANIZER;CN="Nancy Avery":MAILTO:NancyTavery@comcast.net
END:VEVENT
BEGIN:VEVENT
DTSTART;TZID=America/Los_Angeles:20280630T160000
DTEND;TZID=America/Los_Angeles:20280630T173000
DTSTAMP:20260424T155930
CREATED:20260414T155358Z
LAST-MODIFIED:20260414T155358Z
UID:10000649-1845993600-1845999000@uuspokane.org
SUMMARY:LGBTQ+ Senior Group
DESCRIPTION:ZOOM
URL:https://uuspokane.org/event/lgbtq-senior-group-2-2/2028-06-30/
LOCATION:ZOOM
CATEGORIES:Meeting
ORGANIZER;CN="Nancy Avery":MAILTO:NancyTavery@comcast.net
END:VEVENT
BEGIN:VEVENT
DTSTART;TZID=America/Los_Angeles:20280705T140000
DTEND;TZID=America/Los_Angeles:20280705T160000
DTSTAMP:20260424T155930
CREATED:20250925T232509Z
LAST-MODIFIED:20250925T232509Z
UID:10003335-1846418400-1846425600@uuspokane.org
SUMMARY:Pastoral Care Team Planning Meeting
DESCRIPTION:
URL:https://uuspokane.org/event/pastoral-care-team-planning-meeting/2028-07-05/
LOCATION:ZOOM
CATEGORIES:Meeting
END:VEVENT
BEGIN:VEVENT
DTSTART;TZID=America/Los_Angeles:20280706T140000
DTEND;TZID=America/Los_Angeles:20280706T160000
DTSTAMP:20260424T155930
CREATED:20260122T180054Z
LAST-MODIFIED:20260122T180054Z
UID:10003934-1846504800-1846512000@uuspokane.org
SUMMARY:Retirement Group (closed meeting)
DESCRIPTION:
URL:https://uuspokane.org/event/retirement-group-closed-meeting-2/2028-07-06/
LOCATION:ZOOM
CATEGORIES:Meeting
END:VEVENT
BEGIN:VEVENT
DTSTART;TZID=America/Los_Angeles:20280707T160000
DTEND;TZID=America/Los_Angeles:20280707T173000
DTSTAMP:20260424T155930
CREATED:20260414T155358Z
LAST-MODIFIED:20260414T155358Z
UID:10000650-1846598400-1846603800@uuspokane.org
SUMMARY:LGBTQ+ Senior Group
DESCRIPTION:ZOOM
URL:https://uuspokane.org/event/lgbtq-senior-group-2-2/2028-07-07/
LOCATION:ZOOM
CATEGORIES:Meeting
ORGANIZER;CN="Nancy Avery":MAILTO:NancyTavery@comcast.net
END:VEVENT
BEGIN:VEVENT
DTSTART;TZID=America/Los_Angeles:20280714T160000
DTEND;TZID=America/Los_Angeles:20280714T173000
DTSTAMP:20260424T155930
CREATED:20260414T155358Z
LAST-MODIFIED:20260414T155358Z
UID:10000651-1847203200-1847208600@uuspokane.org
SUMMARY:LGBTQ+ Senior Group
DESCRIPTION:ZOOM
URL:https://uuspokane.org/event/lgbtq-senior-group-2-2/2028-07-14/
LOCATION:ZOOM
CATEGORIES:Meeting
ORGANIZER;CN="Nancy Avery":MAILTO:NancyTavery@comcast.net
END:VEVENT
BEGIN:VEVENT
DTSTART;TZID=America/Los_Angeles:20280721T160000
DTEND;TZID=America/Los_Angeles:20280721T173000
DTSTAMP:20260424T155930
CREATED:20260414T155358Z
LAST-MODIFIED:20260414T155358Z
UID:10000652-1847808000-1847813400@uuspokane.org
SUMMARY:LGBTQ+ Senior Group
DESCRIPTION:ZOOM
URL:https://uuspokane.org/event/lgbtq-senior-group-2-2/2028-07-21/
LOCATION:ZOOM
CATEGORIES:Meeting
ORGANIZER;CN="Nancy Avery":MAILTO:NancyTavery@comcast.net
END:VEVENT
BEGIN:VEVENT
DTSTART;TZID=America/Los_Angeles:20280727T160000
DTEND;TZID=America/Los_Angeles:20280727T170000
DTSTAMP:20260424T155930
CREATED:20250924T192847Z
LAST-MODIFIED:20250924T192920Z
UID:10000419-1848326400-1848330000@uuspokane.org
SUMMARY:Endowment Team Meeting
DESCRIPTION:Zoom
URL:https://uuspokane.org/event/endowment-team-meeting/2028-07-27/
LOCATION:ZOOM
CATEGORIES:Meeting
END:VEVENT
BEGIN:VEVENT
DTSTART;TZID=America/Los_Angeles:20280728T160000
DTEND;TZID=America/Los_Angeles:20280728T173000
DTSTAMP:20260424T155930
CREATED:20260414T155358Z
LAST-MODIFIED:20260414T155358Z
UID:10000653-1848412800-1848418200@uuspokane.org
SUMMARY:LGBTQ+ Senior Group
DESCRIPTION:ZOOM
URL:https://uuspokane.org/event/lgbtq-senior-group-2-2/2028-07-28/
LOCATION:ZOOM
CATEGORIES:Meeting
ORGANIZER;CN="Nancy Avery":MAILTO:NancyTavery@comcast.net
END:VEVENT
BEGIN:VEVENT
DTSTART;TZID=America/Los_Angeles:20280802T140000
DTEND;TZID=America/Los_Angeles:20280802T160000
DTSTAMP:20260424T155930
CREATED:20250925T232509Z
LAST-MODIFIED:20250925T232509Z
UID:10003336-1848837600-1848844800@uuspokane.org
SUMMARY:Pastoral Care Team Planning Meeting
DESCRIPTION:
URL:https://uuspokane.org/event/pastoral-care-team-planning-meeting/2028-08-02/
LOCATION:ZOOM
CATEGORIES:Meeting
END:VEVENT
BEGIN:VEVENT
DTSTART;TZID=America/Los_Angeles:20280803T140000
DTEND;TZID=America/Los_Angeles:20280803T160000
DTSTAMP:20260424T155930
CREATED:20260122T180054Z
LAST-MODIFIED:20260122T180054Z
UID:10003935-1848924000-1848931200@uuspokane.org
SUMMARY:Retirement Group (closed meeting)
DESCRIPTION:
URL:https://uuspokane.org/event/retirement-group-closed-meeting-2/2028-08-03/
LOCATION:ZOOM
CATEGORIES:Meeting
END:VEVENT
BEGIN:VEVENT
DTSTART;TZID=America/Los_Angeles:20280804T160000
DTEND;TZID=America/Los_Angeles:20280804T173000
DTSTAMP:20260424T155930
CREATED:20260414T155358Z
LAST-MODIFIED:20260414T155358Z
UID:10000654-1849017600-1849023000@uuspokane.org
SUMMARY:LGBTQ+ Senior Group
DESCRIPTION:ZOOM
URL:https://uuspokane.org/event/lgbtq-senior-group-2-2/2028-08-04/
LOCATION:ZOOM
CATEGORIES:Meeting
ORGANIZER;CN="Nancy Avery":MAILTO:NancyTavery@comcast.net
END:VEVENT
BEGIN:VEVENT
DTSTART;TZID=America/Los_Angeles:20280811T160000
DTEND;TZID=America/Los_Angeles:20280811T173000
DTSTAMP:20260424T155930
CREATED:20260414T155358Z
LAST-MODIFIED:20260414T155358Z
UID:10000655-1849622400-1849627800@uuspokane.org
SUMMARY:LGBTQ+ Senior Group
DESCRIPTION:ZOOM
URL:https://uuspokane.org/event/lgbtq-senior-group-2-2/2028-08-11/
LOCATION:ZOOM
CATEGORIES:Meeting
ORGANIZER;CN="Nancy Avery":MAILTO:NancyTavery@comcast.net
END:VEVENT
BEGIN:VEVENT
DTSTART;TZID=America/Los_Angeles:20280818T160000
DTEND;TZID=America/Los_Angeles:20280818T173000
DTSTAMP:20260424T155930
CREATED:20260414T155358Z
LAST-MODIFIED:20260414T155358Z
UID:10000656-1850227200-1850232600@uuspokane.org
SUMMARY:LGBTQ+ Senior Group
DESCRIPTION:ZOOM
URL:https://uuspokane.org/event/lgbtq-senior-group-2-2/2028-08-18/
LOCATION:ZOOM
CATEGORIES:Meeting
ORGANIZER;CN="Nancy Avery":MAILTO:NancyTavery@comcast.net
END:VEVENT
BEGIN:VEVENT
DTSTART;TZID=America/Los_Angeles:20280824T160000
DTEND;TZID=America/Los_Angeles:20280824T170000
DTSTAMP:20260424T155930
CREATED:20250924T192847Z
LAST-MODIFIED:20250924T192920Z
UID:10000420-1850745600-1850749200@uuspokane.org
SUMMARY:Endowment Team Meeting
DESCRIPTION:Zoom
URL:https://uuspokane.org/event/endowment-team-meeting/2028-08-24/
LOCATION:ZOOM
CATEGORIES:Meeting
END:VEVENT
BEGIN:VEVENT
DTSTART;TZID=America/Los_Angeles:20280825T160000
DTEND;TZID=America/Los_Angeles:20280825T173000
DTSTAMP:20260424T155930
CREATED:20260414T155358Z
LAST-MODIFIED:20260414T155358Z
UID:10000657-1850832000-1850837400@uuspokane.org
SUMMARY:LGBTQ+ Senior Group
DESCRIPTION:ZOOM
URL:https://uuspokane.org/event/lgbtq-senior-group-2-2/2028-08-25/
LOCATION:ZOOM
CATEGORIES:Meeting
ORGANIZER;CN="Nancy Avery":MAILTO:NancyTavery@comcast.net
END:VEVENT
BEGIN:VEVENT
DTSTART;TZID=America/Los_Angeles:20280901T160000
DTEND;TZID=America/Los_Angeles:20280901T173000
DTSTAMP:20260424T155930
CREATED:20260414T155358Z
LAST-MODIFIED:20260414T155358Z
UID:10000658-1851436800-1851442200@uuspokane.org
SUMMARY:LGBTQ+ Senior Group
DESCRIPTION:ZOOM
URL:https://uuspokane.org/event/lgbtq-senior-group-2-2/2028-09-01/
LOCATION:ZOOM
CATEGORIES:Meeting
ORGANIZER;CN="Nancy Avery":MAILTO:NancyTavery@comcast.net
END:VEVENT
BEGIN:VEVENT
DTSTART;TZID=America/Los_Angeles:20280906T140000
DTEND;TZID=America/Los_Angeles:20280906T160000
DTSTAMP:20260424T155930
CREATED:20250925T232509Z
LAST-MODIFIED:20250925T232509Z
UID:10003337-1851861600-1851868800@uuspokane.org
SUMMARY:Pastoral Care Team Planning Meeting
DESCRIPTION:
URL:https://uuspokane.org/event/pastoral-care-team-planning-meeting/2028-09-06/
LOCATION:ZOOM
CATEGORIES:Meeting
END:VEVENT
BEGIN:VEVENT
DTSTART;TZID=America/Los_Angeles:20280907T140000
DTEND;TZID=America/Los_Angeles:20280907T160000
DTSTAMP:20260424T155930
CREATED:20260122T180054Z
LAST-MODIFIED:20260122T180054Z
UID:10003936-1851948000-1851955200@uuspokane.org
SUMMARY:Retirement Group (closed meeting)
DESCRIPTION:
URL:https://uuspokane.org/event/retirement-group-closed-meeting-2/2028-09-07/
LOCATION:ZOOM
CATEGORIES:Meeting
END:VEVENT
END:VCALENDAR