BEGIN:VCALENDAR
VERSION:2.0
PRODID:-//Unitarian Universalist Church of Spokane - ECPv6.15.20//NONSGML v1.0//EN
CALSCALE:GREGORIAN
METHOD:PUBLISH
X-ORIGINAL-URL:https://uuspokane.org
X-WR-CALDESC:Events for Unitarian Universalist Church of Spokane
REFRESH-INTERVAL;VALUE=DURATION:PT1H
X-Robots-Tag:noindex
X-PUBLISHED-TTL:PT1H
BEGIN:VTIMEZONE
TZID:America/Los_Angeles
BEGIN:DAYLIGHT
TZOFFSETFROM:-0800
TZOFFSETTO:-0700
TZNAME:PDT
DTSTART:20280312T100000
END:DAYLIGHT
BEGIN:STANDARD
TZOFFSETFROM:-0700
TZOFFSETTO:-0800
TZNAME:PST
DTSTART:20281105T090000
END:STANDARD
BEGIN:DAYLIGHT
TZOFFSETFROM:-0800
TZOFFSETTO:-0700
TZNAME:PDT
DTSTART:20290311T100000
END:DAYLIGHT
BEGIN:STANDARD
TZOFFSETFROM:-0700
TZOFFSETTO:-0800
TZNAME:PST
DTSTART:20291104T090000
END:STANDARD
BEGIN:DAYLIGHT
TZOFFSETFROM:-0800
TZOFFSETTO:-0700
TZNAME:PDT
DTSTART:20300310T100000
END:DAYLIGHT
BEGIN:STANDARD
TZOFFSETFROM:-0700
TZOFFSETTO:-0800
TZNAME:PST
DTSTART:20301103T090000
END:STANDARD
END:VTIMEZONE
BEGIN:VEVENT
DTSTART;TZID=America/Los_Angeles:20290301T140000
DTEND;TZID=America/Los_Angeles:20290301T160000
DTSTAMP:20260425T032833
CREATED:20260122T180054Z
LAST-MODIFIED:20260122T180054Z
UID:10003942-1867068000-1867075200@uuspokane.org
SUMMARY:Retirement Group (closed meeting)
DESCRIPTION:
URL:https://uuspokane.org/event/retirement-group-closed-meeting-2/2029-03-01/
LOCATION:ZOOM
CATEGORIES:Meeting
END:VEVENT
BEGIN:VEVENT
DTSTART;TZID=America/Los_Angeles:20290302T160000
DTEND;TZID=America/Los_Angeles:20290302T173000
DTSTAMP:20260425T032833
CREATED:20260414T155358Z
LAST-MODIFIED:20260414T155358Z
UID:10000684-1867161600-1867167000@uuspokane.org
SUMMARY:LGBTQ+ Senior Group
DESCRIPTION:ZOOM
URL:https://uuspokane.org/event/lgbtq-senior-group-2-2/2029-03-02/
LOCATION:ZOOM
CATEGORIES:Meeting
ORGANIZER;CN="Nancy Avery":MAILTO:NancyTavery@comcast.net
END:VEVENT
BEGIN:VEVENT
DTSTART;TZID=America/Los_Angeles:20290307T140000
DTEND;TZID=America/Los_Angeles:20290307T160000
DTSTAMP:20260425T032833
CREATED:20250925T232509Z
LAST-MODIFIED:20250925T232509Z
UID:10003343-1867586400-1867593600@uuspokane.org
SUMMARY:Pastoral Care Team Planning Meeting
DESCRIPTION:
URL:https://uuspokane.org/event/pastoral-care-team-planning-meeting/2029-03-07/
LOCATION:ZOOM
CATEGORIES:Meeting
END:VEVENT
BEGIN:VEVENT
DTSTART;TZID=America/Los_Angeles:20290309T160000
DTEND;TZID=America/Los_Angeles:20290309T173000
DTSTAMP:20260425T032833
CREATED:20260414T155358Z
LAST-MODIFIED:20260414T155358Z
UID:10000685-1867766400-1867771800@uuspokane.org
SUMMARY:LGBTQ+ Senior Group
DESCRIPTION:ZOOM
URL:https://uuspokane.org/event/lgbtq-senior-group-2-2/2029-03-09/
LOCATION:ZOOM
CATEGORIES:Meeting
ORGANIZER;CN="Nancy Avery":MAILTO:NancyTavery@comcast.net
END:VEVENT
BEGIN:VEVENT
DTSTART;TZID=America/Los_Angeles:20290316T160000
DTEND;TZID=America/Los_Angeles:20290316T173000
DTSTAMP:20260425T032833
CREATED:20260414T155358Z
LAST-MODIFIED:20260414T155358Z
UID:10000686-1868371200-1868376600@uuspokane.org
SUMMARY:LGBTQ+ Senior Group
DESCRIPTION:ZOOM
URL:https://uuspokane.org/event/lgbtq-senior-group-2-2/2029-03-16/
LOCATION:ZOOM
CATEGORIES:Meeting
ORGANIZER;CN="Nancy Avery":MAILTO:NancyTavery@comcast.net
END:VEVENT
BEGIN:VEVENT
DTSTART;TZID=America/Los_Angeles:20290322T160000
DTEND;TZID=America/Los_Angeles:20290322T170000
DTSTAMP:20260425T032833
CREATED:20250924T192847Z
LAST-MODIFIED:20250924T192920Z
UID:10000427-1868889600-1868893200@uuspokane.org
SUMMARY:Endowment Team Meeting
DESCRIPTION:Zoom
URL:https://uuspokane.org/event/endowment-team-meeting/2029-03-22/
LOCATION:ZOOM
CATEGORIES:Meeting
END:VEVENT
BEGIN:VEVENT
DTSTART;TZID=America/Los_Angeles:20290323T160000
DTEND;TZID=America/Los_Angeles:20290323T173000
DTSTAMP:20260425T032833
CREATED:20260414T155358Z
LAST-MODIFIED:20260414T155358Z
UID:10000687-1868976000-1868981400@uuspokane.org
SUMMARY:LGBTQ+ Senior Group
DESCRIPTION:ZOOM
URL:https://uuspokane.org/event/lgbtq-senior-group-2-2/2029-03-23/
LOCATION:ZOOM
CATEGORIES:Meeting
ORGANIZER;CN="Nancy Avery":MAILTO:NancyTavery@comcast.net
END:VEVENT
BEGIN:VEVENT
DTSTART;TZID=America/Los_Angeles:20290330T160000
DTEND;TZID=America/Los_Angeles:20290330T173000
DTSTAMP:20260425T032833
CREATED:20260414T155358Z
LAST-MODIFIED:20260414T155358Z
UID:10000688-1869580800-1869586200@uuspokane.org
SUMMARY:LGBTQ+ Senior Group
DESCRIPTION:ZOOM
URL:https://uuspokane.org/event/lgbtq-senior-group-2-2/2029-03-30/
LOCATION:ZOOM
CATEGORIES:Meeting
ORGANIZER;CN="Nancy Avery":MAILTO:NancyTavery@comcast.net
END:VEVENT
BEGIN:VEVENT
DTSTART;TZID=America/Los_Angeles:20290404T140000
DTEND;TZID=America/Los_Angeles:20290404T160000
DTSTAMP:20260425T032833
CREATED:20250925T232509Z
LAST-MODIFIED:20250925T232509Z
UID:10003344-1870005600-1870012800@uuspokane.org
SUMMARY:Pastoral Care Team Planning Meeting
DESCRIPTION:
URL:https://uuspokane.org/event/pastoral-care-team-planning-meeting/2029-04-04/
LOCATION:ZOOM
CATEGORIES:Meeting
END:VEVENT
BEGIN:VEVENT
DTSTART;TZID=America/Los_Angeles:20290405T140000
DTEND;TZID=America/Los_Angeles:20290405T160000
DTSTAMP:20260425T032833
CREATED:20260122T180054Z
LAST-MODIFIED:20260122T180054Z
UID:10003943-1870092000-1870099200@uuspokane.org
SUMMARY:Retirement Group (closed meeting)
DESCRIPTION:
URL:https://uuspokane.org/event/retirement-group-closed-meeting-2/2029-04-05/
LOCATION:ZOOM
CATEGORIES:Meeting
END:VEVENT
BEGIN:VEVENT
DTSTART;TZID=America/Los_Angeles:20290406T160000
DTEND;TZID=America/Los_Angeles:20290406T173000
DTSTAMP:20260425T032833
CREATED:20260414T155358Z
LAST-MODIFIED:20260414T155358Z
UID:10000689-1870185600-1870191000@uuspokane.org
SUMMARY:LGBTQ+ Senior Group
DESCRIPTION:ZOOM
URL:https://uuspokane.org/event/lgbtq-senior-group-2-2/2029-04-06/
LOCATION:ZOOM
CATEGORIES:Meeting
ORGANIZER;CN="Nancy Avery":MAILTO:NancyTavery@comcast.net
END:VEVENT
BEGIN:VEVENT
DTSTART;TZID=America/Los_Angeles:20290413T160000
DTEND;TZID=America/Los_Angeles:20290413T173000
DTSTAMP:20260425T032833
CREATED:20260414T155358Z
LAST-MODIFIED:20260414T155358Z
UID:10000690-1870790400-1870795800@uuspokane.org
SUMMARY:LGBTQ+ Senior Group
DESCRIPTION:ZOOM
URL:https://uuspokane.org/event/lgbtq-senior-group-2-2/2029-04-13/
LOCATION:ZOOM
CATEGORIES:Meeting
ORGANIZER;CN="Nancy Avery":MAILTO:NancyTavery@comcast.net
END:VEVENT
BEGIN:VEVENT
DTSTART;TZID=America/Los_Angeles:20290420T160000
DTEND;TZID=America/Los_Angeles:20290420T173000
DTSTAMP:20260425T032833
CREATED:20260414T155358Z
LAST-MODIFIED:20260414T155358Z
UID:10000691-1871395200-1871400600@uuspokane.org
SUMMARY:LGBTQ+ Senior Group
DESCRIPTION:ZOOM
URL:https://uuspokane.org/event/lgbtq-senior-group-2-2/2029-04-20/
LOCATION:ZOOM
CATEGORIES:Meeting
ORGANIZER;CN="Nancy Avery":MAILTO:NancyTavery@comcast.net
END:VEVENT
BEGIN:VEVENT
DTSTART;TZID=America/Los_Angeles:20290426T160000
DTEND;TZID=America/Los_Angeles:20290426T170000
DTSTAMP:20260425T032833
CREATED:20250924T192847Z
LAST-MODIFIED:20250924T192920Z
UID:10000428-1871913600-1871917200@uuspokane.org
SUMMARY:Endowment Team Meeting
DESCRIPTION:Zoom
URL:https://uuspokane.org/event/endowment-team-meeting/2029-04-26/
LOCATION:ZOOM
CATEGORIES:Meeting
END:VEVENT
BEGIN:VEVENT
DTSTART;TZID=America/Los_Angeles:20290427T160000
DTEND;TZID=America/Los_Angeles:20290427T173000
DTSTAMP:20260425T032833
CREATED:20260414T155358Z
LAST-MODIFIED:20260414T155358Z
UID:10000692-1872000000-1872005400@uuspokane.org
SUMMARY:LGBTQ+ Senior Group
DESCRIPTION:ZOOM
URL:https://uuspokane.org/event/lgbtq-senior-group-2-2/2029-04-27/
LOCATION:ZOOM
CATEGORIES:Meeting
ORGANIZER;CN="Nancy Avery":MAILTO:NancyTavery@comcast.net
END:VEVENT
BEGIN:VEVENT
DTSTART;TZID=America/Los_Angeles:20290502T140000
DTEND;TZID=America/Los_Angeles:20290502T160000
DTSTAMP:20260425T032833
CREATED:20250925T232509Z
LAST-MODIFIED:20250925T232509Z
UID:10003345-1872424800-1872432000@uuspokane.org
SUMMARY:Pastoral Care Team Planning Meeting
DESCRIPTION:
URL:https://uuspokane.org/event/pastoral-care-team-planning-meeting/2029-05-02/
LOCATION:ZOOM
CATEGORIES:Meeting
END:VEVENT
BEGIN:VEVENT
DTSTART;TZID=America/Los_Angeles:20290503T140000
DTEND;TZID=America/Los_Angeles:20290503T160000
DTSTAMP:20260425T032833
CREATED:20260122T180054Z
LAST-MODIFIED:20260122T180054Z
UID:10003944-1872511200-1872518400@uuspokane.org
SUMMARY:Retirement Group (closed meeting)
DESCRIPTION:
URL:https://uuspokane.org/event/retirement-group-closed-meeting-2/2029-05-03/
LOCATION:ZOOM
CATEGORIES:Meeting
END:VEVENT
BEGIN:VEVENT
DTSTART;TZID=America/Los_Angeles:20290504T160000
DTEND;TZID=America/Los_Angeles:20290504T173000
DTSTAMP:20260425T032833
CREATED:20260414T155358Z
LAST-MODIFIED:20260414T155358Z
UID:10000693-1872604800-1872610200@uuspokane.org
SUMMARY:LGBTQ+ Senior Group
DESCRIPTION:ZOOM
URL:https://uuspokane.org/event/lgbtq-senior-group-2-2/2029-05-04/
LOCATION:ZOOM
CATEGORIES:Meeting
ORGANIZER;CN="Nancy Avery":MAILTO:NancyTavery@comcast.net
END:VEVENT
BEGIN:VEVENT
DTSTART;TZID=America/Los_Angeles:20290511T160000
DTEND;TZID=America/Los_Angeles:20290511T173000
DTSTAMP:20260425T032833
CREATED:20260414T155358Z
LAST-MODIFIED:20260414T155358Z
UID:10000694-1873209600-1873215000@uuspokane.org
SUMMARY:LGBTQ+ Senior Group
DESCRIPTION:ZOOM
URL:https://uuspokane.org/event/lgbtq-senior-group-2-2/2029-05-11/
LOCATION:ZOOM
CATEGORIES:Meeting
ORGANIZER;CN="Nancy Avery":MAILTO:NancyTavery@comcast.net
END:VEVENT
BEGIN:VEVENT
DTSTART;TZID=America/Los_Angeles:20290518T160000
DTEND;TZID=America/Los_Angeles:20290518T173000
DTSTAMP:20260425T032833
CREATED:20260414T155358Z
LAST-MODIFIED:20260414T155358Z
UID:10000695-1873814400-1873819800@uuspokane.org
SUMMARY:LGBTQ+ Senior Group
DESCRIPTION:ZOOM
URL:https://uuspokane.org/event/lgbtq-senior-group-2-2/2029-05-18/
LOCATION:ZOOM
CATEGORIES:Meeting
ORGANIZER;CN="Nancy Avery":MAILTO:NancyTavery@comcast.net
END:VEVENT
BEGIN:VEVENT
DTSTART;TZID=America/Los_Angeles:20290524T160000
DTEND;TZID=America/Los_Angeles:20290524T170000
DTSTAMP:20260425T032833
CREATED:20250924T192847Z
LAST-MODIFIED:20250924T192920Z
UID:10000429-1874332800-1874336400@uuspokane.org
SUMMARY:Endowment Team Meeting
DESCRIPTION:Zoom
URL:https://uuspokane.org/event/endowment-team-meeting/2029-05-24/
LOCATION:ZOOM
CATEGORIES:Meeting
END:VEVENT
BEGIN:VEVENT
DTSTART;TZID=America/Los_Angeles:20290525T160000
DTEND;TZID=America/Los_Angeles:20290525T173000
DTSTAMP:20260425T032833
CREATED:20260414T155358Z
LAST-MODIFIED:20260414T155358Z
UID:10000696-1874419200-1874424600@uuspokane.org
SUMMARY:LGBTQ+ Senior Group
DESCRIPTION:ZOOM
URL:https://uuspokane.org/event/lgbtq-senior-group-2-2/2029-05-25/
LOCATION:ZOOM
CATEGORIES:Meeting
ORGANIZER;CN="Nancy Avery":MAILTO:NancyTavery@comcast.net
END:VEVENT
BEGIN:VEVENT
DTSTART;TZID=America/Los_Angeles:20290601T160000
DTEND;TZID=America/Los_Angeles:20290601T173000
DTSTAMP:20260425T032833
CREATED:20260414T155358Z
LAST-MODIFIED:20260414T155358Z
UID:10000697-1875024000-1875029400@uuspokane.org
SUMMARY:LGBTQ+ Senior Group
DESCRIPTION:ZOOM
URL:https://uuspokane.org/event/lgbtq-senior-group-2-2/2029-06-01/
LOCATION:ZOOM
CATEGORIES:Meeting
ORGANIZER;CN="Nancy Avery":MAILTO:NancyTavery@comcast.net
END:VEVENT
BEGIN:VEVENT
DTSTART;TZID=America/Los_Angeles:20290606T140000
DTEND;TZID=America/Los_Angeles:20290606T160000
DTSTAMP:20260425T032833
CREATED:20250925T232509Z
LAST-MODIFIED:20250925T232509Z
UID:10003346-1875448800-1875456000@uuspokane.org
SUMMARY:Pastoral Care Team Planning Meeting
DESCRIPTION:
URL:https://uuspokane.org/event/pastoral-care-team-planning-meeting/2029-06-06/
LOCATION:ZOOM
CATEGORIES:Meeting
END:VEVENT
BEGIN:VEVENT
DTSTART;TZID=America/Los_Angeles:20290607T140000
DTEND;TZID=America/Los_Angeles:20290607T160000
DTSTAMP:20260425T032833
CREATED:20260122T180054Z
LAST-MODIFIED:20260122T180054Z
UID:10003945-1875535200-1875542400@uuspokane.org
SUMMARY:Retirement Group (closed meeting)
DESCRIPTION:
URL:https://uuspokane.org/event/retirement-group-closed-meeting-2/2029-06-07/
LOCATION:ZOOM
CATEGORIES:Meeting
END:VEVENT
BEGIN:VEVENT
DTSTART;TZID=America/Los_Angeles:20290608T160000
DTEND;TZID=America/Los_Angeles:20290608T173000
DTSTAMP:20260425T032833
CREATED:20260414T155358Z
LAST-MODIFIED:20260414T155358Z
UID:10000698-1875628800-1875634200@uuspokane.org
SUMMARY:LGBTQ+ Senior Group
DESCRIPTION:ZOOM
URL:https://uuspokane.org/event/lgbtq-senior-group-2-2/2029-06-08/
LOCATION:ZOOM
CATEGORIES:Meeting
ORGANIZER;CN="Nancy Avery":MAILTO:NancyTavery@comcast.net
END:VEVENT
BEGIN:VEVENT
DTSTART;TZID=America/Los_Angeles:20290615T160000
DTEND;TZID=America/Los_Angeles:20290615T173000
DTSTAMP:20260425T032833
CREATED:20260414T155358Z
LAST-MODIFIED:20260414T155358Z
UID:10000699-1876233600-1876239000@uuspokane.org
SUMMARY:LGBTQ+ Senior Group
DESCRIPTION:ZOOM
URL:https://uuspokane.org/event/lgbtq-senior-group-2-2/2029-06-15/
LOCATION:ZOOM
CATEGORIES:Meeting
ORGANIZER;CN="Nancy Avery":MAILTO:NancyTavery@comcast.net
END:VEVENT
BEGIN:VEVENT
DTSTART;TZID=America/Los_Angeles:20290622T160000
DTEND;TZID=America/Los_Angeles:20290622T173000
DTSTAMP:20260425T032834
CREATED:20260414T155358Z
LAST-MODIFIED:20260414T155358Z
UID:10000700-1876838400-1876843800@uuspokane.org
SUMMARY:LGBTQ+ Senior Group
DESCRIPTION:ZOOM
URL:https://uuspokane.org/event/lgbtq-senior-group-2-2/2029-06-22/
LOCATION:ZOOM
CATEGORIES:Meeting
ORGANIZER;CN="Nancy Avery":MAILTO:NancyTavery@comcast.net
END:VEVENT
BEGIN:VEVENT
DTSTART;TZID=America/Los_Angeles:20290628T160000
DTEND;TZID=America/Los_Angeles:20290628T170000
DTSTAMP:20260425T032834
CREATED:20250924T192847Z
LAST-MODIFIED:20250924T192920Z
UID:10000430-1877356800-1877360400@uuspokane.org
SUMMARY:Endowment Team Meeting
DESCRIPTION:Zoom
URL:https://uuspokane.org/event/endowment-team-meeting/2029-06-28/
LOCATION:ZOOM
CATEGORIES:Meeting
END:VEVENT
BEGIN:VEVENT
DTSTART;TZID=America/Los_Angeles:20290629T160000
DTEND;TZID=America/Los_Angeles:20290629T173000
DTSTAMP:20260425T032834
CREATED:20260414T155358Z
LAST-MODIFIED:20260414T155358Z
UID:10000701-1877443200-1877448600@uuspokane.org
SUMMARY:LGBTQ+ Senior Group
DESCRIPTION:ZOOM
URL:https://uuspokane.org/event/lgbtq-senior-group-2-2/2029-06-29/
LOCATION:ZOOM
CATEGORIES:Meeting
ORGANIZER;CN="Nancy Avery":MAILTO:NancyTavery@comcast.net
END:VEVENT
END:VCALENDAR