BEGIN:VCALENDAR
VERSION:2.0
PRODID:-//Unitarian Universalist Church of Spokane - ECPv6.15.20//NONSGML v1.0//EN
CALSCALE:GREGORIAN
METHOD:PUBLISH
X-ORIGINAL-URL:https://uuspokane.org
X-WR-CALDESC:Events for Unitarian Universalist Church of Spokane
REFRESH-INTERVAL;VALUE=DURATION:PT1H
X-Robots-Tag:noindex
X-PUBLISHED-TTL:PT1H
BEGIN:VTIMEZONE
TZID:America/Los_Angeles
BEGIN:DAYLIGHT
TZOFFSETFROM:-0800
TZOFFSETTO:-0700
TZNAME:PDT
DTSTART:20240310T100000
END:DAYLIGHT
BEGIN:STANDARD
TZOFFSETFROM:-0700
TZOFFSETTO:-0800
TZNAME:PST
DTSTART:20241103T090000
END:STANDARD
BEGIN:DAYLIGHT
TZOFFSETFROM:-0800
TZOFFSETTO:-0700
TZNAME:PDT
DTSTART:20250309T100000
END:DAYLIGHT
BEGIN:STANDARD
TZOFFSETFROM:-0700
TZOFFSETTO:-0800
TZNAME:PST
DTSTART:20251102T090000
END:STANDARD
BEGIN:DAYLIGHT
TZOFFSETFROM:-0800
TZOFFSETTO:-0700
TZNAME:PDT
DTSTART:20260308T100000
END:DAYLIGHT
BEGIN:STANDARD
TZOFFSETFROM:-0700
TZOFFSETTO:-0800
TZNAME:PST
DTSTART:20261101T090000
END:STANDARD
END:VTIMEZONE
BEGIN:VEVENT
DTSTART;TZID=America/Los_Angeles:20251105T140000
DTEND;TZID=America/Los_Angeles:20251105T160000
DTSTAMP:20260423T154144
CREATED:20250925T232509Z
LAST-MODIFIED:20250925T232509Z
UID:10003303-1762351200-1762358400@uuspokane.org
SUMMARY:Pastoral Care Team Planning Meeting
DESCRIPTION:
URL:https://uuspokane.org/event/pastoral-care-team-planning-meeting/2025-11-05/
LOCATION:ZOOM
CATEGORIES:Meeting
END:VEVENT
BEGIN:VEVENT
DTSTART;TZID=America/Los_Angeles:20251023T160000
DTEND;TZID=America/Los_Angeles:20251023T170000
DTSTAMP:20260423T154144
CREATED:20250924T192847Z
LAST-MODIFIED:20250924T192920Z
UID:10000386-1761235200-1761238800@uuspokane.org
SUMMARY:Endowment Team Meeting
DESCRIPTION:Zoom
URL:https://uuspokane.org/event/endowment-team-meeting/2025-10-23/
LOCATION:ZOOM
CATEGORIES:Meeting
END:VEVENT
BEGIN:VEVENT
DTSTART;TZID=America/Los_Angeles:20251002T143000
DTEND;TZID=America/Los_Angeles:20251002T163000
DTSTAMP:20260423T154144
CREATED:20250925T165550Z
LAST-MODIFIED:20250925T165550Z
UID:10002198-1759415400-1759422600@uuspokane.org
SUMMARY:Retirement Group (closed meeting)
DESCRIPTION:
URL:https://uuspokane.org/event/retirement-group-closed-meeting/2025-10-02/
LOCATION:ZOOM
CATEGORIES:Meeting
END:VEVENT
BEGIN:VEVENT
DTSTART;TZID=America/Los_Angeles:20251001T140000
DTEND;TZID=America/Los_Angeles:20251001T160000
DTSTAMP:20260423T154144
CREATED:20250925T232509Z
LAST-MODIFIED:20250925T232509Z
UID:10003302-1759327200-1759334400@uuspokane.org
SUMMARY:Pastoral Care Team Planning Meeting
DESCRIPTION:
URL:https://uuspokane.org/event/pastoral-care-team-planning-meeting/2025-10-01/
LOCATION:ZOOM
CATEGORIES:Meeting
END:VEVENT
BEGIN:VEVENT
DTSTART;TZID=America/Los_Angeles:20250925T160000
DTEND;TZID=America/Los_Angeles:20250925T170000
DTSTAMP:20260423T154144
CREATED:20250924T192847Z
LAST-MODIFIED:20250924T192920Z
UID:10000385-1758816000-1758819600@uuspokane.org
SUMMARY:Endowment Team Meeting
DESCRIPTION:Zoom
URL:https://uuspokane.org/event/endowment-team-meeting/2025-09-25/
LOCATION:ZOOM
CATEGORIES:Meeting
END:VEVENT
END:VCALENDAR