BEGIN:VCALENDAR
VERSION:2.0
PRODID:-//Unitarian Universalist Church of Spokane - ECPv6.15.20//NONSGML v1.0//EN
CALSCALE:GREGORIAN
METHOD:PUBLISH
X-ORIGINAL-URL:https://uuspokane.org
X-WR-CALDESC:Events for Unitarian Universalist Church of Spokane
REFRESH-INTERVAL;VALUE=DURATION:PT1H
X-Robots-Tag:noindex
X-PUBLISHED-TTL:PT1H
BEGIN:VTIMEZONE
TZID:America/Los_Angeles
BEGIN:DAYLIGHT
TZOFFSETFROM:-0800
TZOFFSETTO:-0700
TZNAME:PDT
DTSTART:20250309T100000
END:DAYLIGHT
BEGIN:STANDARD
TZOFFSETFROM:-0700
TZOFFSETTO:-0800
TZNAME:PST
DTSTART:20251102T090000
END:STANDARD
BEGIN:DAYLIGHT
TZOFFSETFROM:-0800
TZOFFSETTO:-0700
TZNAME:PDT
DTSTART:20260308T100000
END:DAYLIGHT
BEGIN:STANDARD
TZOFFSETFROM:-0700
TZOFFSETTO:-0800
TZNAME:PST
DTSTART:20261101T090000
END:STANDARD
BEGIN:DAYLIGHT
TZOFFSETFROM:-0800
TZOFFSETTO:-0700
TZNAME:PDT
DTSTART:20270314T100000
END:DAYLIGHT
BEGIN:STANDARD
TZOFFSETFROM:-0700
TZOFFSETTO:-0800
TZNAME:PST
DTSTART:20271107T090000
END:STANDARD
END:VTIMEZONE
BEGIN:VEVENT
DTSTART;TZID=America/Los_Angeles:20260710T160000
DTEND;TZID=America/Los_Angeles:20260710T173000
DTSTAMP:20260423T140759
CREATED:20260414T155358Z
LAST-MODIFIED:20260414T155358Z
UID:10000546-1783699200-1783704600@uuspokane.org
SUMMARY:LGBTQ+ Senior Group
DESCRIPTION:ZOOM
URL:https://uuspokane.org/event/lgbtq-senior-group-2-2/2026-07-10/
LOCATION:ZOOM
CATEGORIES:Meeting
ORGANIZER;CN="Nancy Avery":MAILTO:NancyTavery@comcast.net
END:VEVENT
BEGIN:VEVENT
DTSTART;TZID=America/Los_Angeles:20260717T160000
DTEND;TZID=America/Los_Angeles:20260717T173000
DTSTAMP:20260423T140759
CREATED:20260414T155358Z
LAST-MODIFIED:20260414T155358Z
UID:10000547-1784304000-1784309400@uuspokane.org
SUMMARY:LGBTQ+ Senior Group
DESCRIPTION:ZOOM
URL:https://uuspokane.org/event/lgbtq-senior-group-2-2/2026-07-17/
LOCATION:ZOOM
CATEGORIES:Meeting
ORGANIZER;CN="Nancy Avery":MAILTO:NancyTavery@comcast.net
END:VEVENT
BEGIN:VEVENT
DTSTART;TZID=America/Los_Angeles:20260723T160000
DTEND;TZID=America/Los_Angeles:20260723T170000
DTSTAMP:20260423T140759
CREATED:20250924T192847Z
LAST-MODIFIED:20250924T192920Z
UID:10000395-1784822400-1784826000@uuspokane.org
SUMMARY:Endowment Team Meeting
DESCRIPTION:Zoom
URL:https://uuspokane.org/event/endowment-team-meeting/2026-07-23/
LOCATION:ZOOM
CATEGORIES:Meeting
END:VEVENT
BEGIN:VEVENT
DTSTART;TZID=America/Los_Angeles:20260724T160000
DTEND;TZID=America/Los_Angeles:20260724T173000
DTSTAMP:20260423T140759
CREATED:20260414T155358Z
LAST-MODIFIED:20260414T155358Z
UID:10000548-1784908800-1784914200@uuspokane.org
SUMMARY:LGBTQ+ Senior Group
DESCRIPTION:ZOOM
URL:https://uuspokane.org/event/lgbtq-senior-group-2-2/2026-07-24/
LOCATION:ZOOM
CATEGORIES:Meeting
ORGANIZER;CN="Nancy Avery":MAILTO:NancyTavery@comcast.net
END:VEVENT
BEGIN:VEVENT
DTSTART;TZID=America/Los_Angeles:20260731T160000
DTEND;TZID=America/Los_Angeles:20260731T173000
DTSTAMP:20260423T140759
CREATED:20260414T155358Z
LAST-MODIFIED:20260414T155358Z
UID:10000549-1785513600-1785519000@uuspokane.org
SUMMARY:LGBTQ+ Senior Group
DESCRIPTION:ZOOM
URL:https://uuspokane.org/event/lgbtq-senior-group-2-2/2026-07-31/
LOCATION:ZOOM
CATEGORIES:Meeting
ORGANIZER;CN="Nancy Avery":MAILTO:NancyTavery@comcast.net
END:VEVENT
BEGIN:VEVENT
DTSTART;TZID=America/Los_Angeles:20260805T140000
DTEND;TZID=America/Los_Angeles:20260805T160000
DTSTAMP:20260423T140759
CREATED:20250925T232509Z
LAST-MODIFIED:20250925T232509Z
UID:10003312-1785938400-1785945600@uuspokane.org
SUMMARY:Pastoral Care Team Planning Meeting
DESCRIPTION:
URL:https://uuspokane.org/event/pastoral-care-team-planning-meeting/2026-08-05/
LOCATION:ZOOM
CATEGORIES:Meeting
END:VEVENT
BEGIN:VEVENT
DTSTART;TZID=America/Los_Angeles:20260806T140000
DTEND;TZID=America/Los_Angeles:20260806T160000
DTSTAMP:20260423T140759
CREATED:20260122T180054Z
LAST-MODIFIED:20260122T180054Z
UID:10003911-1786024800-1786032000@uuspokane.org
SUMMARY:Retirement Group (closed meeting)
DESCRIPTION:
URL:https://uuspokane.org/event/retirement-group-closed-meeting-2/2026-08-06/
LOCATION:ZOOM
CATEGORIES:Meeting
END:VEVENT
BEGIN:VEVENT
DTSTART;TZID=America/Los_Angeles:20260807T160000
DTEND;TZID=America/Los_Angeles:20260807T173000
DTSTAMP:20260423T140759
CREATED:20260414T155358Z
LAST-MODIFIED:20260414T155358Z
UID:10000550-1786118400-1786123800@uuspokane.org
SUMMARY:LGBTQ+ Senior Group
DESCRIPTION:ZOOM
URL:https://uuspokane.org/event/lgbtq-senior-group-2-2/2026-08-07/
LOCATION:ZOOM
CATEGORIES:Meeting
ORGANIZER;CN="Nancy Avery":MAILTO:NancyTavery@comcast.net
END:VEVENT
BEGIN:VEVENT
DTSTART;TZID=America/Los_Angeles:20260814T160000
DTEND;TZID=America/Los_Angeles:20260814T173000
DTSTAMP:20260423T140759
CREATED:20260414T155358Z
LAST-MODIFIED:20260414T155358Z
UID:10000551-1786723200-1786728600@uuspokane.org
SUMMARY:LGBTQ+ Senior Group
DESCRIPTION:ZOOM
URL:https://uuspokane.org/event/lgbtq-senior-group-2-2/2026-08-14/
LOCATION:ZOOM
CATEGORIES:Meeting
ORGANIZER;CN="Nancy Avery":MAILTO:NancyTavery@comcast.net
END:VEVENT
BEGIN:VEVENT
DTSTART;TZID=America/Los_Angeles:20260821T160000
DTEND;TZID=America/Los_Angeles:20260821T173000
DTSTAMP:20260423T140759
CREATED:20260414T155358Z
LAST-MODIFIED:20260414T155358Z
UID:10000552-1787328000-1787333400@uuspokane.org
SUMMARY:LGBTQ+ Senior Group
DESCRIPTION:ZOOM
URL:https://uuspokane.org/event/lgbtq-senior-group-2-2/2026-08-21/
LOCATION:ZOOM
CATEGORIES:Meeting
ORGANIZER;CN="Nancy Avery":MAILTO:NancyTavery@comcast.net
END:VEVENT
BEGIN:VEVENT
DTSTART;TZID=America/Los_Angeles:20260827T160000
DTEND;TZID=America/Los_Angeles:20260827T170000
DTSTAMP:20260423T140759
CREATED:20250924T192847Z
LAST-MODIFIED:20250924T192920Z
UID:10000396-1787846400-1787850000@uuspokane.org
SUMMARY:Endowment Team Meeting
DESCRIPTION:Zoom
URL:https://uuspokane.org/event/endowment-team-meeting/2026-08-27/
LOCATION:ZOOM
CATEGORIES:Meeting
END:VEVENT
BEGIN:VEVENT
DTSTART;TZID=America/Los_Angeles:20260828T160000
DTEND;TZID=America/Los_Angeles:20260828T173000
DTSTAMP:20260423T140759
CREATED:20260414T155358Z
LAST-MODIFIED:20260414T155358Z
UID:10000553-1787932800-1787938200@uuspokane.org
SUMMARY:LGBTQ+ Senior Group
DESCRIPTION:ZOOM
URL:https://uuspokane.org/event/lgbtq-senior-group-2-2/2026-08-28/
LOCATION:ZOOM
CATEGORIES:Meeting
ORGANIZER;CN="Nancy Avery":MAILTO:NancyTavery@comcast.net
END:VEVENT
BEGIN:VEVENT
DTSTART;TZID=America/Los_Angeles:20260902T140000
DTEND;TZID=America/Los_Angeles:20260902T160000
DTSTAMP:20260423T140759
CREATED:20250925T232509Z
LAST-MODIFIED:20250925T232509Z
UID:10003313-1788357600-1788364800@uuspokane.org
SUMMARY:Pastoral Care Team Planning Meeting
DESCRIPTION:
URL:https://uuspokane.org/event/pastoral-care-team-planning-meeting/2026-09-02/
LOCATION:ZOOM
CATEGORIES:Meeting
END:VEVENT
BEGIN:VEVENT
DTSTART;TZID=America/Los_Angeles:20260903T140000
DTEND;TZID=America/Los_Angeles:20260903T160000
DTSTAMP:20260423T140759
CREATED:20260122T180054Z
LAST-MODIFIED:20260122T180054Z
UID:10003912-1788444000-1788451200@uuspokane.org
SUMMARY:Retirement Group (closed meeting)
DESCRIPTION:
URL:https://uuspokane.org/event/retirement-group-closed-meeting-2/2026-09-03/
LOCATION:ZOOM
CATEGORIES:Meeting
END:VEVENT
BEGIN:VEVENT
DTSTART;TZID=America/Los_Angeles:20260904T160000
DTEND;TZID=America/Los_Angeles:20260904T173000
DTSTAMP:20260423T140759
CREATED:20260414T155358Z
LAST-MODIFIED:20260414T155358Z
UID:10000554-1788537600-1788543000@uuspokane.org
SUMMARY:LGBTQ+ Senior Group
DESCRIPTION:ZOOM
URL:https://uuspokane.org/event/lgbtq-senior-group-2-2/2026-09-04/
LOCATION:ZOOM
CATEGORIES:Meeting
ORGANIZER;CN="Nancy Avery":MAILTO:NancyTavery@comcast.net
END:VEVENT
BEGIN:VEVENT
DTSTART;TZID=America/Los_Angeles:20260911T160000
DTEND;TZID=America/Los_Angeles:20260911T173000
DTSTAMP:20260423T140759
CREATED:20260414T155358Z
LAST-MODIFIED:20260414T155358Z
UID:10000555-1789142400-1789147800@uuspokane.org
SUMMARY:LGBTQ+ Senior Group
DESCRIPTION:ZOOM
URL:https://uuspokane.org/event/lgbtq-senior-group-2-2/2026-09-11/
LOCATION:ZOOM
CATEGORIES:Meeting
ORGANIZER;CN="Nancy Avery":MAILTO:NancyTavery@comcast.net
END:VEVENT
BEGIN:VEVENT
DTSTART;TZID=America/Los_Angeles:20260918T160000
DTEND;TZID=America/Los_Angeles:20260918T173000
DTSTAMP:20260423T140759
CREATED:20260414T155358Z
LAST-MODIFIED:20260414T155358Z
UID:10000556-1789747200-1789752600@uuspokane.org
SUMMARY:LGBTQ+ Senior Group
DESCRIPTION:ZOOM
URL:https://uuspokane.org/event/lgbtq-senior-group-2-2/2026-09-18/
LOCATION:ZOOM
CATEGORIES:Meeting
ORGANIZER;CN="Nancy Avery":MAILTO:NancyTavery@comcast.net
END:VEVENT
BEGIN:VEVENT
DTSTART;TZID=America/Los_Angeles:20260924T160000
DTEND;TZID=America/Los_Angeles:20260924T170000
DTSTAMP:20260423T140759
CREATED:20250924T192847Z
LAST-MODIFIED:20250924T192920Z
UID:10000397-1790265600-1790269200@uuspokane.org
SUMMARY:Endowment Team Meeting
DESCRIPTION:Zoom
URL:https://uuspokane.org/event/endowment-team-meeting/2026-09-24/
LOCATION:ZOOM
CATEGORIES:Meeting
END:VEVENT
BEGIN:VEVENT
DTSTART;TZID=America/Los_Angeles:20260925T160000
DTEND;TZID=America/Los_Angeles:20260925T173000
DTSTAMP:20260423T140759
CREATED:20260414T155358Z
LAST-MODIFIED:20260414T155358Z
UID:10000557-1790352000-1790357400@uuspokane.org
SUMMARY:LGBTQ+ Senior Group
DESCRIPTION:ZOOM
URL:https://uuspokane.org/event/lgbtq-senior-group-2-2/2026-09-25/
LOCATION:ZOOM
CATEGORIES:Meeting
ORGANIZER;CN="Nancy Avery":MAILTO:NancyTavery@comcast.net
END:VEVENT
BEGIN:VEVENT
DTSTART;TZID=America/Los_Angeles:20261001T140000
DTEND;TZID=America/Los_Angeles:20261001T160000
DTSTAMP:20260423T140759
CREATED:20260122T180054Z
LAST-MODIFIED:20260122T180054Z
UID:10003913-1790863200-1790870400@uuspokane.org
SUMMARY:Retirement Group (closed meeting)
DESCRIPTION:
URL:https://uuspokane.org/event/retirement-group-closed-meeting-2/2026-10-01/
LOCATION:ZOOM
CATEGORIES:Meeting
END:VEVENT
BEGIN:VEVENT
DTSTART;TZID=America/Los_Angeles:20261002T160000
DTEND;TZID=America/Los_Angeles:20261002T173000
DTSTAMP:20260423T140759
CREATED:20260414T155358Z
LAST-MODIFIED:20260414T155358Z
UID:10000558-1790956800-1790962200@uuspokane.org
SUMMARY:LGBTQ+ Senior Group
DESCRIPTION:ZOOM
URL:https://uuspokane.org/event/lgbtq-senior-group-2-2/2026-10-02/
LOCATION:ZOOM
CATEGORIES:Meeting
ORGANIZER;CN="Nancy Avery":MAILTO:NancyTavery@comcast.net
END:VEVENT
BEGIN:VEVENT
DTSTART;TZID=America/Los_Angeles:20261007T140000
DTEND;TZID=America/Los_Angeles:20261007T160000
DTSTAMP:20260423T140759
CREATED:20250925T232509Z
LAST-MODIFIED:20250925T232509Z
UID:10003314-1791381600-1791388800@uuspokane.org
SUMMARY:Pastoral Care Team Planning Meeting
DESCRIPTION:
URL:https://uuspokane.org/event/pastoral-care-team-planning-meeting/2026-10-07/
LOCATION:ZOOM
CATEGORIES:Meeting
END:VEVENT
BEGIN:VEVENT
DTSTART;TZID=America/Los_Angeles:20261009T160000
DTEND;TZID=America/Los_Angeles:20261009T173000
DTSTAMP:20260423T140759
CREATED:20260414T155358Z
LAST-MODIFIED:20260414T155358Z
UID:10000559-1791561600-1791567000@uuspokane.org
SUMMARY:LGBTQ+ Senior Group
DESCRIPTION:ZOOM
URL:https://uuspokane.org/event/lgbtq-senior-group-2-2/2026-10-09/
LOCATION:ZOOM
CATEGORIES:Meeting
ORGANIZER;CN="Nancy Avery":MAILTO:NancyTavery@comcast.net
END:VEVENT
BEGIN:VEVENT
DTSTART;TZID=America/Los_Angeles:20261016T160000
DTEND;TZID=America/Los_Angeles:20261016T173000
DTSTAMP:20260423T140759
CREATED:20260414T155358Z
LAST-MODIFIED:20260414T155358Z
UID:10000560-1792166400-1792171800@uuspokane.org
SUMMARY:LGBTQ+ Senior Group
DESCRIPTION:ZOOM
URL:https://uuspokane.org/event/lgbtq-senior-group-2-2/2026-10-16/
LOCATION:ZOOM
CATEGORIES:Meeting
ORGANIZER;CN="Nancy Avery":MAILTO:NancyTavery@comcast.net
END:VEVENT
BEGIN:VEVENT
DTSTART;TZID=America/Los_Angeles:20261022T160000
DTEND;TZID=America/Los_Angeles:20261022T170000
DTSTAMP:20260423T140759
CREATED:20250924T192847Z
LAST-MODIFIED:20250924T192920Z
UID:10000398-1792684800-1792688400@uuspokane.org
SUMMARY:Endowment Team Meeting
DESCRIPTION:Zoom
URL:https://uuspokane.org/event/endowment-team-meeting/2026-10-22/
LOCATION:ZOOM
CATEGORIES:Meeting
END:VEVENT
BEGIN:VEVENT
DTSTART;TZID=America/Los_Angeles:20261023T160000
DTEND;TZID=America/Los_Angeles:20261023T173000
DTSTAMP:20260423T140759
CREATED:20260414T155358Z
LAST-MODIFIED:20260414T155358Z
UID:10000561-1792771200-1792776600@uuspokane.org
SUMMARY:LGBTQ+ Senior Group
DESCRIPTION:ZOOM
URL:https://uuspokane.org/event/lgbtq-senior-group-2-2/2026-10-23/
LOCATION:ZOOM
CATEGORIES:Meeting
ORGANIZER;CN="Nancy Avery":MAILTO:NancyTavery@comcast.net
END:VEVENT
BEGIN:VEVENT
DTSTART;TZID=America/Los_Angeles:20261030T160000
DTEND;TZID=America/Los_Angeles:20261030T173000
DTSTAMP:20260423T140759
CREATED:20260414T155358Z
LAST-MODIFIED:20260414T155358Z
UID:10000562-1793376000-1793381400@uuspokane.org
SUMMARY:LGBTQ+ Senior Group
DESCRIPTION:ZOOM
URL:https://uuspokane.org/event/lgbtq-senior-group-2-2/2026-10-30/
LOCATION:ZOOM
CATEGORIES:Meeting
ORGANIZER;CN="Nancy Avery":MAILTO:NancyTavery@comcast.net
END:VEVENT
BEGIN:VEVENT
DTSTART;TZID=America/Los_Angeles:20261104T140000
DTEND;TZID=America/Los_Angeles:20261104T160000
DTSTAMP:20260423T140759
CREATED:20250925T232509Z
LAST-MODIFIED:20250925T232509Z
UID:10003315-1793800800-1793808000@uuspokane.org
SUMMARY:Pastoral Care Team Planning Meeting
DESCRIPTION:
URL:https://uuspokane.org/event/pastoral-care-team-planning-meeting/2026-11-04/
LOCATION:ZOOM
CATEGORIES:Meeting
END:VEVENT
BEGIN:VEVENT
DTSTART;TZID=America/Los_Angeles:20261105T140000
DTEND;TZID=America/Los_Angeles:20261105T160000
DTSTAMP:20260423T140759
CREATED:20260122T180054Z
LAST-MODIFIED:20260122T180054Z
UID:10003914-1793887200-1793894400@uuspokane.org
SUMMARY:Retirement Group (closed meeting)
DESCRIPTION:
URL:https://uuspokane.org/event/retirement-group-closed-meeting-2/2026-11-05/
LOCATION:ZOOM
CATEGORIES:Meeting
END:VEVENT
BEGIN:VEVENT
DTSTART;TZID=America/Los_Angeles:20261106T160000
DTEND;TZID=America/Los_Angeles:20261106T173000
DTSTAMP:20260423T140759
CREATED:20260414T155358Z
LAST-MODIFIED:20260414T155358Z
UID:10000563-1793980800-1793986200@uuspokane.org
SUMMARY:LGBTQ+ Senior Group
DESCRIPTION:ZOOM
URL:https://uuspokane.org/event/lgbtq-senior-group-2-2/2026-11-06/
LOCATION:ZOOM
CATEGORIES:Meeting
ORGANIZER;CN="Nancy Avery":MAILTO:NancyTavery@comcast.net
END:VEVENT
END:VCALENDAR