BEGIN:VCALENDAR
VERSION:2.0
PRODID:-//Unitarian Universalist Church of Spokane - ECPv6.15.20//NONSGML v1.0//EN
CALSCALE:GREGORIAN
METHOD:PUBLISH
X-ORIGINAL-URL:https://uuspokane.org
X-WR-CALDESC:Events for Unitarian Universalist Church of Spokane
REFRESH-INTERVAL;VALUE=DURATION:PT1H
X-Robots-Tag:noindex
X-PUBLISHED-TTL:PT1H
BEGIN:VTIMEZONE
TZID:America/Los_Angeles
BEGIN:DAYLIGHT
TZOFFSETFROM:-0800
TZOFFSETTO:-0700
TZNAME:PDT
DTSTART:20280312T100000
END:DAYLIGHT
BEGIN:STANDARD
TZOFFSETFROM:-0700
TZOFFSETTO:-0800
TZNAME:PST
DTSTART:20281105T090000
END:STANDARD
BEGIN:DAYLIGHT
TZOFFSETFROM:-0800
TZOFFSETTO:-0700
TZNAME:PDT
DTSTART:20290311T100000
END:DAYLIGHT
BEGIN:STANDARD
TZOFFSETFROM:-0700
TZOFFSETTO:-0800
TZNAME:PST
DTSTART:20291104T090000
END:STANDARD
BEGIN:DAYLIGHT
TZOFFSETFROM:-0800
TZOFFSETTO:-0700
TZNAME:PDT
DTSTART:20300310T100000
END:DAYLIGHT
BEGIN:STANDARD
TZOFFSETFROM:-0700
TZOFFSETTO:-0800
TZNAME:PST
DTSTART:20301103T090000
END:STANDARD
BEGIN:DAYLIGHT
TZOFFSETFROM:-0800
TZOFFSETTO:-0700
TZNAME:PDT
DTSTART:20310309T100000
END:DAYLIGHT
BEGIN:STANDARD
TZOFFSETFROM:-0700
TZOFFSETTO:-0800
TZNAME:PST
DTSTART:20311102T090000
END:STANDARD
END:VTIMEZONE
BEGIN:VEVENT
DTSTART;TZID=America/Los_Angeles:20291102T160000
DTEND;TZID=America/Los_Angeles:20291102T173000
DTSTAMP:20260425T161701
CREATED:20260414T155358Z
LAST-MODIFIED:20260414T155358Z
UID:10000719-1888329600-1888335000@uuspokane.org
SUMMARY:LGBTQ+ Senior Group
DESCRIPTION:ZOOM
URL:https://uuspokane.org/event/lgbtq-senior-group-2-2/2029-11-02/
LOCATION:ZOOM
CATEGORIES:Meeting
ORGANIZER;CN="Nancy Avery":MAILTO:NancyTavery@comcast.net
END:VEVENT
BEGIN:VEVENT
DTSTART;TZID=America/Los_Angeles:20291107T140000
DTEND;TZID=America/Los_Angeles:20291107T160000
DTSTAMP:20260425T161701
CREATED:20250925T232509Z
LAST-MODIFIED:20250925T232509Z
UID:10003351-1888754400-1888761600@uuspokane.org
SUMMARY:Pastoral Care Team Planning Meeting
DESCRIPTION:
URL:https://uuspokane.org/event/pastoral-care-team-planning-meeting/2029-11-07/
LOCATION:ZOOM
CATEGORIES:Meeting
END:VEVENT
BEGIN:VEVENT
DTSTART;TZID=America/Los_Angeles:20291109T160000
DTEND;TZID=America/Los_Angeles:20291109T173000
DTSTAMP:20260425T161701
CREATED:20260414T155358Z
LAST-MODIFIED:20260414T155358Z
UID:10000720-1888934400-1888939800@uuspokane.org
SUMMARY:LGBTQ+ Senior Group
DESCRIPTION:ZOOM
URL:https://uuspokane.org/event/lgbtq-senior-group-2-2/2029-11-09/
LOCATION:ZOOM
CATEGORIES:Meeting
ORGANIZER;CN="Nancy Avery":MAILTO:NancyTavery@comcast.net
END:VEVENT
BEGIN:VEVENT
DTSTART;TZID=America/Los_Angeles:20291116T160000
DTEND;TZID=America/Los_Angeles:20291116T173000
DTSTAMP:20260425T161701
CREATED:20260414T155358Z
LAST-MODIFIED:20260414T155358Z
UID:10000721-1889539200-1889544600@uuspokane.org
SUMMARY:LGBTQ+ Senior Group
DESCRIPTION:ZOOM
URL:https://uuspokane.org/event/lgbtq-senior-group-2-2/2029-11-16/
LOCATION:ZOOM
CATEGORIES:Meeting
ORGANIZER;CN="Nancy Avery":MAILTO:NancyTavery@comcast.net
END:VEVENT
BEGIN:VEVENT
DTSTART;TZID=America/Los_Angeles:20291122T160000
DTEND;TZID=America/Los_Angeles:20291122T170000
DTSTAMP:20260425T161701
CREATED:20250924T192847Z
LAST-MODIFIED:20250924T192920Z
UID:10000435-1890057600-1890061200@uuspokane.org
SUMMARY:Endowment Team Meeting
DESCRIPTION:Zoom
URL:https://uuspokane.org/event/endowment-team-meeting/2029-11-22/
LOCATION:ZOOM
CATEGORIES:Meeting
END:VEVENT
BEGIN:VEVENT
DTSTART;TZID=America/Los_Angeles:20291123T160000
DTEND;TZID=America/Los_Angeles:20291123T173000
DTSTAMP:20260425T161701
CREATED:20260414T155358Z
LAST-MODIFIED:20260414T155358Z
UID:10000722-1890144000-1890149400@uuspokane.org
SUMMARY:LGBTQ+ Senior Group
DESCRIPTION:ZOOM
URL:https://uuspokane.org/event/lgbtq-senior-group-2-2/2029-11-23/
LOCATION:ZOOM
CATEGORIES:Meeting
ORGANIZER;CN="Nancy Avery":MAILTO:NancyTavery@comcast.net
END:VEVENT
BEGIN:VEVENT
DTSTART;TZID=America/Los_Angeles:20291130T160000
DTEND;TZID=America/Los_Angeles:20291130T173000
DTSTAMP:20260425T161701
CREATED:20260414T155358Z
LAST-MODIFIED:20260414T155358Z
UID:10000723-1890748800-1890754200@uuspokane.org
SUMMARY:LGBTQ+ Senior Group
DESCRIPTION:ZOOM
URL:https://uuspokane.org/event/lgbtq-senior-group-2-2/2029-11-30/
LOCATION:ZOOM
CATEGORIES:Meeting
ORGANIZER;CN="Nancy Avery":MAILTO:NancyTavery@comcast.net
END:VEVENT
BEGIN:VEVENT
DTSTART;TZID=America/Los_Angeles:20291205T140000
DTEND;TZID=America/Los_Angeles:20291205T160000
DTSTAMP:20260425T161701
CREATED:20250925T232509Z
LAST-MODIFIED:20250925T232509Z
UID:10003352-1891173600-1891180800@uuspokane.org
SUMMARY:Pastoral Care Team Planning Meeting
DESCRIPTION:
URL:https://uuspokane.org/event/pastoral-care-team-planning-meeting/2029-12-05/
LOCATION:ZOOM
CATEGORIES:Meeting
END:VEVENT
BEGIN:VEVENT
DTSTART;TZID=America/Los_Angeles:20291206T140000
DTEND;TZID=America/Los_Angeles:20291206T160000
DTSTAMP:20260425T161701
CREATED:20260122T180054Z
LAST-MODIFIED:20260122T180054Z
UID:10003951-1891260000-1891267200@uuspokane.org
SUMMARY:Retirement Group (closed meeting)
DESCRIPTION:
URL:https://uuspokane.org/event/retirement-group-closed-meeting-2/2029-12-06/
LOCATION:ZOOM
CATEGORIES:Meeting
END:VEVENT
BEGIN:VEVENT
DTSTART;TZID=America/Los_Angeles:20291207T160000
DTEND;TZID=America/Los_Angeles:20291207T173000
DTSTAMP:20260425T161701
CREATED:20260414T155358Z
LAST-MODIFIED:20260414T155358Z
UID:10000724-1891353600-1891359000@uuspokane.org
SUMMARY:LGBTQ+ Senior Group
DESCRIPTION:ZOOM
URL:https://uuspokane.org/event/lgbtq-senior-group-2-2/2029-12-07/
LOCATION:ZOOM
CATEGORIES:Meeting
ORGANIZER;CN="Nancy Avery":MAILTO:NancyTavery@comcast.net
END:VEVENT
BEGIN:VEVENT
DTSTART;TZID=America/Los_Angeles:20291214T160000
DTEND;TZID=America/Los_Angeles:20291214T173000
DTSTAMP:20260425T161701
CREATED:20260414T155358Z
LAST-MODIFIED:20260414T155358Z
UID:10000725-1891958400-1891963800@uuspokane.org
SUMMARY:LGBTQ+ Senior Group
DESCRIPTION:ZOOM
URL:https://uuspokane.org/event/lgbtq-senior-group-2-2/2029-12-14/
LOCATION:ZOOM
CATEGORIES:Meeting
ORGANIZER;CN="Nancy Avery":MAILTO:NancyTavery@comcast.net
END:VEVENT
BEGIN:VEVENT
DTSTART;TZID=America/Los_Angeles:20291221T160000
DTEND;TZID=America/Los_Angeles:20291221T173000
DTSTAMP:20260425T161701
CREATED:20260414T155358Z
LAST-MODIFIED:20260414T155358Z
UID:10000726-1892563200-1892568600@uuspokane.org
SUMMARY:LGBTQ+ Senior Group
DESCRIPTION:ZOOM
URL:https://uuspokane.org/event/lgbtq-senior-group-2-2/2029-12-21/
LOCATION:ZOOM
CATEGORIES:Meeting
ORGANIZER;CN="Nancy Avery":MAILTO:NancyTavery@comcast.net
END:VEVENT
BEGIN:VEVENT
DTSTART;TZID=America/Los_Angeles:20291227T160000
DTEND;TZID=America/Los_Angeles:20291227T170000
DTSTAMP:20260425T161701
CREATED:20250924T192847Z
LAST-MODIFIED:20250924T192920Z
UID:10000436-1893081600-1893085200@uuspokane.org
SUMMARY:Endowment Team Meeting
DESCRIPTION:Zoom
URL:https://uuspokane.org/event/endowment-team-meeting/2029-12-27/
LOCATION:ZOOM
CATEGORIES:Meeting
END:VEVENT
BEGIN:VEVENT
DTSTART;TZID=America/Los_Angeles:20291228T160000
DTEND;TZID=America/Los_Angeles:20291228T173000
DTSTAMP:20260425T161701
CREATED:20260414T155358Z
LAST-MODIFIED:20260414T155358Z
UID:10000727-1893168000-1893173400@uuspokane.org
SUMMARY:LGBTQ+ Senior Group
DESCRIPTION:ZOOM
URL:https://uuspokane.org/event/lgbtq-senior-group-2-2/2029-12-28/
LOCATION:ZOOM
CATEGORIES:Meeting
ORGANIZER;CN="Nancy Avery":MAILTO:NancyTavery@comcast.net
END:VEVENT
BEGIN:VEVENT
DTSTART;TZID=America/Los_Angeles:20300102T140000
DTEND;TZID=America/Los_Angeles:20300102T160000
DTSTAMP:20260425T161701
CREATED:20250925T232509Z
LAST-MODIFIED:20250925T232509Z
UID:10003353-1893592800-1893600000@uuspokane.org
SUMMARY:Pastoral Care Team Planning Meeting
DESCRIPTION:
URL:https://uuspokane.org/event/pastoral-care-team-planning-meeting/2030-01-02/
LOCATION:ZOOM
CATEGORIES:Meeting
END:VEVENT
BEGIN:VEVENT
DTSTART;TZID=America/Los_Angeles:20300103T140000
DTEND;TZID=America/Los_Angeles:20300103T160000
DTSTAMP:20260425T161701
CREATED:20260122T180054Z
LAST-MODIFIED:20260122T180054Z
UID:10003952-1893679200-1893686400@uuspokane.org
SUMMARY:Retirement Group (closed meeting)
DESCRIPTION:
URL:https://uuspokane.org/event/retirement-group-closed-meeting-2/2030-01-03/
LOCATION:ZOOM
CATEGORIES:Meeting
END:VEVENT
BEGIN:VEVENT
DTSTART;TZID=America/Los_Angeles:20300104T160000
DTEND;TZID=America/Los_Angeles:20300104T173000
DTSTAMP:20260425T161701
CREATED:20260414T155358Z
LAST-MODIFIED:20260414T155358Z
UID:10000728-1893772800-1893778200@uuspokane.org
SUMMARY:LGBTQ+ Senior Group
DESCRIPTION:ZOOM
URL:https://uuspokane.org/event/lgbtq-senior-group-2-2/2030-01-04/
LOCATION:ZOOM
CATEGORIES:Meeting
ORGANIZER;CN="Nancy Avery":MAILTO:NancyTavery@comcast.net
END:VEVENT
BEGIN:VEVENT
DTSTART;TZID=America/Los_Angeles:20300111T160000
DTEND;TZID=America/Los_Angeles:20300111T173000
DTSTAMP:20260425T161701
CREATED:20260414T155358Z
LAST-MODIFIED:20260414T155358Z
UID:10000729-1894377600-1894383000@uuspokane.org
SUMMARY:LGBTQ+ Senior Group
DESCRIPTION:ZOOM
URL:https://uuspokane.org/event/lgbtq-senior-group-2-2/2030-01-11/
LOCATION:ZOOM
CATEGORIES:Meeting
ORGANIZER;CN="Nancy Avery":MAILTO:NancyTavery@comcast.net
END:VEVENT
BEGIN:VEVENT
DTSTART;TZID=America/Los_Angeles:20300118T160000
DTEND;TZID=America/Los_Angeles:20300118T173000
DTSTAMP:20260425T161701
CREATED:20260414T155358Z
LAST-MODIFIED:20260414T155358Z
UID:10000730-1894982400-1894987800@uuspokane.org
SUMMARY:LGBTQ+ Senior Group
DESCRIPTION:ZOOM
URL:https://uuspokane.org/event/lgbtq-senior-group-2-2/2030-01-18/
LOCATION:ZOOM
CATEGORIES:Meeting
ORGANIZER;CN="Nancy Avery":MAILTO:NancyTavery@comcast.net
END:VEVENT
BEGIN:VEVENT
DTSTART;TZID=America/Los_Angeles:20300124T160000
DTEND;TZID=America/Los_Angeles:20300124T170000
DTSTAMP:20260425T161701
CREATED:20250924T192847Z
LAST-MODIFIED:20250924T192920Z
UID:10000437-1895500800-1895504400@uuspokane.org
SUMMARY:Endowment Team Meeting
DESCRIPTION:Zoom
URL:https://uuspokane.org/event/endowment-team-meeting/2030-01-24/
LOCATION:ZOOM
CATEGORIES:Meeting
END:VEVENT
BEGIN:VEVENT
DTSTART;TZID=America/Los_Angeles:20300125T160000
DTEND;TZID=America/Los_Angeles:20300125T173000
DTSTAMP:20260425T161701
CREATED:20260414T155358Z
LAST-MODIFIED:20260414T155358Z
UID:10000731-1895587200-1895592600@uuspokane.org
SUMMARY:LGBTQ+ Senior Group
DESCRIPTION:ZOOM
URL:https://uuspokane.org/event/lgbtq-senior-group-2-2/2030-01-25/
LOCATION:ZOOM
CATEGORIES:Meeting
ORGANIZER;CN="Nancy Avery":MAILTO:NancyTavery@comcast.net
END:VEVENT
BEGIN:VEVENT
DTSTART;TZID=America/Los_Angeles:20300201T160000
DTEND;TZID=America/Los_Angeles:20300201T173000
DTSTAMP:20260425T161701
CREATED:20260414T155358Z
LAST-MODIFIED:20260414T155358Z
UID:10000732-1896192000-1896197400@uuspokane.org
SUMMARY:LGBTQ+ Senior Group
DESCRIPTION:ZOOM
URL:https://uuspokane.org/event/lgbtq-senior-group-2-2/2030-02-01/
LOCATION:ZOOM
CATEGORIES:Meeting
ORGANIZER;CN="Nancy Avery":MAILTO:NancyTavery@comcast.net
END:VEVENT
BEGIN:VEVENT
DTSTART;TZID=America/Los_Angeles:20300206T140000
DTEND;TZID=America/Los_Angeles:20300206T160000
DTSTAMP:20260425T161701
CREATED:20250925T232509Z
LAST-MODIFIED:20250925T232509Z
UID:10003354-1896616800-1896624000@uuspokane.org
SUMMARY:Pastoral Care Team Planning Meeting
DESCRIPTION:
URL:https://uuspokane.org/event/pastoral-care-team-planning-meeting/2030-02-06/
LOCATION:ZOOM
CATEGORIES:Meeting
END:VEVENT
BEGIN:VEVENT
DTSTART;TZID=America/Los_Angeles:20300207T140000
DTEND;TZID=America/Los_Angeles:20300207T160000
DTSTAMP:20260425T161701
CREATED:20260122T180054Z
LAST-MODIFIED:20260122T180054Z
UID:10003953-1896703200-1896710400@uuspokane.org
SUMMARY:Retirement Group (closed meeting)
DESCRIPTION:
URL:https://uuspokane.org/event/retirement-group-closed-meeting-2/2030-02-07/
LOCATION:ZOOM
CATEGORIES:Meeting
END:VEVENT
BEGIN:VEVENT
DTSTART;TZID=America/Los_Angeles:20300208T160000
DTEND;TZID=America/Los_Angeles:20300208T173000
DTSTAMP:20260425T161701
CREATED:20260414T155358Z
LAST-MODIFIED:20260414T155358Z
UID:10000733-1896796800-1896802200@uuspokane.org
SUMMARY:LGBTQ+ Senior Group
DESCRIPTION:ZOOM
URL:https://uuspokane.org/event/lgbtq-senior-group-2-2/2030-02-08/
LOCATION:ZOOM
CATEGORIES:Meeting
ORGANIZER;CN="Nancy Avery":MAILTO:NancyTavery@comcast.net
END:VEVENT
BEGIN:VEVENT
DTSTART;TZID=America/Los_Angeles:20300215T160000
DTEND;TZID=America/Los_Angeles:20300215T173000
DTSTAMP:20260425T161701
CREATED:20260414T155358Z
LAST-MODIFIED:20260414T155358Z
UID:10000734-1897401600-1897407000@uuspokane.org
SUMMARY:LGBTQ+ Senior Group
DESCRIPTION:ZOOM
URL:https://uuspokane.org/event/lgbtq-senior-group-2-2/2030-02-15/
LOCATION:ZOOM
CATEGORIES:Meeting
ORGANIZER;CN="Nancy Avery":MAILTO:NancyTavery@comcast.net
END:VEVENT
BEGIN:VEVENT
DTSTART;TZID=America/Los_Angeles:20300222T160000
DTEND;TZID=America/Los_Angeles:20300222T173000
DTSTAMP:20260425T161701
CREATED:20260414T155358Z
LAST-MODIFIED:20260414T155358Z
UID:10000735-1898006400-1898011800@uuspokane.org
SUMMARY:LGBTQ+ Senior Group
DESCRIPTION:ZOOM
URL:https://uuspokane.org/event/lgbtq-senior-group-2-2/2030-02-22/
LOCATION:ZOOM
CATEGORIES:Meeting
ORGANIZER;CN="Nancy Avery":MAILTO:NancyTavery@comcast.net
END:VEVENT
BEGIN:VEVENT
DTSTART;TZID=America/Los_Angeles:20300228T160000
DTEND;TZID=America/Los_Angeles:20300228T170000
DTSTAMP:20260425T161701
CREATED:20250924T192847Z
LAST-MODIFIED:20250924T192920Z
UID:10000438-1898524800-1898528400@uuspokane.org
SUMMARY:Endowment Team Meeting
DESCRIPTION:Zoom
URL:https://uuspokane.org/event/endowment-team-meeting/2030-02-28/
LOCATION:ZOOM
CATEGORIES:Meeting
END:VEVENT
BEGIN:VEVENT
DTSTART;TZID=America/Los_Angeles:20300301T160000
DTEND;TZID=America/Los_Angeles:20300301T173000
DTSTAMP:20260425T161701
CREATED:20260414T155358Z
LAST-MODIFIED:20260414T155358Z
UID:10000736-1898611200-1898616600@uuspokane.org
SUMMARY:LGBTQ+ Senior Group
DESCRIPTION:ZOOM
URL:https://uuspokane.org/event/lgbtq-senior-group-2-2/2030-03-01/
LOCATION:ZOOM
CATEGORIES:Meeting
ORGANIZER;CN="Nancy Avery":MAILTO:NancyTavery@comcast.net
END:VEVENT
BEGIN:VEVENT
DTSTART;TZID=America/Los_Angeles:20300306T140000
DTEND;TZID=America/Los_Angeles:20300306T160000
DTSTAMP:20260425T161701
CREATED:20250925T232509Z
LAST-MODIFIED:20250925T232509Z
UID:10003355-1899036000-1899043200@uuspokane.org
SUMMARY:Pastoral Care Team Planning Meeting
DESCRIPTION:
URL:https://uuspokane.org/event/pastoral-care-team-planning-meeting/2030-03-06/
LOCATION:ZOOM
CATEGORIES:Meeting
END:VEVENT
END:VCALENDAR