BEGIN:VCALENDAR
VERSION:2.0
PRODID:-//Unitarian Universalist Church of Spokane - ECPv6.15.20//NONSGML v1.0//EN
CALSCALE:GREGORIAN
METHOD:PUBLISH
X-ORIGINAL-URL:https://uuspokane.org
X-WR-CALDESC:Events for Unitarian Universalist Church of Spokane
REFRESH-INTERVAL;VALUE=DURATION:PT1H
X-Robots-Tag:noindex
X-PUBLISHED-TTL:PT1H
BEGIN:VTIMEZONE
TZID:America/Los_Angeles
BEGIN:DAYLIGHT
TZOFFSETFROM:-0800
TZOFFSETTO:-0700
TZNAME:PDT
DTSTART:20250309T100000
END:DAYLIGHT
BEGIN:STANDARD
TZOFFSETFROM:-0700
TZOFFSETTO:-0800
TZNAME:PST
DTSTART:20251102T090000
END:STANDARD
BEGIN:DAYLIGHT
TZOFFSETFROM:-0800
TZOFFSETTO:-0700
TZNAME:PDT
DTSTART:20260308T100000
END:DAYLIGHT
BEGIN:STANDARD
TZOFFSETFROM:-0700
TZOFFSETTO:-0800
TZNAME:PST
DTSTART:20261101T090000
END:STANDARD
BEGIN:DAYLIGHT
TZOFFSETFROM:-0800
TZOFFSETTO:-0700
TZNAME:PDT
DTSTART:20270314T100000
END:DAYLIGHT
BEGIN:STANDARD
TZOFFSETFROM:-0700
TZOFFSETTO:-0800
TZNAME:PST
DTSTART:20271107T090000
END:STANDARD
BEGIN:DAYLIGHT
TZOFFSETFROM:-0800
TZOFFSETTO:-0700
TZNAME:PDT
DTSTART:20280312T100000
END:DAYLIGHT
BEGIN:STANDARD
TZOFFSETFROM:-0700
TZOFFSETTO:-0800
TZNAME:PST
DTSTART:20281105T090000
END:STANDARD
END:VTIMEZONE
BEGIN:VEVENT
DTSTART;TZID=America/Los_Angeles:20261007T140000
DTEND;TZID=America/Los_Angeles:20261007T160000
DTSTAMP:20260423T172119
CREATED:20250925T232509Z
LAST-MODIFIED:20250925T232509Z
UID:10003314-1791381600-1791388800@uuspokane.org
SUMMARY:Pastoral Care Team Planning Meeting
DESCRIPTION:
URL:https://uuspokane.org/event/pastoral-care-team-planning-meeting/2026-10-07/
LOCATION:ZOOM
CATEGORIES:Meeting
END:VEVENT
BEGIN:VEVENT
DTSTART;TZID=America/Los_Angeles:20261009T160000
DTEND;TZID=America/Los_Angeles:20261009T173000
DTSTAMP:20260423T172119
CREATED:20260414T155358Z
LAST-MODIFIED:20260414T155358Z
UID:10000559-1791561600-1791567000@uuspokane.org
SUMMARY:LGBTQ+ Senior Group
DESCRIPTION:ZOOM
URL:https://uuspokane.org/event/lgbtq-senior-group-2-2/2026-10-09/
LOCATION:ZOOM
CATEGORIES:Meeting
ORGANIZER;CN="Nancy Avery":MAILTO:NancyTavery@comcast.net
END:VEVENT
BEGIN:VEVENT
DTSTART;TZID=America/Los_Angeles:20261016T160000
DTEND;TZID=America/Los_Angeles:20261016T173000
DTSTAMP:20260423T172119
CREATED:20260414T155358Z
LAST-MODIFIED:20260414T155358Z
UID:10000560-1792166400-1792171800@uuspokane.org
SUMMARY:LGBTQ+ Senior Group
DESCRIPTION:ZOOM
URL:https://uuspokane.org/event/lgbtq-senior-group-2-2/2026-10-16/
LOCATION:ZOOM
CATEGORIES:Meeting
ORGANIZER;CN="Nancy Avery":MAILTO:NancyTavery@comcast.net
END:VEVENT
BEGIN:VEVENT
DTSTART;TZID=America/Los_Angeles:20261022T160000
DTEND;TZID=America/Los_Angeles:20261022T170000
DTSTAMP:20260423T172119
CREATED:20250924T192847Z
LAST-MODIFIED:20250924T192920Z
UID:10000398-1792684800-1792688400@uuspokane.org
SUMMARY:Endowment Team Meeting
DESCRIPTION:Zoom
URL:https://uuspokane.org/event/endowment-team-meeting/2026-10-22/
LOCATION:ZOOM
CATEGORIES:Meeting
END:VEVENT
BEGIN:VEVENT
DTSTART;TZID=America/Los_Angeles:20261023T160000
DTEND;TZID=America/Los_Angeles:20261023T173000
DTSTAMP:20260423T172119
CREATED:20260414T155358Z
LAST-MODIFIED:20260414T155358Z
UID:10000561-1792771200-1792776600@uuspokane.org
SUMMARY:LGBTQ+ Senior Group
DESCRIPTION:ZOOM
URL:https://uuspokane.org/event/lgbtq-senior-group-2-2/2026-10-23/
LOCATION:ZOOM
CATEGORIES:Meeting
ORGANIZER;CN="Nancy Avery":MAILTO:NancyTavery@comcast.net
END:VEVENT
BEGIN:VEVENT
DTSTART;TZID=America/Los_Angeles:20261030T160000
DTEND;TZID=America/Los_Angeles:20261030T173000
DTSTAMP:20260423T172119
CREATED:20260414T155358Z
LAST-MODIFIED:20260414T155358Z
UID:10000562-1793376000-1793381400@uuspokane.org
SUMMARY:LGBTQ+ Senior Group
DESCRIPTION:ZOOM
URL:https://uuspokane.org/event/lgbtq-senior-group-2-2/2026-10-30/
LOCATION:ZOOM
CATEGORIES:Meeting
ORGANIZER;CN="Nancy Avery":MAILTO:NancyTavery@comcast.net
END:VEVENT
BEGIN:VEVENT
DTSTART;TZID=America/Los_Angeles:20261104T140000
DTEND;TZID=America/Los_Angeles:20261104T160000
DTSTAMP:20260423T172119
CREATED:20250925T232509Z
LAST-MODIFIED:20250925T232509Z
UID:10003315-1793800800-1793808000@uuspokane.org
SUMMARY:Pastoral Care Team Planning Meeting
DESCRIPTION:
URL:https://uuspokane.org/event/pastoral-care-team-planning-meeting/2026-11-04/
LOCATION:ZOOM
CATEGORIES:Meeting
END:VEVENT
BEGIN:VEVENT
DTSTART;TZID=America/Los_Angeles:20261105T140000
DTEND;TZID=America/Los_Angeles:20261105T160000
DTSTAMP:20260423T172119
CREATED:20260122T180054Z
LAST-MODIFIED:20260122T180054Z
UID:10003914-1793887200-1793894400@uuspokane.org
SUMMARY:Retirement Group (closed meeting)
DESCRIPTION:
URL:https://uuspokane.org/event/retirement-group-closed-meeting-2/2026-11-05/
LOCATION:ZOOM
CATEGORIES:Meeting
END:VEVENT
BEGIN:VEVENT
DTSTART;TZID=America/Los_Angeles:20261106T160000
DTEND;TZID=America/Los_Angeles:20261106T173000
DTSTAMP:20260423T172119
CREATED:20260414T155358Z
LAST-MODIFIED:20260414T155358Z
UID:10000563-1793980800-1793986200@uuspokane.org
SUMMARY:LGBTQ+ Senior Group
DESCRIPTION:ZOOM
URL:https://uuspokane.org/event/lgbtq-senior-group-2-2/2026-11-06/
LOCATION:ZOOM
CATEGORIES:Meeting
ORGANIZER;CN="Nancy Avery":MAILTO:NancyTavery@comcast.net
END:VEVENT
BEGIN:VEVENT
DTSTART;TZID=America/Los_Angeles:20261113T160000
DTEND;TZID=America/Los_Angeles:20261113T173000
DTSTAMP:20260423T172119
CREATED:20260414T155358Z
LAST-MODIFIED:20260414T155358Z
UID:10000564-1794585600-1794591000@uuspokane.org
SUMMARY:LGBTQ+ Senior Group
DESCRIPTION:ZOOM
URL:https://uuspokane.org/event/lgbtq-senior-group-2-2/2026-11-13/
LOCATION:ZOOM
CATEGORIES:Meeting
ORGANIZER;CN="Nancy Avery":MAILTO:NancyTavery@comcast.net
END:VEVENT
BEGIN:VEVENT
DTSTART;TZID=America/Los_Angeles:20261120T160000
DTEND;TZID=America/Los_Angeles:20261120T173000
DTSTAMP:20260423T172119
CREATED:20260414T155358Z
LAST-MODIFIED:20260414T155358Z
UID:10000565-1795190400-1795195800@uuspokane.org
SUMMARY:LGBTQ+ Senior Group
DESCRIPTION:ZOOM
URL:https://uuspokane.org/event/lgbtq-senior-group-2-2/2026-11-20/
LOCATION:ZOOM
CATEGORIES:Meeting
ORGANIZER;CN="Nancy Avery":MAILTO:NancyTavery@comcast.net
END:VEVENT
BEGIN:VEVENT
DTSTART;TZID=America/Los_Angeles:20261126T160000
DTEND;TZID=America/Los_Angeles:20261126T170000
DTSTAMP:20260423T172119
CREATED:20250924T192847Z
LAST-MODIFIED:20250924T192920Z
UID:10000399-1795708800-1795712400@uuspokane.org
SUMMARY:Endowment Team Meeting
DESCRIPTION:Zoom
URL:https://uuspokane.org/event/endowment-team-meeting/2026-11-26/
LOCATION:ZOOM
CATEGORIES:Meeting
END:VEVENT
BEGIN:VEVENT
DTSTART;TZID=America/Los_Angeles:20261127T160000
DTEND;TZID=America/Los_Angeles:20261127T173000
DTSTAMP:20260423T172119
CREATED:20260414T155358Z
LAST-MODIFIED:20260414T155358Z
UID:10000566-1795795200-1795800600@uuspokane.org
SUMMARY:LGBTQ+ Senior Group
DESCRIPTION:ZOOM
URL:https://uuspokane.org/event/lgbtq-senior-group-2-2/2026-11-27/
LOCATION:ZOOM
CATEGORIES:Meeting
ORGANIZER;CN="Nancy Avery":MAILTO:NancyTavery@comcast.net
END:VEVENT
BEGIN:VEVENT
DTSTART;TZID=America/Los_Angeles:20261202T140000
DTEND;TZID=America/Los_Angeles:20261202T160000
DTSTAMP:20260423T172119
CREATED:20250925T232509Z
LAST-MODIFIED:20250925T232509Z
UID:10003316-1796220000-1796227200@uuspokane.org
SUMMARY:Pastoral Care Team Planning Meeting
DESCRIPTION:
URL:https://uuspokane.org/event/pastoral-care-team-planning-meeting/2026-12-02/
LOCATION:ZOOM
CATEGORIES:Meeting
END:VEVENT
BEGIN:VEVENT
DTSTART;TZID=America/Los_Angeles:20261203T140000
DTEND;TZID=America/Los_Angeles:20261203T160000
DTSTAMP:20260423T172119
CREATED:20260122T180054Z
LAST-MODIFIED:20260122T180054Z
UID:10003915-1796306400-1796313600@uuspokane.org
SUMMARY:Retirement Group (closed meeting)
DESCRIPTION:
URL:https://uuspokane.org/event/retirement-group-closed-meeting-2/2026-12-03/
LOCATION:ZOOM
CATEGORIES:Meeting
END:VEVENT
BEGIN:VEVENT
DTSTART;TZID=America/Los_Angeles:20261204T160000
DTEND;TZID=America/Los_Angeles:20261204T173000
DTSTAMP:20260423T172119
CREATED:20260414T155358Z
LAST-MODIFIED:20260414T155358Z
UID:10000567-1796400000-1796405400@uuspokane.org
SUMMARY:LGBTQ+ Senior Group
DESCRIPTION:ZOOM
URL:https://uuspokane.org/event/lgbtq-senior-group-2-2/2026-12-04/
LOCATION:ZOOM
CATEGORIES:Meeting
ORGANIZER;CN="Nancy Avery":MAILTO:NancyTavery@comcast.net
END:VEVENT
BEGIN:VEVENT
DTSTART;TZID=America/Los_Angeles:20261211T160000
DTEND;TZID=America/Los_Angeles:20261211T173000
DTSTAMP:20260423T172119
CREATED:20260414T155358Z
LAST-MODIFIED:20260414T155358Z
UID:10000568-1797004800-1797010200@uuspokane.org
SUMMARY:LGBTQ+ Senior Group
DESCRIPTION:ZOOM
URL:https://uuspokane.org/event/lgbtq-senior-group-2-2/2026-12-11/
LOCATION:ZOOM
CATEGORIES:Meeting
ORGANIZER;CN="Nancy Avery":MAILTO:NancyTavery@comcast.net
END:VEVENT
BEGIN:VEVENT
DTSTART;TZID=America/Los_Angeles:20261218T160000
DTEND;TZID=America/Los_Angeles:20261218T173000
DTSTAMP:20260423T172119
CREATED:20260414T155358Z
LAST-MODIFIED:20260414T155358Z
UID:10000569-1797609600-1797615000@uuspokane.org
SUMMARY:LGBTQ+ Senior Group
DESCRIPTION:ZOOM
URL:https://uuspokane.org/event/lgbtq-senior-group-2-2/2026-12-18/
LOCATION:ZOOM
CATEGORIES:Meeting
ORGANIZER;CN="Nancy Avery":MAILTO:NancyTavery@comcast.net
END:VEVENT
BEGIN:VEVENT
DTSTART;TZID=America/Los_Angeles:20261224T160000
DTEND;TZID=America/Los_Angeles:20261224T170000
DTSTAMP:20260423T172119
CREATED:20250924T192847Z
LAST-MODIFIED:20250924T192920Z
UID:10000400-1798128000-1798131600@uuspokane.org
SUMMARY:Endowment Team Meeting
DESCRIPTION:Zoom
URL:https://uuspokane.org/event/endowment-team-meeting/2026-12-24/
LOCATION:ZOOM
CATEGORIES:Meeting
END:VEVENT
BEGIN:VEVENT
DTSTART;TZID=America/Los_Angeles:20261225T160000
DTEND;TZID=America/Los_Angeles:20261225T173000
DTSTAMP:20260423T172119
CREATED:20260414T155358Z
LAST-MODIFIED:20260414T155358Z
UID:10000570-1798214400-1798219800@uuspokane.org
SUMMARY:LGBTQ+ Senior Group
DESCRIPTION:ZOOM
URL:https://uuspokane.org/event/lgbtq-senior-group-2-2/2026-12-25/
LOCATION:ZOOM
CATEGORIES:Meeting
ORGANIZER;CN="Nancy Avery":MAILTO:NancyTavery@comcast.net
END:VEVENT
BEGIN:VEVENT
DTSTART;TZID=America/Los_Angeles:20270101T160000
DTEND;TZID=America/Los_Angeles:20270101T173000
DTSTAMP:20260423T172119
CREATED:20260414T155358Z
LAST-MODIFIED:20260414T155358Z
UID:10000571-1798819200-1798824600@uuspokane.org
SUMMARY:LGBTQ+ Senior Group
DESCRIPTION:ZOOM
URL:https://uuspokane.org/event/lgbtq-senior-group-2-2/2027-01-01/
LOCATION:ZOOM
CATEGORIES:Meeting
ORGANIZER;CN="Nancy Avery":MAILTO:NancyTavery@comcast.net
END:VEVENT
BEGIN:VEVENT
DTSTART;TZID=America/Los_Angeles:20270106T140000
DTEND;TZID=America/Los_Angeles:20270106T160000
DTSTAMP:20260423T172119
CREATED:20250925T232509Z
LAST-MODIFIED:20250925T232509Z
UID:10003317-1799244000-1799251200@uuspokane.org
SUMMARY:Pastoral Care Team Planning Meeting
DESCRIPTION:
URL:https://uuspokane.org/event/pastoral-care-team-planning-meeting/2027-01-06/
LOCATION:ZOOM
CATEGORIES:Meeting
END:VEVENT
BEGIN:VEVENT
DTSTART;TZID=America/Los_Angeles:20270107T140000
DTEND;TZID=America/Los_Angeles:20270107T160000
DTSTAMP:20260423T172119
CREATED:20260122T180054Z
LAST-MODIFIED:20260122T180054Z
UID:10003916-1799330400-1799337600@uuspokane.org
SUMMARY:Retirement Group (closed meeting)
DESCRIPTION:
URL:https://uuspokane.org/event/retirement-group-closed-meeting-2/2027-01-07/
LOCATION:ZOOM
CATEGORIES:Meeting
END:VEVENT
BEGIN:VEVENT
DTSTART;TZID=America/Los_Angeles:20270108T160000
DTEND;TZID=America/Los_Angeles:20270108T173000
DTSTAMP:20260423T172119
CREATED:20260414T155358Z
LAST-MODIFIED:20260414T155358Z
UID:10000572-1799424000-1799429400@uuspokane.org
SUMMARY:LGBTQ+ Senior Group
DESCRIPTION:ZOOM
URL:https://uuspokane.org/event/lgbtq-senior-group-2-2/2027-01-08/
LOCATION:ZOOM
CATEGORIES:Meeting
ORGANIZER;CN="Nancy Avery":MAILTO:NancyTavery@comcast.net
END:VEVENT
BEGIN:VEVENT
DTSTART;TZID=America/Los_Angeles:20270115T160000
DTEND;TZID=America/Los_Angeles:20270115T173000
DTSTAMP:20260423T172119
CREATED:20260414T155358Z
LAST-MODIFIED:20260414T155358Z
UID:10000573-1800028800-1800034200@uuspokane.org
SUMMARY:LGBTQ+ Senior Group
DESCRIPTION:ZOOM
URL:https://uuspokane.org/event/lgbtq-senior-group-2-2/2027-01-15/
LOCATION:ZOOM
CATEGORIES:Meeting
ORGANIZER;CN="Nancy Avery":MAILTO:NancyTavery@comcast.net
END:VEVENT
BEGIN:VEVENT
DTSTART;TZID=America/Los_Angeles:20270122T160000
DTEND;TZID=America/Los_Angeles:20270122T173000
DTSTAMP:20260423T172119
CREATED:20260414T155358Z
LAST-MODIFIED:20260414T155358Z
UID:10000574-1800633600-1800639000@uuspokane.org
SUMMARY:LGBTQ+ Senior Group
DESCRIPTION:ZOOM
URL:https://uuspokane.org/event/lgbtq-senior-group-2-2/2027-01-22/
LOCATION:ZOOM
CATEGORIES:Meeting
ORGANIZER;CN="Nancy Avery":MAILTO:NancyTavery@comcast.net
END:VEVENT
BEGIN:VEVENT
DTSTART;TZID=America/Los_Angeles:20270128T160000
DTEND;TZID=America/Los_Angeles:20270128T170000
DTSTAMP:20260423T172119
CREATED:20250924T192847Z
LAST-MODIFIED:20250924T192920Z
UID:10000401-1801152000-1801155600@uuspokane.org
SUMMARY:Endowment Team Meeting
DESCRIPTION:Zoom
URL:https://uuspokane.org/event/endowment-team-meeting/2027-01-28/
LOCATION:ZOOM
CATEGORIES:Meeting
END:VEVENT
BEGIN:VEVENT
DTSTART;TZID=America/Los_Angeles:20270129T160000
DTEND;TZID=America/Los_Angeles:20270129T173000
DTSTAMP:20260423T172119
CREATED:20260414T155358Z
LAST-MODIFIED:20260414T155358Z
UID:10000575-1801238400-1801243800@uuspokane.org
SUMMARY:LGBTQ+ Senior Group
DESCRIPTION:ZOOM
URL:https://uuspokane.org/event/lgbtq-senior-group-2-2/2027-01-29/
LOCATION:ZOOM
CATEGORIES:Meeting
ORGANIZER;CN="Nancy Avery":MAILTO:NancyTavery@comcast.net
END:VEVENT
BEGIN:VEVENT
DTSTART;TZID=America/Los_Angeles:20270203T140000
DTEND;TZID=America/Los_Angeles:20270203T160000
DTSTAMP:20260423T172119
CREATED:20250925T232509Z
LAST-MODIFIED:20250925T232509Z
UID:10003318-1801663200-1801670400@uuspokane.org
SUMMARY:Pastoral Care Team Planning Meeting
DESCRIPTION:
URL:https://uuspokane.org/event/pastoral-care-team-planning-meeting/2027-02-03/
LOCATION:ZOOM
CATEGORIES:Meeting
END:VEVENT
BEGIN:VEVENT
DTSTART;TZID=America/Los_Angeles:20270204T140000
DTEND;TZID=America/Los_Angeles:20270204T160000
DTSTAMP:20260423T172119
CREATED:20260122T180054Z
LAST-MODIFIED:20260122T180054Z
UID:10003917-1801749600-1801756800@uuspokane.org
SUMMARY:Retirement Group (closed meeting)
DESCRIPTION:
URL:https://uuspokane.org/event/retirement-group-closed-meeting-2/2027-02-04/
LOCATION:ZOOM
CATEGORIES:Meeting
END:VEVENT
END:VCALENDAR